BEGIN:VCALENDAR
VERSION:2.0
PRODID:-//Radha Krishna Mandir &amp; Cultural Centre, Cambridge Ontario - ECPv6.15.20//NONSGML v1.0//EN
CALSCALE:GREGORIAN
METHOD:PUBLISH
X-WR-CALNAME:Radha Krishna Mandir &amp; Cultural Centre, Cambridge Ontario
X-ORIGINAL-URL:https://radhakrishnamandir.ca
X-WR-CALDESC:Events for Radha Krishna Mandir &amp; Cultural Centre, Cambridge Ontario
REFRESH-INTERVAL;VALUE=DURATION:PT1H
X-Robots-Tag:noindex
X-PUBLISHED-TTL:PT1H
BEGIN:VTIMEZONE
TZID:America/Toronto
BEGIN:DAYLIGHT
TZOFFSETFROM:-0500
TZOFFSETTO:-0400
TZNAME:EDT
DTSTART:20230312T070000
END:DAYLIGHT
BEGIN:STANDARD
TZOFFSETFROM:-0400
TZOFFSETTO:-0500
TZNAME:EST
DTSTART:20231105T060000
END:STANDARD
BEGIN:DAYLIGHT
TZOFFSETFROM:-0500
TZOFFSETTO:-0400
TZNAME:EDT
DTSTART:20240310T070000
END:DAYLIGHT
BEGIN:STANDARD
TZOFFSETFROM:-0400
TZOFFSETTO:-0500
TZNAME:EST
DTSTART:20241103T060000
END:STANDARD
BEGIN:DAYLIGHT
TZOFFSETFROM:-0500
TZOFFSETTO:-0400
TZNAME:EDT
DTSTART:20250309T070000
END:DAYLIGHT
BEGIN:STANDARD
TZOFFSETFROM:-0400
TZOFFSETTO:-0500
TZNAME:EST
DTSTART:20251102T060000
END:STANDARD
END:VTIMEZONE
BEGIN:VEVENT
DTSTART;TZID=America/Toronto:20241006T100000
DTEND;TZID=America/Toronto:20241006T230000
DTSTAMP:20260421T191129
CREATED:20240731T190136Z
LAST-MODIFIED:20241010T125918Z
UID:10002349-1728208800-1728255600@radhakrishnamandir.ca
SUMMARY:Bal Vihar (by Registration only)
DESCRIPTION: 
URL:https://radhakrishnamandir.ca/event/bal-vihar-by-registration-only-2/2024-10-06/
LOCATION:Radha Krishna Mandir & Cultural Centre\, 85 Boxwood Drive\, Cambridge\, Ontario\, N3E 0A5\, Canada
CATEGORIES:Community Outreach,Culture,Events at Mandir
ATTACH;FMTTYPE=image/png:https://radhakrishnamandir.ca/wp-content/uploads/2024/01/Bal_vihar_2024.png
ORGANIZER;CN="Bhawna Lakhanpal":MAILTO:balvihar@radhakrishnamandir.ca
END:VEVENT
BEGIN:VEVENT
DTSTART;TZID=America/Toronto:20241012T180000
DTEND;TZID=America/Toronto:20241012T235900
DTSTAMP:20260421T191129
CREATED:20240905T031616Z
LAST-MODIFIED:20240921T184038Z
UID:10002420-1728756000-1728777540@radhakrishnamandir.ca
SUMMARY:Sharad Purnima Garba Night
DESCRIPTION:Get ready to be mesmerized by the tunes of Jay Ashar\, Master of Sound\, along with his live Band @Rhy-Dhunn. Tickets are $25 including one time dinner and additional snacks available for purchase by Baldev Paan of Cambridge\,under NEW Management (Hiral Bhatt). Paper copy tickets are available Baldev Paan\, Radha Krishna Mandir and Soap Bin Cleaner in CambridgeWe will have Prizes for best dance and best dressed in 3 categories; children\, women and men sponsored by BaljinderHundal from Century 21 and Inderjit Sarpal from CIBC Mortgage SpecialistDon’t forget to bring your Dandiyas\, if you don’t have\, you will be able to purchase a pair at the Venue. \nSpecial thanks to all our Proud Sponsors for their Support and Contribution \nSanjay Patel – Healthwise PharmacyAmit Airi – Remax TeamAnu/Bitu Ganger – Ginos PizzaHiralKumar Bhatt – Baldev Paan of CambridgeKamal Khanna and Pavan Sharma – KP Reality ProsArpan Pandit – Rajwadi-Pure Veg Gujarati RestaurantHimja Upadhyay – Hilos PhysiotherapyVishal Sharma – Chest Legal Professional CorporationPurvi Naik – Billyard Insurance GroupNagappa and Laxmi Yaligar – Intell AcademySarpreet Singh – Homelife / Miracle Realty Ltd.Ity Dogra – TD Canada – Mobile Mortgage SpecialistPradeep Bhandari – Keybase FinancialTejas Patel – Super India FoodmarketInderjit Sarpal – CIBC mortgagesShailendrasinh Parmar – PrimericaKen Patel – Soap Bin Cleaner and Coin LaundryBaljinder Hundal – Century 21Monika Sharma – Homelife / Miracle Realty Ltd.Bipan Sharma – Driving Instructor 
URL:https://radhakrishnamandir.ca/event/sharad-purnima-gabra-night/
LOCATION:Duncan McIntosh Arena\, 200 Christopher Dr\,\, Cambridge\, Ontario\, Canada
CATEGORIES:Community Outreach,Culture,Fundraising,Special Events
ATTACH;FMTTYPE=image/jpeg:https://radhakrishnamandir.ca/wp-content/uploads/2024/09/WhatsApp-Image-2024-09-18-at-09.04.22_7d5605d3.jpg
END:VEVENT
END:VCALENDAR