BEGIN:VCALENDAR
VERSION:2.0
PRODID:-//Radha Krishna Mandir &amp; Cultural Centre, Cambridge Ontario - ECPv6.15.20//NONSGML v1.0//EN
CALSCALE:GREGORIAN
METHOD:PUBLISH
X-WR-CALNAME:Radha Krishna Mandir &amp; Cultural Centre, Cambridge Ontario
X-ORIGINAL-URL:https://radhakrishnamandir.ca
X-WR-CALDESC:Events for Radha Krishna Mandir &amp; Cultural Centre, Cambridge Ontario
REFRESH-INTERVAL;VALUE=DURATION:PT1H
X-Robots-Tag:noindex
X-PUBLISHED-TTL:PT1H
BEGIN:VTIMEZONE
TZID:America/Toronto
BEGIN:DAYLIGHT
TZOFFSETFROM:-0500
TZOFFSETTO:-0400
TZNAME:EDT
DTSTART:20240310T070000
END:DAYLIGHT
BEGIN:STANDARD
TZOFFSETFROM:-0400
TZOFFSETTO:-0500
TZNAME:EST
DTSTART:20241103T060000
END:STANDARD
BEGIN:DAYLIGHT
TZOFFSETFROM:-0500
TZOFFSETTO:-0400
TZNAME:EDT
DTSTART:20250309T070000
END:DAYLIGHT
BEGIN:STANDARD
TZOFFSETFROM:-0400
TZOFFSETTO:-0500
TZNAME:EST
DTSTART:20251102T060000
END:STANDARD
BEGIN:DAYLIGHT
TZOFFSETFROM:-0500
TZOFFSETTO:-0400
TZNAME:EDT
DTSTART:20260308T070000
END:DAYLIGHT
BEGIN:STANDARD
TZOFFSETFROM:-0400
TZOFFSETTO:-0500
TZNAME:EST
DTSTART:20261101T060000
END:STANDARD
BEGIN:DAYLIGHT
TZOFFSETFROM:-0500
TZOFFSETTO:-0400
TZNAME:EDT
DTSTART:20270314T070000
END:DAYLIGHT
BEGIN:STANDARD
TZOFFSETFROM:-0400
TZOFFSETTO:-0500
TZNAME:EST
DTSTART:20271107T060000
END:STANDARD
END:VTIMEZONE
BEGIN:VEVENT
DTSTART;TZID=America/Toronto:20260218T180000
DTEND;TZID=America/Toronto:20260218T200000
DTSTAMP:20260422T205532
CREATED:20260302T035604Z
LAST-MODIFIED:20260405T211408Z
UID:10002761-1771437600-1771444800@radhakrishnamandir.ca
SUMMARY:Shri Krishna Puja & Kirtan
DESCRIPTION:
URL:https://radhakrishnamandir.ca/event/shri-krishna-puja-2-2-3/2026-02-18/
LOCATION:Radha Krishna Mandir & Cultural Centre\, 85 Boxwood Drive\, Cambridge\, Ontario\, N3E 0A5\, Canada
CATEGORIES:Culture,Events at Mandir
ATTACH;FMTTYPE=image/jpeg:https://radhakrishnamandir.ca/wp-content/uploads/2026/03/Shri-Krishna-Puja.jpeg
END:VEVENT
BEGIN:VEVENT
DTSTART;TZID=America/Toronto:20260215T060000
DTEND;TZID=America/Toronto:20260216T053000
DTSTAMP:20260422T205532
CREATED:20241025T212422Z
LAST-MODIFIED:20260214T152940Z
UID:10002429-1771135200-1771219800@radhakrishnamandir.ca
SUMMARY:Maha Shivratri Celebrations (Note New Location!)
DESCRIPTION:
URL:https://radhakrishnamandir.ca/event/maha-shivrati/
LOCATION:Radha Krishna Mandir & Cultural Centre\, 85 Boxwood Drive\, Cambridge\, Ontario\, N3E 0A5\, Canada
CATEGORIES:Culture,Events at Mandir,Special Events
ATTACH;FMTTYPE=image/png:https://radhakrishnamandir.ca/wp-content/uploads/2024/10/Draft_Maha-Shivratri-2026.png
ORGANIZER;CN="Dwarka Persaud":MAILTO:president@radhakrishnamandir.ca
END:VEVENT
BEGIN:VEVENT
DTSTART;TZID=America/Toronto:20260211T180000
DTEND;TZID=America/Toronto:20260211T200000
DTSTAMP:20260422T205532
CREATED:20251025T161138Z
LAST-MODIFIED:20260302T040603Z
UID:10002759-1770832800-1770840000@radhakrishnamandir.ca
SUMMARY:Shri Krishna Puja & Kirtan
DESCRIPTION:
URL:https://radhakrishnamandir.ca/event/shri-krishna-puja-2-2/2026-02-11/
LOCATION:Radha Krishna Mandir & Cultural Centre\, 85 Boxwood Drive\, Cambridge\, Ontario\, N3E 0A5\, Canada
CATEGORIES:Culture,Events at Mandir,Special Events
ATTACH;FMTTYPE=image/png:https://radhakrishnamandir.ca/wp-content/uploads/2025/10/Weekly_Lord_Krishna_Puja_-2025-5.png
END:VEVENT
BEGIN:VEVENT
DTSTART;TZID=America/Toronto:20260210T180000
DTEND;TZID=America/Toronto:20260210T200000
DTSTAMP:20260422T205532
CREATED:20260113T013246Z
LAST-MODIFIED:20260113T024916Z
UID:10003879-1770746400-1770753600@radhakrishnamandir.ca
SUMMARY:Hanuman ji Chalisa Satsang
DESCRIPTION:
URL:https://radhakrishnamandir.ca/event/hanuman-chalisa-4-2/2026-02-10/
LOCATION:Radha Krishna Mandir & Cultural Centre\, 85 Boxwood Drive\, Cambridge\, Ontario\, N3E 0A5\, Canada
CATEGORIES:Events at Mandir,Special Events
ATTACH;FMTTYPE=image/jpeg:https://radhakrishnamandir.ca/wp-content/uploads/2025/08/WhatsApp-Image-2025-11-20-at-6.17.17-PM.jpeg
ORGANIZER;CN="Panditji":MAILTO:rkmcc@radhakrishnamandir.ca
END:VEVENT
BEGIN:VEVENT
DTSTART;TZID=America/Toronto:20260208T170000
DTEND;TZID=America/Toronto:20260208T190000
DTSTAMP:20260422T205532
CREATED:20260201T215710Z
LAST-MODIFIED:20260327T124246Z
UID:10003891-1770570000-1770577200@radhakrishnamandir.ca
SUMMARY:Satsang
DESCRIPTION:
URL:https://radhakrishnamandir.ca/event/satsang/
LOCATION:Radha Krishna Mandir & Cultural Centre\, 85 Boxwood Drive\, Cambridge\, Ontario\, N3E 0A5\, Canada
CATEGORIES:Events at Mandir
ATTACH;FMTTYPE=image/jpeg:https://radhakrishnamandir.ca/wp-content/uploads/2026/02/Satsang.jpeg
END:VEVENT
BEGIN:VEVENT
DTSTART;TZID=America/Toronto:20260208T100000
DTEND;TZID=America/Toronto:20260208T120000
DTSTAMP:20260422T205532
CREATED:20251003T113043Z
LAST-MODIFIED:20260221T203625Z
UID:10003742-1770544800-1770552000@radhakrishnamandir.ca
SUMMARY:Sunday Service
DESCRIPTION:
URL:https://radhakrishnamandir.ca/event/sunday-service-6/2026-02-08/
LOCATION:Radha Krishna Mandir & Cultural Centre\, 85 Boxwood Drive\, Cambridge\, Ontario\, N3E 0A5\, Canada
CATEGORIES:Events at Mandir,Special Events
ATTACH;FMTTYPE=image/png:https://radhakrishnamandir.ca/wp-content/uploads/2025/10/Sunday_Service_2026.png
ORGANIZER;CN="Panditji":MAILTO:info@radhakrishnamandir.ca
END:VEVENT
BEGIN:VEVENT
DTSTART;TZID=America/Toronto:20260204T180000
DTEND;TZID=America/Toronto:20260204T200000
DTSTAMP:20260422T205532
CREATED:20251025T161138Z
LAST-MODIFIED:20260302T040603Z
UID:10002758-1770228000-1770235200@radhakrishnamandir.ca
SUMMARY:Shri Krishna Puja & Kirtan
DESCRIPTION:
URL:https://radhakrishnamandir.ca/event/shri-krishna-puja-2-2/2026-02-04/
LOCATION:Radha Krishna Mandir & Cultural Centre\, 85 Boxwood Drive\, Cambridge\, Ontario\, N3E 0A5\, Canada
CATEGORIES:Culture,Events at Mandir,Special Events
ATTACH;FMTTYPE=image/png:https://radhakrishnamandir.ca/wp-content/uploads/2025/10/Weekly_Lord_Krishna_Puja_-2025-5.png
END:VEVENT
BEGIN:VEVENT
DTSTART;TZID=America/Toronto:20260203T180000
DTEND;TZID=America/Toronto:20260203T200000
DTSTAMP:20260422T205532
CREATED:20260113T013246Z
LAST-MODIFIED:20260113T024916Z
UID:10003878-1770141600-1770148800@radhakrishnamandir.ca
SUMMARY:Hanuman ji Chalisa Satsang
DESCRIPTION:
URL:https://radhakrishnamandir.ca/event/hanuman-chalisa-4-2/2026-02-03/
LOCATION:Radha Krishna Mandir & Cultural Centre\, 85 Boxwood Drive\, Cambridge\, Ontario\, N3E 0A5\, Canada
CATEGORIES:Events at Mandir,Special Events
ATTACH;FMTTYPE=image/jpeg:https://radhakrishnamandir.ca/wp-content/uploads/2025/08/WhatsApp-Image-2025-11-20-at-6.17.17-PM.jpeg
ORGANIZER;CN="Panditji":MAILTO:rkmcc@radhakrishnamandir.ca
END:VEVENT
BEGIN:VEVENT
DTSTART;TZID=America/Toronto:20260201T100000
DTEND;TZID=America/Toronto:20260201T120000
DTSTAMP:20260422T205532
CREATED:20251003T113043Z
LAST-MODIFIED:20260221T203625Z
UID:10001792-1769940000-1769947200@radhakrishnamandir.ca
SUMMARY:Sunday Service
DESCRIPTION:
URL:https://radhakrishnamandir.ca/event/sunday-service-6/2026-02-01/
LOCATION:Radha Krishna Mandir & Cultural Centre\, 85 Boxwood Drive\, Cambridge\, Ontario\, N3E 0A5\, Canada
CATEGORIES:Events at Mandir,Special Events
ATTACH;FMTTYPE=image/png:https://radhakrishnamandir.ca/wp-content/uploads/2025/10/Sunday_Service_2026.png
ORGANIZER;CN="Panditji":MAILTO:info@radhakrishnamandir.ca
END:VEVENT
BEGIN:VEVENT
DTSTART;TZID=America/Toronto:20260128T180000
DTEND;TZID=America/Toronto:20260128T200000
DTSTAMP:20260422T205532
CREATED:20251025T161138Z
LAST-MODIFIED:20260302T040603Z
UID:10002757-1769623200-1769630400@radhakrishnamandir.ca
SUMMARY:Shri Krishna Puja & Kirtan
DESCRIPTION:
URL:https://radhakrishnamandir.ca/event/shri-krishna-puja-2-2/2026-01-28/
LOCATION:Radha Krishna Mandir & Cultural Centre\, 85 Boxwood Drive\, Cambridge\, Ontario\, N3E 0A5\, Canada
CATEGORIES:Culture,Events at Mandir,Special Events
ATTACH;FMTTYPE=image/png:https://radhakrishnamandir.ca/wp-content/uploads/2025/10/Weekly_Lord_Krishna_Puja_-2025-5.png
END:VEVENT
BEGIN:VEVENT
DTSTART;TZID=America/Toronto:20260127T180000
DTEND;TZID=America/Toronto:20260127T200000
DTSTAMP:20260422T205532
CREATED:20260113T013246Z
LAST-MODIFIED:20260113T024916Z
UID:10003877-1769536800-1769544000@radhakrishnamandir.ca
SUMMARY:Hanuman ji Chalisa Satsang
DESCRIPTION:
URL:https://radhakrishnamandir.ca/event/hanuman-chalisa-4-2/2026-01-27/
LOCATION:Radha Krishna Mandir & Cultural Centre\, 85 Boxwood Drive\, Cambridge\, Ontario\, N3E 0A5\, Canada
CATEGORIES:Events at Mandir,Special Events
ATTACH;FMTTYPE=image/jpeg:https://radhakrishnamandir.ca/wp-content/uploads/2025/08/WhatsApp-Image-2025-11-20-at-6.17.17-PM.jpeg
ORGANIZER;CN="Panditji":MAILTO:rkmcc@radhakrishnamandir.ca
END:VEVENT
BEGIN:VEVENT
DTSTART;TZID=America/Toronto:20260125T100000
DTEND;TZID=America/Toronto:20260125T120000
DTSTAMP:20260422T205532
CREATED:20251003T113043Z
LAST-MODIFIED:20260221T203625Z
UID:10001791-1769335200-1769342400@radhakrishnamandir.ca
SUMMARY:Sunday Service
DESCRIPTION:
URL:https://radhakrishnamandir.ca/event/sunday-service-6/2026-01-25/
LOCATION:Radha Krishna Mandir & Cultural Centre\, 85 Boxwood Drive\, Cambridge\, Ontario\, N3E 0A5\, Canada
CATEGORIES:Events at Mandir,Special Events
ATTACH;FMTTYPE=image/png:https://radhakrishnamandir.ca/wp-content/uploads/2025/10/Sunday_Service_2026.png
ORGANIZER;CN="Panditji":MAILTO:info@radhakrishnamandir.ca
END:VEVENT
BEGIN:VEVENT
DTSTART;TZID=America/Toronto:20260121T180000
DTEND;TZID=America/Toronto:20260121T200000
DTSTAMP:20260422T205532
CREATED:20251025T161138Z
LAST-MODIFIED:20260302T040603Z
UID:10002756-1769018400-1769025600@radhakrishnamandir.ca
SUMMARY:Shri Krishna Puja & Kirtan
DESCRIPTION:
URL:https://radhakrishnamandir.ca/event/shri-krishna-puja-2-2/2026-01-21/
LOCATION:Radha Krishna Mandir & Cultural Centre\, 85 Boxwood Drive\, Cambridge\, Ontario\, N3E 0A5\, Canada
CATEGORIES:Culture,Events at Mandir,Special Events
ATTACH;FMTTYPE=image/png:https://radhakrishnamandir.ca/wp-content/uploads/2025/10/Weekly_Lord_Krishna_Puja_-2025-5.png
END:VEVENT
BEGIN:VEVENT
DTSTART;TZID=America/Toronto:20260120T180000
DTEND;TZID=America/Toronto:20260120T200000
DTSTAMP:20260422T205532
CREATED:20260113T013246Z
LAST-MODIFIED:20260113T024916Z
UID:10003876-1768932000-1768939200@radhakrishnamandir.ca
SUMMARY:Hanuman ji Chalisa Satsang
DESCRIPTION:
URL:https://radhakrishnamandir.ca/event/hanuman-chalisa-4-2/2026-01-20/
LOCATION:Radha Krishna Mandir & Cultural Centre\, 85 Boxwood Drive\, Cambridge\, Ontario\, N3E 0A5\, Canada
CATEGORIES:Events at Mandir,Special Events
ATTACH;FMTTYPE=image/jpeg:https://radhakrishnamandir.ca/wp-content/uploads/2025/08/WhatsApp-Image-2025-11-20-at-6.17.17-PM.jpeg
ORGANIZER;CN="Panditji":MAILTO:rkmcc@radhakrishnamandir.ca
END:VEVENT
BEGIN:VEVENT
DTSTART;TZID=America/Toronto:20260118T100000
DTEND;TZID=America/Toronto:20260118T120000
DTSTAMP:20260422T205532
CREATED:20251003T113043Z
LAST-MODIFIED:20260221T203625Z
UID:10001790-1768730400-1768737600@radhakrishnamandir.ca
SUMMARY:Sunday Service
DESCRIPTION:
URL:https://radhakrishnamandir.ca/event/sunday-service-6/2026-01-18/
LOCATION:Radha Krishna Mandir & Cultural Centre\, 85 Boxwood Drive\, Cambridge\, Ontario\, N3E 0A5\, Canada
CATEGORIES:Events at Mandir,Special Events
ATTACH;FMTTYPE=image/png:https://radhakrishnamandir.ca/wp-content/uploads/2025/10/Sunday_Service_2026.png
ORGANIZER;CN="Panditji":MAILTO:info@radhakrishnamandir.ca
END:VEVENT
BEGIN:VEVENT
DTSTART;TZID=America/Toronto:20260114T180000
DTEND;TZID=America/Toronto:20260114T200000
DTSTAMP:20260422T205532
CREATED:20251025T161138Z
LAST-MODIFIED:20260302T040603Z
UID:10002755-1768413600-1768420800@radhakrishnamandir.ca
SUMMARY:Shri Krishna Puja & Kirtan
DESCRIPTION:
URL:https://radhakrishnamandir.ca/event/shri-krishna-puja-2-2/2026-01-14/
LOCATION:Radha Krishna Mandir & Cultural Centre\, 85 Boxwood Drive\, Cambridge\, Ontario\, N3E 0A5\, Canada
CATEGORIES:Culture,Events at Mandir,Special Events
ATTACH;FMTTYPE=image/png:https://radhakrishnamandir.ca/wp-content/uploads/2025/10/Weekly_Lord_Krishna_Puja_-2025-5.png
END:VEVENT
BEGIN:VEVENT
DTSTART;TZID=America/Toronto:20260113T180000
DTEND;TZID=America/Toronto:20260113T200000
DTSTAMP:20260422T205532
CREATED:20260113T025513Z
LAST-MODIFIED:20260113T025513Z
UID:10003890-1768327200-1768334400@radhakrishnamandir.ca
SUMMARY:Lohri/Pongal
DESCRIPTION:
URL:https://radhakrishnamandir.ca/event/lohri-pongal/
LOCATION:Ontario
CATEGORIES:Events at Mandir,Special Events
ATTACH;FMTTYPE=image/jpeg:https://radhakrishnamandir.ca/wp-content/uploads/2026/01/lohri.jpg
ORGANIZER;CN="Panditji":MAILTO:rkmcc@radhakrishnamandir.ca
END:VEVENT
BEGIN:VEVENT
DTSTART;TZID=America/Toronto:20260111T170000
DTEND;TZID=America/Toronto:20260111T190000
DTSTAMP:20260422T205532
CREATED:20251029T172407Z
LAST-MODIFIED:20251029T172408Z
UID:10003360-1768150800-1768158000@radhakrishnamandir.ca
SUMMARY:Satsangh
DESCRIPTION:
URL:https://radhakrishnamandir.ca/event/monthly-satsangh-2-2-2/2026-01-11/
LOCATION:Radha Krishna Mandir & Cultural Centre\, 85 Boxwood Drive\, Cambridge\, Ontario\, N3E 0A5\, Canada
CATEGORIES:Culture,Events at Mandir,Special Events
ATTACH;FMTTYPE=image/png:https://radhakrishnamandir.ca/wp-content/uploads/2025/05/Monthly_-Sunday_Puja_-2025-1.png
END:VEVENT
BEGIN:VEVENT
DTSTART;TZID=America/Toronto:20260111T100000
DTEND;TZID=America/Toronto:20260111T120000
DTSTAMP:20260422T205532
CREATED:20251003T113043Z
LAST-MODIFIED:20260221T203625Z
UID:10003741-1768125600-1768132800@radhakrishnamandir.ca
SUMMARY:Sunday Service
DESCRIPTION:
URL:https://radhakrishnamandir.ca/event/sunday-service-6/2026-01-11/
LOCATION:Radha Krishna Mandir & Cultural Centre\, 85 Boxwood Drive\, Cambridge\, Ontario\, N3E 0A5\, Canada
CATEGORIES:Events at Mandir,Special Events
ATTACH;FMTTYPE=image/png:https://radhakrishnamandir.ca/wp-content/uploads/2025/10/Sunday_Service_2026.png
ORGANIZER;CN="Panditji":MAILTO:info@radhakrishnamandir.ca
END:VEVENT
BEGIN:VEVENT
DTSTART;TZID=America/Toronto:20260107T180000
DTEND;TZID=America/Toronto:20260107T200000
DTSTAMP:20260422T205532
CREATED:20251025T161138Z
LAST-MODIFIED:20260302T040603Z
UID:10002754-1767808800-1767816000@radhakrishnamandir.ca
SUMMARY:Shri Krishna Puja & Kirtan
DESCRIPTION:
URL:https://radhakrishnamandir.ca/event/shri-krishna-puja-2-2/2026-01-07/
LOCATION:Radha Krishna Mandir & Cultural Centre\, 85 Boxwood Drive\, Cambridge\, Ontario\, N3E 0A5\, Canada
CATEGORIES:Culture,Events at Mandir,Special Events
ATTACH;FMTTYPE=image/png:https://radhakrishnamandir.ca/wp-content/uploads/2025/10/Weekly_Lord_Krishna_Puja_-2025-5.png
END:VEVENT
BEGIN:VEVENT
DTSTART;TZID=America/Toronto:20260106T180000
DTEND;TZID=America/Toronto:20260106T200000
DTSTAMP:20260422T205532
CREATED:20260113T013246Z
LAST-MODIFIED:20260113T024916Z
UID:10003874-1767722400-1767729600@radhakrishnamandir.ca
SUMMARY:Hanuman ji Chalisa Satsang
DESCRIPTION:
URL:https://radhakrishnamandir.ca/event/hanuman-chalisa-4-2/2026-01-06/
LOCATION:Radha Krishna Mandir & Cultural Centre\, 85 Boxwood Drive\, Cambridge\, Ontario\, N3E 0A5\, Canada
CATEGORIES:Events at Mandir,Special Events
ATTACH;FMTTYPE=image/jpeg:https://radhakrishnamandir.ca/wp-content/uploads/2025/08/WhatsApp-Image-2025-11-20-at-6.17.17-PM.jpeg
ORGANIZER;CN="Panditji":MAILTO:rkmcc@radhakrishnamandir.ca
END:VEVENT
BEGIN:VEVENT
DTSTART;TZID=America/Toronto:20260104T100000
DTEND;TZID=America/Toronto:20260104T120000
DTSTAMP:20260422T205532
CREATED:20251003T113043Z
LAST-MODIFIED:20260221T203625Z
UID:10001788-1767520800-1767528000@radhakrishnamandir.ca
SUMMARY:Sunday Service
DESCRIPTION:
URL:https://radhakrishnamandir.ca/event/sunday-service-6/2026-01-04/
LOCATION:Radha Krishna Mandir & Cultural Centre\, 85 Boxwood Drive\, Cambridge\, Ontario\, N3E 0A5\, Canada
CATEGORIES:Events at Mandir,Special Events
ATTACH;FMTTYPE=image/png:https://radhakrishnamandir.ca/wp-content/uploads/2025/10/Sunday_Service_2026.png
ORGANIZER;CN="Panditji":MAILTO:info@radhakrishnamandir.ca
END:VEVENT
BEGIN:VEVENT
DTSTART;TZID=America/Toronto:20260101T170000
DTEND;TZID=America/Toronto:20260101T190000
DTSTAMP:20260422T205532
CREATED:20251202T012754Z
LAST-MODIFIED:20251202T012837Z
UID:10003864-1767286800-1767294000@radhakrishnamandir.ca
SUMMARY:New Year's Day Satsang
DESCRIPTION:
URL:https://radhakrishnamandir.ca/event/new-years-day-satsang/
LOCATION:Ontario
ORGANIZER;CN="Panditji":MAILTO:rkmcc@radhakrishnamandir.ca
END:VEVENT
BEGIN:VEVENT
DTSTART;TZID=America/Toronto:20251231T180000
DTEND;TZID=America/Toronto:20251231T200000
DTSTAMP:20260422T205532
CREATED:20251025T161138Z
LAST-MODIFIED:20260302T040603Z
UID:10002753-1767204000-1767211200@radhakrishnamandir.ca
SUMMARY:Shri Krishna Puja & Kirtan
DESCRIPTION:
URL:https://radhakrishnamandir.ca/event/shri-krishna-puja-2-2/2025-12-31/
LOCATION:Radha Krishna Mandir & Cultural Centre\, 85 Boxwood Drive\, Cambridge\, Ontario\, N3E 0A5\, Canada
CATEGORIES:Culture,Events at Mandir,Special Events
ATTACH;FMTTYPE=image/png:https://radhakrishnamandir.ca/wp-content/uploads/2025/10/Weekly_Lord_Krishna_Puja_-2025-5.png
END:VEVENT
BEGIN:VEVENT
DTSTART;TZID=America/Toronto:20251230T180000
DTEND;TZID=America/Toronto:20251230T200000
DTSTAMP:20260422T205532
CREATED:20260113T013246Z
LAST-MODIFIED:20260113T024916Z
UID:10003873-1767117600-1767124800@radhakrishnamandir.ca
SUMMARY:Hanuman ji Chalisa Satsang
DESCRIPTION:
URL:https://radhakrishnamandir.ca/event/hanuman-chalisa-4-2/2025-12-30/
LOCATION:Radha Krishna Mandir & Cultural Centre\, 85 Boxwood Drive\, Cambridge\, Ontario\, N3E 0A5\, Canada
CATEGORIES:Events at Mandir,Special Events
ATTACH;FMTTYPE=image/jpeg:https://radhakrishnamandir.ca/wp-content/uploads/2025/08/WhatsApp-Image-2025-11-20-at-6.17.17-PM.jpeg
ORGANIZER;CN="Panditji":MAILTO:rkmcc@radhakrishnamandir.ca
END:VEVENT
BEGIN:VEVENT
DTSTART;TZID=America/Toronto:20251228T100000
DTEND;TZID=America/Toronto:20251228T120000
DTSTAMP:20260422T205532
CREATED:20251003T113043Z
LAST-MODIFIED:20260221T203625Z
UID:10001787-1766916000-1766923200@radhakrishnamandir.ca
SUMMARY:Sunday Service
DESCRIPTION:
URL:https://radhakrishnamandir.ca/event/sunday-service-6/2025-12-28/
LOCATION:Radha Krishna Mandir & Cultural Centre\, 85 Boxwood Drive\, Cambridge\, Ontario\, N3E 0A5\, Canada
CATEGORIES:Events at Mandir,Special Events
ATTACH;FMTTYPE=image/png:https://radhakrishnamandir.ca/wp-content/uploads/2025/10/Sunday_Service_2026.png
ORGANIZER;CN="Panditji":MAILTO:info@radhakrishnamandir.ca
END:VEVENT
BEGIN:VEVENT
DTSTART;TZID=America/Toronto:20251224T180000
DTEND;TZID=America/Toronto:20251224T200000
DTSTAMP:20260422T205532
CREATED:20251025T161138Z
LAST-MODIFIED:20260302T040603Z
UID:10002752-1766599200-1766606400@radhakrishnamandir.ca
SUMMARY:Shri Krishna Puja & Kirtan
DESCRIPTION:
URL:https://radhakrishnamandir.ca/event/shri-krishna-puja-2-2/2025-12-24/
LOCATION:Radha Krishna Mandir & Cultural Centre\, 85 Boxwood Drive\, Cambridge\, Ontario\, N3E 0A5\, Canada
CATEGORIES:Culture,Events at Mandir,Special Events
ATTACH;FMTTYPE=image/png:https://radhakrishnamandir.ca/wp-content/uploads/2025/10/Weekly_Lord_Krishna_Puja_-2025-5.png
END:VEVENT
BEGIN:VEVENT
DTSTART;TZID=America/Toronto:20251223T180000
DTEND;TZID=America/Toronto:20251223T200000
DTSTAMP:20260422T205532
CREATED:20260113T013246Z
LAST-MODIFIED:20260113T024916Z
UID:10003872-1766512800-1766520000@radhakrishnamandir.ca
SUMMARY:Hanuman ji Chalisa Satsang
DESCRIPTION:
URL:https://radhakrishnamandir.ca/event/hanuman-chalisa-4-2/2025-12-23/
LOCATION:Radha Krishna Mandir & Cultural Centre\, 85 Boxwood Drive\, Cambridge\, Ontario\, N3E 0A5\, Canada
CATEGORIES:Events at Mandir,Special Events
ATTACH;FMTTYPE=image/jpeg:https://radhakrishnamandir.ca/wp-content/uploads/2025/08/WhatsApp-Image-2025-11-20-at-6.17.17-PM.jpeg
ORGANIZER;CN="Panditji":MAILTO:rkmcc@radhakrishnamandir.ca
END:VEVENT
BEGIN:VEVENT
DTSTART;TZID=America/Toronto:20251223T180000
DTEND;TZID=America/Toronto:20251223T200000
DTSTAMP:20260422T205532
CREATED:20251124T045413Z
LAST-MODIFIED:20260113T012707Z
UID:10003850-1766512800-1766520000@radhakrishnamandir.ca
SUMMARY:Hanuman ji Chalisa Satsang
DESCRIPTION:
URL:https://radhakrishnamandir.ca/event/hanuman-chalisa-4/2025-12-23/
LOCATION:Radha Krishna Mandir & Cultural Centre\, 85 Boxwood Drive\, Cambridge\, Ontario\, N3E 0A5\, Canada
CATEGORIES:Events at Mandir,Special Events
ATTACH;FMTTYPE=image/jpeg:https://radhakrishnamandir.ca/wp-content/uploads/2025/08/WhatsApp-Image-2025-11-20-at-6.17.17-PM.jpeg
ORGANIZER;CN="Panditji":MAILTO:rkmcc@radhakrishnamandir.ca
END:VEVENT
BEGIN:VEVENT
DTSTART;TZID=America/Toronto:20251221T100000
DTEND;TZID=America/Toronto:20251221T120000
DTSTAMP:20260422T205532
CREATED:20251003T113043Z
LAST-MODIFIED:20260221T203625Z
UID:10001786-1766311200-1766318400@radhakrishnamandir.ca
SUMMARY:Sunday Service
DESCRIPTION:
URL:https://radhakrishnamandir.ca/event/sunday-service-6/2025-12-21/
LOCATION:Radha Krishna Mandir & Cultural Centre\, 85 Boxwood Drive\, Cambridge\, Ontario\, N3E 0A5\, Canada
CATEGORIES:Events at Mandir,Special Events
ATTACH;FMTTYPE=image/png:https://radhakrishnamandir.ca/wp-content/uploads/2025/10/Sunday_Service_2026.png
ORGANIZER;CN="Panditji":MAILTO:info@radhakrishnamandir.ca
END:VEVENT
END:VCALENDAR