BEGIN:VCALENDAR
VERSION:2.0
PRODID:-//Radha Krishna Mandir &amp; Cultural Centre, Cambridge Ontario - ECPv6.15.20//NONSGML v1.0//EN
CALSCALE:GREGORIAN
METHOD:PUBLISH
X-ORIGINAL-URL:https://radhakrishnamandir.ca
X-WR-CALDESC:Events for Radha Krishna Mandir &amp; Cultural Centre, Cambridge Ontario
REFRESH-INTERVAL;VALUE=DURATION:PT1H
X-Robots-Tag:noindex
X-PUBLISHED-TTL:PT1H
BEGIN:VTIMEZONE
TZID:America/Toronto
BEGIN:DAYLIGHT
TZOFFSETFROM:-0500
TZOFFSETTO:-0400
TZNAME:EDT
DTSTART:20240310T070000
END:DAYLIGHT
BEGIN:STANDARD
TZOFFSETFROM:-0400
TZOFFSETTO:-0500
TZNAME:EST
DTSTART:20241103T060000
END:STANDARD
BEGIN:DAYLIGHT
TZOFFSETFROM:-0500
TZOFFSETTO:-0400
TZNAME:EDT
DTSTART:20250309T070000
END:DAYLIGHT
BEGIN:STANDARD
TZOFFSETFROM:-0400
TZOFFSETTO:-0500
TZNAME:EST
DTSTART:20251102T060000
END:STANDARD
BEGIN:DAYLIGHT
TZOFFSETFROM:-0500
TZOFFSETTO:-0400
TZNAME:EDT
DTSTART:20260308T070000
END:DAYLIGHT
BEGIN:STANDARD
TZOFFSETFROM:-0400
TZOFFSETTO:-0500
TZNAME:EST
DTSTART:20261101T060000
END:STANDARD
END:VTIMEZONE
BEGIN:VEVENT
DTSTART;TZID=America/Toronto:20250608T100000
DTEND;TZID=America/Toronto:20250608T120000
DTSTAMP:20260423T063903
CREATED:20250403T195634Z
LAST-MODIFIED:20250403T195808Z
UID:10003018-1749376800-1749384000@radhakrishnamandir.ca
SUMMARY:Sunday Upasana with Pt. Avinash Sharma
DESCRIPTION:
URL:https://radhakrishnamandir.ca/event/sunday-upasana-6-2/2025-06-08/
LOCATION:Radha Krishna Mandir & Cultural Centre\, 85 Boxwood Drive\, Cambridge\, Ontario\, N3E 0A5\, Canada
CATEGORIES:Events at Mandir
ATTACH;FMTTYPE=image/jpeg:https://radhakrishnamandir.ca/wp-content/uploads/2024/05/Upasana.jpg
ORGANIZER;CN="Dwarka Persaud":MAILTO:president@radhakrishnamandir.ca
END:VEVENT
BEGIN:VEVENT
DTSTART;TZID=America/Toronto:20250608T100000
DTEND;TZID=America/Toronto:20250608T230000
DTSTAMP:20260423T063903
CREATED:20240731T190136Z
LAST-MODIFIED:20241010T125918Z
UID:10002384-1749376800-1749423600@radhakrishnamandir.ca
SUMMARY:Bal Vihar (by Registration only)
DESCRIPTION:
URL:https://radhakrishnamandir.ca/event/bal-vihar-by-registration-only-2/2025-06-08/
LOCATION:Radha Krishna Mandir & Cultural Centre\, 85 Boxwood Drive\, Cambridge\, Ontario\, N3E 0A5\, Canada
CATEGORIES:Community Outreach,Culture,Events at Mandir
ATTACH;FMTTYPE=image/png:https://radhakrishnamandir.ca/wp-content/uploads/2024/01/Bal_vihar_2024.png
ORGANIZER;CN="Bhawna Lakhanpal":MAILTO:balvihar@radhakrishnamandir.ca
END:VEVENT
BEGIN:VEVENT
DTSTART;TZID=America/Toronto:20250608T170000
DTEND;TZID=America/Toronto:20250608T190000
DTSTAMP:20260423T063903
CREATED:20250526T002551Z
LAST-MODIFIED:20250526T002805Z
UID:10003267-1749402000-1749409200@radhakrishnamandir.ca
SUMMARY:Satsangh
DESCRIPTION:
URL:https://radhakrishnamandir.ca/event/monthly-satsangh-2-2/2025-06-08/
LOCATION:Radha Krishna Mandir & Cultural Centre\, 85 Boxwood Drive\, Cambridge\, Ontario\, N3E 0A5\, Canada
CATEGORIES:Culture,Events at Mandir
END:VEVENT
BEGIN:VEVENT
DTSTART;TZID=America/Toronto:20250609T190000
DTEND;TZID=America/Toronto:20250609T200000
DTSTAMP:20260423T063903
CREATED:20240123T162004Z
LAST-MODIFIED:20240223T135133Z
UID:10000943-1749495600-1749499200@radhakrishnamandir.ca
SUMMARY:Shiva Abhishek
DESCRIPTION:
URL:https://radhakrishnamandir.ca/event/shiva-abhishek/2025-06-09/
LOCATION:Radha Krishna Mandir & Cultural Centre\, 85 Boxwood Drive\, Cambridge\, Ontario\, N3E 0A5\, Canada
CATEGORIES:Events at Mandir
ATTACH;FMTTYPE=image/jpeg:https://radhakrishnamandir.ca/wp-content/uploads/2024/01/lordshiva-e1709218431374.jpg
ORGANIZER;CN="Panditji":MAILTO:rkmcc@radhakrishnamandir.ca
END:VEVENT
BEGIN:VEVENT
DTSTART;TZID=America/Toronto:20250611T180000
DTEND;TZID=America/Toronto:20250611T200000
DTSTAMP:20260423T063903
CREATED:20250125T003906Z
LAST-MODIFIED:20250830T141303Z
UID:10002728-1749664800-1749672000@radhakrishnamandir.ca
SUMMARY:Shri Krishna Puja
DESCRIPTION:
URL:https://radhakrishnamandir.ca/event/shri-krishna-puja/2025-06-11/
LOCATION:Radha Krishna Mandir & Cultural Centre\, 85 Boxwood Drive\, Cambridge\, Ontario\, N3E 0A5\, Canada
CATEGORIES:Culture,Events at Mandir,Special Events
ATTACH;FMTTYPE=image/png:https://radhakrishnamandir.ca/wp-content/uploads/2025/01/Weekly_Lord_Krishna_Puja_-2025-2.png
END:VEVENT
BEGIN:VEVENT
DTSTART;TZID=America/Toronto:20250615T100000
DTEND;TZID=America/Toronto:20250615T120000
DTSTAMP:20260423T063903
CREATED:20241229T041041Z
LAST-MODIFIED:20241229T041100Z
UID:10001759-1749981600-1749988800@radhakrishnamandir.ca
SUMMARY:Sunday Service
DESCRIPTION:
URL:https://radhakrishnamandir.ca/event/sunday-service-3-2-2/2025-06-15/
LOCATION:Radha Krishna Mandir & Cultural Centre\, 85 Boxwood Drive\, Cambridge\, Ontario\, N3E 0A5\, Canada
CATEGORIES:Events at Mandir
ATTACH;FMTTYPE=image/png:https://radhakrishnamandir.ca/wp-content/uploads/2024/06/Sunday_upasna_pt.nikhil-1.png
ORGANIZER;CN="Panditji":MAILTO:info@radhakrishnamandir.ca
END:VEVENT
BEGIN:VEVENT
DTSTART;TZID=America/Toronto:20250615T100000
DTEND;TZID=America/Toronto:20250615T230000
DTSTAMP:20260423T063903
CREATED:20240731T190136Z
LAST-MODIFIED:20241010T125918Z
UID:10002385-1749981600-1750028400@radhakrishnamandir.ca
SUMMARY:Bal Vihar (by Registration only)
DESCRIPTION:
URL:https://radhakrishnamandir.ca/event/bal-vihar-by-registration-only-2/2025-06-15/
LOCATION:Radha Krishna Mandir & Cultural Centre\, 85 Boxwood Drive\, Cambridge\, Ontario\, N3E 0A5\, Canada
CATEGORIES:Community Outreach,Culture,Events at Mandir
ATTACH;FMTTYPE=image/png:https://radhakrishnamandir.ca/wp-content/uploads/2024/01/Bal_vihar_2024.png
ORGANIZER;CN="Bhawna Lakhanpal":MAILTO:balvihar@radhakrishnamandir.ca
END:VEVENT
BEGIN:VEVENT
DTSTART;TZID=America/Toronto:20250616T190000
DTEND;TZID=America/Toronto:20250616T200000
DTSTAMP:20260423T063903
CREATED:20240123T162004Z
LAST-MODIFIED:20240223T135133Z
UID:10000944-1750100400-1750104000@radhakrishnamandir.ca
SUMMARY:Shiva Abhishek
DESCRIPTION:
URL:https://radhakrishnamandir.ca/event/shiva-abhishek/2025-06-16/
LOCATION:Radha Krishna Mandir & Cultural Centre\, 85 Boxwood Drive\, Cambridge\, Ontario\, N3E 0A5\, Canada
CATEGORIES:Events at Mandir
ATTACH;FMTTYPE=image/jpeg:https://radhakrishnamandir.ca/wp-content/uploads/2024/01/lordshiva-e1709218431374.jpg
ORGANIZER;CN="Panditji":MAILTO:rkmcc@radhakrishnamandir.ca
END:VEVENT
BEGIN:VEVENT
DTSTART;TZID=America/Toronto:20250617T180000
DTEND;TZID=America/Toronto:20250617T200000
DTSTAMP:20260423T063903
CREATED:20250508T160210Z
LAST-MODIFIED:20251124T045349Z
UID:10003826-1750183200-1750190400@radhakrishnamandir.ca
SUMMARY:Hanuman ji Chalisa Satsang
DESCRIPTION:
URL:https://radhakrishnamandir.ca/event/hanuman-chalisa-3/2025-06-17/
LOCATION:Radha Krishna Mandir & Cultural Centre\, 85 Boxwood Drive\, Cambridge\, Ontario\, N3E 0A5\, Canada
CATEGORIES:Events at Mandir,Special Events
ORGANIZER;CN="Panditji":MAILTO:rkmcc@radhakrishnamandir.ca
END:VEVENT
BEGIN:VEVENT
DTSTART;TZID=America/Toronto:20250618T180000
DTEND;TZID=America/Toronto:20250618T200000
DTSTAMP:20260423T063904
CREATED:20250125T003906Z
LAST-MODIFIED:20250830T141303Z
UID:10002729-1750269600-1750276800@radhakrishnamandir.ca
SUMMARY:Shri Krishna Puja
DESCRIPTION:
URL:https://radhakrishnamandir.ca/event/shri-krishna-puja/2025-06-18/
LOCATION:Radha Krishna Mandir & Cultural Centre\, 85 Boxwood Drive\, Cambridge\, Ontario\, N3E 0A5\, Canada
CATEGORIES:Culture,Events at Mandir,Special Events
ATTACH;FMTTYPE=image/png:https://radhakrishnamandir.ca/wp-content/uploads/2025/01/Weekly_Lord_Krishna_Puja_-2025-2.png
END:VEVENT
BEGIN:VEVENT
DTSTART;TZID=America/Toronto:20250622T100000
DTEND;TZID=America/Toronto:20250622T120000
DTSTAMP:20260423T063904
CREATED:20241229T041041Z
LAST-MODIFIED:20241229T041100Z
UID:10001760-1750586400-1750593600@radhakrishnamandir.ca
SUMMARY:Sunday Service
DESCRIPTION:
URL:https://radhakrishnamandir.ca/event/sunday-service-3-2-2/2025-06-22/
LOCATION:Radha Krishna Mandir & Cultural Centre\, 85 Boxwood Drive\, Cambridge\, Ontario\, N3E 0A5\, Canada
CATEGORIES:Events at Mandir
ATTACH;FMTTYPE=image/png:https://radhakrishnamandir.ca/wp-content/uploads/2024/06/Sunday_upasna_pt.nikhil-1.png
ORGANIZER;CN="Panditji":MAILTO:info@radhakrishnamandir.ca
END:VEVENT
BEGIN:VEVENT
DTSTART;TZID=America/Toronto:20250622T100000
DTEND;TZID=America/Toronto:20250622T230000
DTSTAMP:20260423T063904
CREATED:20240731T190136Z
LAST-MODIFIED:20241010T125918Z
UID:10002386-1750586400-1750633200@radhakrishnamandir.ca
SUMMARY:Bal Vihar (by Registration only)
DESCRIPTION:
URL:https://radhakrishnamandir.ca/event/bal-vihar-by-registration-only-2/2025-06-22/
LOCATION:Radha Krishna Mandir & Cultural Centre\, 85 Boxwood Drive\, Cambridge\, Ontario\, N3E 0A5\, Canada
CATEGORIES:Community Outreach,Culture,Events at Mandir
ATTACH;FMTTYPE=image/png:https://radhakrishnamandir.ca/wp-content/uploads/2024/01/Bal_vihar_2024.png
ORGANIZER;CN="Bhawna Lakhanpal":MAILTO:balvihar@radhakrishnamandir.ca
END:VEVENT
BEGIN:VEVENT
DTSTART;TZID=America/Toronto:20250623T190000
DTEND;TZID=America/Toronto:20250623T200000
DTSTAMP:20260423T063904
CREATED:20240123T162004Z
LAST-MODIFIED:20240223T135133Z
UID:10000945-1750705200-1750708800@radhakrishnamandir.ca
SUMMARY:Shiva Abhishek
DESCRIPTION:
URL:https://radhakrishnamandir.ca/event/shiva-abhishek/2025-06-23/
LOCATION:Radha Krishna Mandir & Cultural Centre\, 85 Boxwood Drive\, Cambridge\, Ontario\, N3E 0A5\, Canada
CATEGORIES:Events at Mandir
ATTACH;FMTTYPE=image/jpeg:https://radhakrishnamandir.ca/wp-content/uploads/2024/01/lordshiva-e1709218431374.jpg
ORGANIZER;CN="Panditji":MAILTO:rkmcc@radhakrishnamandir.ca
END:VEVENT
BEGIN:VEVENT
DTSTART;TZID=America/Toronto:20250624T180000
DTEND;TZID=America/Toronto:20250624T200000
DTSTAMP:20260423T063904
CREATED:20250508T160210Z
LAST-MODIFIED:20251124T045349Z
UID:10003827-1750788000-1750795200@radhakrishnamandir.ca
SUMMARY:Hanuman ji Chalisa Satsang
DESCRIPTION:
URL:https://radhakrishnamandir.ca/event/hanuman-chalisa-3/2025-06-24/
LOCATION:Radha Krishna Mandir & Cultural Centre\, 85 Boxwood Drive\, Cambridge\, Ontario\, N3E 0A5\, Canada
CATEGORIES:Events at Mandir,Special Events
ORGANIZER;CN="Panditji":MAILTO:rkmcc@radhakrishnamandir.ca
END:VEVENT
BEGIN:VEVENT
DTSTART;TZID=America/Toronto:20250625T180000
DTEND;TZID=America/Toronto:20250625T200000
DTSTAMP:20260423T063904
CREATED:20250125T003906Z
LAST-MODIFIED:20250830T141303Z
UID:10002730-1750874400-1750881600@radhakrishnamandir.ca
SUMMARY:Shri Krishna Puja
DESCRIPTION:
URL:https://radhakrishnamandir.ca/event/shri-krishna-puja/2025-06-25/
LOCATION:Radha Krishna Mandir & Cultural Centre\, 85 Boxwood Drive\, Cambridge\, Ontario\, N3E 0A5\, Canada
CATEGORIES:Culture,Events at Mandir,Special Events
ATTACH;FMTTYPE=image/png:https://radhakrishnamandir.ca/wp-content/uploads/2025/01/Weekly_Lord_Krishna_Puja_-2025-2.png
END:VEVENT
BEGIN:VEVENT
DTSTART;TZID=America/Toronto:20250629T100000
DTEND;TZID=America/Toronto:20250629T120000
DTSTAMP:20260423T063904
CREATED:20240604T172851Z
LAST-MODIFIED:20250616T185624Z
UID:10002445-1751191200-1751198400@radhakrishnamandir.ca
SUMMARY:Sunday Service Pt. Dwejendra Doobay
DESCRIPTION:
URL:https://radhakrishnamandir.ca/event/sunday-service/
LOCATION:Radha Krishna Mandir & Cultural Centre\, 85 Boxwood Drive\, Cambridge\, Ontario\, N3E 0A5\, Canada
CATEGORIES:Events at Mandir,Special Events
ORGANIZER;CN="Panditji":MAILTO:info@radhakrishnamandir.ca
END:VEVENT
BEGIN:VEVENT
DTSTART;TZID=America/Toronto:20250629T100000
DTEND;TZID=America/Toronto:20250629T120000
DTSTAMP:20260423T063904
CREATED:20241229T041041Z
LAST-MODIFIED:20241229T041100Z
UID:10001761-1751191200-1751198400@radhakrishnamandir.ca
SUMMARY:Sunday Service
DESCRIPTION:
URL:https://radhakrishnamandir.ca/event/sunday-service-3-2-2/2025-06-29/
LOCATION:Radha Krishna Mandir & Cultural Centre\, 85 Boxwood Drive\, Cambridge\, Ontario\, N3E 0A5\, Canada
CATEGORIES:Events at Mandir
ATTACH;FMTTYPE=image/png:https://radhakrishnamandir.ca/wp-content/uploads/2024/06/Sunday_upasna_pt.nikhil-1.png
ORGANIZER;CN="Panditji":MAILTO:info@radhakrishnamandir.ca
END:VEVENT
BEGIN:VEVENT
DTSTART;TZID=America/Toronto:20250630T190000
DTEND;TZID=America/Toronto:20250630T200000
DTSTAMP:20260423T063904
CREATED:20240123T162004Z
LAST-MODIFIED:20240223T135133Z
UID:10000946-1751310000-1751313600@radhakrishnamandir.ca
SUMMARY:Shiva Abhishek
DESCRIPTION:
URL:https://radhakrishnamandir.ca/event/shiva-abhishek/2025-06-30/
LOCATION:Radha Krishna Mandir & Cultural Centre\, 85 Boxwood Drive\, Cambridge\, Ontario\, N3E 0A5\, Canada
CATEGORIES:Events at Mandir
ATTACH;FMTTYPE=image/jpeg:https://radhakrishnamandir.ca/wp-content/uploads/2024/01/lordshiva-e1709218431374.jpg
ORGANIZER;CN="Panditji":MAILTO:rkmcc@radhakrishnamandir.ca
END:VEVENT
BEGIN:VEVENT
DTSTART;TZID=America/Toronto:20250701T180000
DTEND;TZID=America/Toronto:20250701T200000
DTSTAMP:20260423T063904
CREATED:20250508T160210Z
LAST-MODIFIED:20251124T045349Z
UID:10003828-1751392800-1751400000@radhakrishnamandir.ca
SUMMARY:Hanuman ji Chalisa Satsang
DESCRIPTION:
URL:https://radhakrishnamandir.ca/event/hanuman-chalisa-3/2025-07-01/
LOCATION:Radha Krishna Mandir & Cultural Centre\, 85 Boxwood Drive\, Cambridge\, Ontario\, N3E 0A5\, Canada
CATEGORIES:Events at Mandir,Special Events
ORGANIZER;CN="Panditji":MAILTO:rkmcc@radhakrishnamandir.ca
END:VEVENT
BEGIN:VEVENT
DTSTART;TZID=America/Toronto:20250702T180000
DTEND;TZID=America/Toronto:20250702T200000
DTSTAMP:20260423T063904
CREATED:20250125T003906Z
LAST-MODIFIED:20250830T141303Z
UID:10002731-1751479200-1751486400@radhakrishnamandir.ca
SUMMARY:Shri Krishna Puja
DESCRIPTION:
URL:https://radhakrishnamandir.ca/event/shri-krishna-puja/2025-07-02/
LOCATION:Radha Krishna Mandir & Cultural Centre\, 85 Boxwood Drive\, Cambridge\, Ontario\, N3E 0A5\, Canada
CATEGORIES:Culture,Events at Mandir,Special Events
ATTACH;FMTTYPE=image/png:https://radhakrishnamandir.ca/wp-content/uploads/2025/01/Weekly_Lord_Krishna_Puja_-2025-2.png
END:VEVENT
BEGIN:VEVENT
DTSTART;TZID=America/Toronto:20250706T100000
DTEND;TZID=America/Toronto:20250706T120000
DTSTAMP:20260423T063904
CREATED:20241229T041041Z
LAST-MODIFIED:20241229T041100Z
UID:10001762-1751796000-1751803200@radhakrishnamandir.ca
SUMMARY:Sunday Service
DESCRIPTION:
URL:https://radhakrishnamandir.ca/event/sunday-service-3-2-2/2025-07-06/
LOCATION:Radha Krishna Mandir & Cultural Centre\, 85 Boxwood Drive\, Cambridge\, Ontario\, N3E 0A5\, Canada
CATEGORIES:Events at Mandir
ATTACH;FMTTYPE=image/png:https://radhakrishnamandir.ca/wp-content/uploads/2024/06/Sunday_upasna_pt.nikhil-1.png
ORGANIZER;CN="Panditji":MAILTO:info@radhakrishnamandir.ca
END:VEVENT
BEGIN:VEVENT
DTSTART;TZID=America/Toronto:20250707T190000
DTEND;TZID=America/Toronto:20250707T200000
DTSTAMP:20260423T063904
CREATED:20240123T162004Z
LAST-MODIFIED:20240223T135133Z
UID:10000947-1751914800-1751918400@radhakrishnamandir.ca
SUMMARY:Shiva Abhishek
DESCRIPTION:
URL:https://radhakrishnamandir.ca/event/shiva-abhishek/2025-07-07/
LOCATION:Radha Krishna Mandir & Cultural Centre\, 85 Boxwood Drive\, Cambridge\, Ontario\, N3E 0A5\, Canada
CATEGORIES:Events at Mandir
ATTACH;FMTTYPE=image/jpeg:https://radhakrishnamandir.ca/wp-content/uploads/2024/01/lordshiva-e1709218431374.jpg
ORGANIZER;CN="Panditji":MAILTO:rkmcc@radhakrishnamandir.ca
END:VEVENT
BEGIN:VEVENT
DTSTART;TZID=America/Toronto:20250708T180000
DTEND;TZID=America/Toronto:20250708T200000
DTSTAMP:20260423T063904
CREATED:20250508T160210Z
LAST-MODIFIED:20251124T045349Z
UID:10003829-1751997600-1752004800@radhakrishnamandir.ca
SUMMARY:Hanuman ji Chalisa Satsang
DESCRIPTION:
URL:https://radhakrishnamandir.ca/event/hanuman-chalisa-3/2025-07-08/
LOCATION:Radha Krishna Mandir & Cultural Centre\, 85 Boxwood Drive\, Cambridge\, Ontario\, N3E 0A5\, Canada
CATEGORIES:Events at Mandir,Special Events
ORGANIZER;CN="Panditji":MAILTO:rkmcc@radhakrishnamandir.ca
END:VEVENT
BEGIN:VEVENT
DTSTART;TZID=America/Toronto:20250709T180000
DTEND;TZID=America/Toronto:20250709T200000
DTSTAMP:20260423T063904
CREATED:20250125T003906Z
LAST-MODIFIED:20250830T141303Z
UID:10002732-1752084000-1752091200@radhakrishnamandir.ca
SUMMARY:Shri Krishna Puja
DESCRIPTION:
URL:https://radhakrishnamandir.ca/event/shri-krishna-puja/2025-07-09/
LOCATION:Radha Krishna Mandir & Cultural Centre\, 85 Boxwood Drive\, Cambridge\, Ontario\, N3E 0A5\, Canada
CATEGORIES:Culture,Events at Mandir,Special Events
ATTACH;FMTTYPE=image/png:https://radhakrishnamandir.ca/wp-content/uploads/2025/01/Weekly_Lord_Krishna_Puja_-2025-2.png
END:VEVENT
BEGIN:VEVENT
DTSTART;TZID=America/Toronto:20250710T183000
DTEND;TZID=America/Toronto:20250710T200000
DTSTAMP:20260423T063904
CREATED:20240628T131617Z
LAST-MODIFIED:20250616T174754Z
UID:10002339-1752172200-1752177600@radhakrishnamandir.ca
SUMMARY:Guru Purnima
DESCRIPTION:
URL:https://radhakrishnamandir.ca/event/guru-purnima/
LOCATION:Radha Krishna Mandir & Cultural Centre\, 85 Boxwood Drive\, Cambridge\, Ontario\, N3E 0A5\, Canada
CATEGORIES:Events at Mandir
ORGANIZER;CN="Panditji":MAILTO:info@radhakrishnamandir.ca
END:VEVENT
BEGIN:VEVENT
DTSTART;TZID=America/Toronto:20250712T170000
DTEND;TZID=America/Toronto:20250712T200000
DTSTAMP:20260423T063904
CREATED:20250618T192758Z
LAST-MODIFIED:20250711T000924Z
UID:10003413-1752339600-1752350400@radhakrishnamandir.ca
SUMMARY:Sunderkand Path
DESCRIPTION:
URL:https://radhakrishnamandir.ca/event/sunderkand/
LOCATION:Radha Krishna Mandir & Cultural Centre\, 85 Boxwood Drive\, Cambridge\, Ontario\, N3E 0A5\, Canada
CATEGORIES:Events at Mandir,Special Events
ORGANIZER;CN="Panditji":MAILTO:rkmcc@radhakrishnamandir.ca
END:VEVENT
BEGIN:VEVENT
DTSTART;TZID=America/Toronto:20250713T170000
DTEND;TZID=America/Toronto:20250713T190000
DTSTAMP:20260423T063904
CREATED:20250526T002551Z
LAST-MODIFIED:20250526T002805Z
UID:10003354-1752426000-1752433200@radhakrishnamandir.ca
SUMMARY:Satsangh
DESCRIPTION:
URL:https://radhakrishnamandir.ca/event/monthly-satsangh-2-2/2025-07-13/
LOCATION:Radha Krishna Mandir & Cultural Centre\, 85 Boxwood Drive\, Cambridge\, Ontario\, N3E 0A5\, Canada
CATEGORIES:Culture,Events at Mandir
END:VEVENT
BEGIN:VEVENT
DTSTART;TZID=America/Toronto:20250714T183000
DTEND;TZID=America/Toronto:20250804T190000
DTSTAMP:20260423T063904
CREATED:20240628T171947Z
LAST-MODIFIED:20250630T220243Z
UID:10002344-1752517800-1754334000@radhakrishnamandir.ca
SUMMARY:Shravan - Join us for Abhishekam
DESCRIPTION:
URL:https://radhakrishnamandir.ca/event/sharavan/
LOCATION:Radha Krishna Mandir & Cultural Centre\, 85 Boxwood Drive\, Cambridge\, Ontario\, N3E 0A5\, Canada
CATEGORIES:Culture,Events at Mandir
ORGANIZER;CN="Panditji":MAILTO:info@radhakrishnamandir.ca
END:VEVENT
BEGIN:VEVENT
DTSTART;TZID=America/Toronto:20250714T190000
DTEND;TZID=America/Toronto:20250714T200000
DTSTAMP:20260423T063904
CREATED:20240123T162004Z
LAST-MODIFIED:20240223T135133Z
UID:10000948-1752519600-1752523200@radhakrishnamandir.ca
SUMMARY:Shiva Abhishek
DESCRIPTION:
URL:https://radhakrishnamandir.ca/event/shiva-abhishek/2025-07-14/
LOCATION:Radha Krishna Mandir & Cultural Centre\, 85 Boxwood Drive\, Cambridge\, Ontario\, N3E 0A5\, Canada
CATEGORIES:Events at Mandir
ATTACH;FMTTYPE=image/jpeg:https://radhakrishnamandir.ca/wp-content/uploads/2024/01/lordshiva-e1709218431374.jpg
ORGANIZER;CN="Panditji":MAILTO:rkmcc@radhakrishnamandir.ca
END:VEVENT
BEGIN:VEVENT
DTSTART;TZID=America/Toronto:20250715T180000
DTEND;TZID=America/Toronto:20250715T200000
DTSTAMP:20260423T063904
CREATED:20250508T160210Z
LAST-MODIFIED:20251124T045349Z
UID:10003830-1752602400-1752609600@radhakrishnamandir.ca
SUMMARY:Hanuman ji Chalisa Satsang
DESCRIPTION:
URL:https://radhakrishnamandir.ca/event/hanuman-chalisa-3/2025-07-15/
LOCATION:Radha Krishna Mandir & Cultural Centre\, 85 Boxwood Drive\, Cambridge\, Ontario\, N3E 0A5\, Canada
CATEGORIES:Events at Mandir,Special Events
ORGANIZER;CN="Panditji":MAILTO:rkmcc@radhakrishnamandir.ca
END:VEVENT
END:VCALENDAR