BEGIN:VCALENDAR
VERSION:2.0
PRODID:-//Radha Krishna Mandir &amp; Cultural Centre, Cambridge Ontario - ECPv6.15.20//NONSGML v1.0//EN
CALSCALE:GREGORIAN
METHOD:PUBLISH
X-ORIGINAL-URL:https://radhakrishnamandir.ca
X-WR-CALDESC:Events for Radha Krishna Mandir &amp; Cultural Centre, Cambridge Ontario
REFRESH-INTERVAL;VALUE=DURATION:PT1H
X-Robots-Tag:noindex
X-PUBLISHED-TTL:PT1H
BEGIN:VTIMEZONE
TZID:America/Toronto
BEGIN:DAYLIGHT
TZOFFSETFROM:-0500
TZOFFSETTO:-0400
TZNAME:EDT
DTSTART:20240310T070000
END:DAYLIGHT
BEGIN:STANDARD
TZOFFSETFROM:-0400
TZOFFSETTO:-0500
TZNAME:EST
DTSTART:20241103T060000
END:STANDARD
BEGIN:DAYLIGHT
TZOFFSETFROM:-0500
TZOFFSETTO:-0400
TZNAME:EDT
DTSTART:20250309T070000
END:DAYLIGHT
BEGIN:STANDARD
TZOFFSETFROM:-0400
TZOFFSETTO:-0500
TZNAME:EST
DTSTART:20251102T060000
END:STANDARD
BEGIN:DAYLIGHT
TZOFFSETFROM:-0500
TZOFFSETTO:-0400
TZNAME:EDT
DTSTART:20260308T070000
END:DAYLIGHT
BEGIN:STANDARD
TZOFFSETFROM:-0400
TZOFFSETTO:-0500
TZNAME:EST
DTSTART:20261101T060000
END:STANDARD
END:VTIMEZONE
BEGIN:VEVENT
DTSTART;TZID=America/Toronto:20250810T170000
DTEND;TZID=America/Toronto:20250810T190000
DTSTAMP:20260423T063925
CREATED:20250526T002551Z
LAST-MODIFIED:20250526T002805Z
UID:10003355-1754845200-1754852400@radhakrishnamandir.ca
SUMMARY:Satsangh
DESCRIPTION:
URL:https://radhakrishnamandir.ca/event/monthly-satsangh-2-2/2025-08-10/
LOCATION:Radha Krishna Mandir & Cultural Centre\, 85 Boxwood Drive\, Cambridge\, Ontario\, N3E 0A5\, Canada
CATEGORIES:Culture,Events at Mandir
END:VEVENT
BEGIN:VEVENT
DTSTART;TZID=America/Toronto:20250811T190000
DTEND;TZID=America/Toronto:20250811T200000
DTSTAMP:20260423T063925
CREATED:20240123T162004Z
LAST-MODIFIED:20240223T135133Z
UID:10000952-1754938800-1754942400@radhakrishnamandir.ca
SUMMARY:Shiva Abhishek
DESCRIPTION:
URL:https://radhakrishnamandir.ca/event/shiva-abhishek/2025-08-11/
LOCATION:Radha Krishna Mandir & Cultural Centre\, 85 Boxwood Drive\, Cambridge\, Ontario\, N3E 0A5\, Canada
CATEGORIES:Events at Mandir
ATTACH;FMTTYPE=image/jpeg:https://radhakrishnamandir.ca/wp-content/uploads/2024/01/lordshiva-e1709218431374.jpg
ORGANIZER;CN="Panditji":MAILTO:rkmcc@radhakrishnamandir.ca
END:VEVENT
BEGIN:VEVENT
DTSTART;TZID=America/Toronto:20250812T180000
DTEND;TZID=America/Toronto:20250812T200000
DTSTAMP:20260423T063925
CREATED:20250508T160210Z
LAST-MODIFIED:20251124T045349Z
UID:10003834-1755021600-1755028800@radhakrishnamandir.ca
SUMMARY:Hanuman ji Chalisa Satsang
DESCRIPTION:
URL:https://radhakrishnamandir.ca/event/hanuman-chalisa-3/2025-08-12/
LOCATION:Radha Krishna Mandir & Cultural Centre\, 85 Boxwood Drive\, Cambridge\, Ontario\, N3E 0A5\, Canada
CATEGORIES:Events at Mandir,Special Events
ORGANIZER;CN="Panditji":MAILTO:rkmcc@radhakrishnamandir.ca
END:VEVENT
BEGIN:VEVENT
DTSTART;TZID=America/Toronto:20250813T180000
DTEND;TZID=America/Toronto:20250813T200000
DTSTAMP:20260423T063925
CREATED:20250125T003906Z
LAST-MODIFIED:20250830T141303Z
UID:10002734-1755108000-1755115200@radhakrishnamandir.ca
SUMMARY:Shri Krishna Puja
DESCRIPTION:
URL:https://radhakrishnamandir.ca/event/shri-krishna-puja/2025-08-13/
LOCATION:Radha Krishna Mandir & Cultural Centre\, 85 Boxwood Drive\, Cambridge\, Ontario\, N3E 0A5\, Canada
CATEGORIES:Culture,Events at Mandir,Special Events
ATTACH;FMTTYPE=image/png:https://radhakrishnamandir.ca/wp-content/uploads/2025/01/Weekly_Lord_Krishna_Puja_-2025-2.png
END:VEVENT
BEGIN:VEVENT
DTSTART;TZID=America/Toronto:20250815T170000
DTEND;TZID=America/Toronto:20250815T233000
DTSTAMP:20260423T063925
CREATED:20240208T230744Z
LAST-MODIFIED:20250701T005946Z
UID:10001138-1755277200-1755300600@radhakrishnamandir.ca
SUMMARY:Shri Krishna Janmashtami
DESCRIPTION:
URL:https://radhakrishnamandir.ca/event/1815/
LOCATION:Radha Krishna Mandir & Cultural Centre\, 85 Boxwood Drive\, Cambridge\, Ontario\, N3E 0A5\, Canada
CATEGORIES:Events at Mandir,Special Events
END:VEVENT
BEGIN:VEVENT
DTSTART;TZID=America/Toronto:20250817T100000
DTEND;TZID=America/Toronto:20250817T120000
DTSTAMP:20260423T063925
CREATED:20241229T041041Z
LAST-MODIFIED:20241229T041100Z
UID:10001768-1755424800-1755432000@radhakrishnamandir.ca
SUMMARY:Sunday Service
DESCRIPTION:
URL:https://radhakrishnamandir.ca/event/sunday-service-3-2-2/2025-08-17/
LOCATION:Radha Krishna Mandir & Cultural Centre\, 85 Boxwood Drive\, Cambridge\, Ontario\, N3E 0A5\, Canada
CATEGORIES:Events at Mandir
ATTACH;FMTTYPE=image/png:https://radhakrishnamandir.ca/wp-content/uploads/2024/06/Sunday_upasna_pt.nikhil-1.png
ORGANIZER;CN="Panditji":MAILTO:info@radhakrishnamandir.ca
END:VEVENT
BEGIN:VEVENT
DTSTART;TZID=America/Toronto:20250817T130000
DTEND;TZID=America/Toronto:20250817T130000
DTSTAMP:20260423T063925
CREATED:20241007T122851Z
LAST-MODIFIED:20250423T113721Z
UID:10002428-1755435600-1755435600@radhakrishnamandir.ca
SUMMARY:Raffle Contest Draw (Get tickets for only $25!)
DESCRIPTION:
URL:https://radhakrishnamandir.ca/event/raffle-contest-draw/
LOCATION:Radha Krishna Mandir & Cultural Centre\, 85 Boxwood Drive\, Cambridge\, Ontario\, N3E 0A5\, Canada
CATEGORIES:Fundraising,Special Events
ATTACH;FMTTYPE=image/png:https://radhakrishnamandir.ca/wp-content/uploads/2025/04/August_raffle.png
ORGANIZER;CN="Dwarka Persaud":MAILTO:president@radhakrishnamandir.ca
END:VEVENT
BEGIN:VEVENT
DTSTART;TZID=America/Toronto:20250818T190000
DTEND;TZID=America/Toronto:20250818T200000
DTSTAMP:20260423T063925
CREATED:20240123T162004Z
LAST-MODIFIED:20240223T135133Z
UID:10000953-1755543600-1755547200@radhakrishnamandir.ca
SUMMARY:Shiva Abhishek
DESCRIPTION:
URL:https://radhakrishnamandir.ca/event/shiva-abhishek/2025-08-18/
LOCATION:Radha Krishna Mandir & Cultural Centre\, 85 Boxwood Drive\, Cambridge\, Ontario\, N3E 0A5\, Canada
CATEGORIES:Events at Mandir
ATTACH;FMTTYPE=image/jpeg:https://radhakrishnamandir.ca/wp-content/uploads/2024/01/lordshiva-e1709218431374.jpg
ORGANIZER;CN="Panditji":MAILTO:rkmcc@radhakrishnamandir.ca
END:VEVENT
BEGIN:VEVENT
DTSTART;TZID=America/Toronto:20250819T180000
DTEND;TZID=America/Toronto:20250819T200000
DTSTAMP:20260423T063925
CREATED:20250508T160210Z
LAST-MODIFIED:20251124T045349Z
UID:10003835-1755626400-1755633600@radhakrishnamandir.ca
SUMMARY:Hanuman ji Chalisa Satsang
DESCRIPTION:
URL:https://radhakrishnamandir.ca/event/hanuman-chalisa-3/2025-08-19/
LOCATION:Radha Krishna Mandir & Cultural Centre\, 85 Boxwood Drive\, Cambridge\, Ontario\, N3E 0A5\, Canada
CATEGORIES:Events at Mandir,Special Events
ORGANIZER;CN="Panditji":MAILTO:rkmcc@radhakrishnamandir.ca
END:VEVENT
BEGIN:VEVENT
DTSTART;TZID=America/Toronto:20250820T180000
DTEND;TZID=America/Toronto:20250820T200000
DTSTAMP:20260423T063925
CREATED:20250125T003906Z
LAST-MODIFIED:20250830T141303Z
UID:10002735-1755712800-1755720000@radhakrishnamandir.ca
SUMMARY:Shri Krishna Puja
DESCRIPTION:
URL:https://radhakrishnamandir.ca/event/shri-krishna-puja/2025-08-20/
LOCATION:Radha Krishna Mandir & Cultural Centre\, 85 Boxwood Drive\, Cambridge\, Ontario\, N3E 0A5\, Canada
CATEGORIES:Culture,Events at Mandir,Special Events
ATTACH;FMTTYPE=image/png:https://radhakrishnamandir.ca/wp-content/uploads/2025/01/Weekly_Lord_Krishna_Puja_-2025-2.png
END:VEVENT
BEGIN:VEVENT
DTSTART;TZID=America/Toronto:20250824T100000
DTEND;TZID=America/Toronto:20250824T120000
DTSTAMP:20260423T063925
CREATED:20241229T041041Z
LAST-MODIFIED:20241229T041100Z
UID:10001769-1756029600-1756036800@radhakrishnamandir.ca
SUMMARY:Sunday Service
DESCRIPTION:
URL:https://radhakrishnamandir.ca/event/sunday-service-3-2-2/2025-08-24/
LOCATION:Radha Krishna Mandir & Cultural Centre\, 85 Boxwood Drive\, Cambridge\, Ontario\, N3E 0A5\, Canada
CATEGORIES:Events at Mandir
ATTACH;FMTTYPE=image/png:https://radhakrishnamandir.ca/wp-content/uploads/2024/06/Sunday_upasna_pt.nikhil-1.png
ORGANIZER;CN="Panditji":MAILTO:info@radhakrishnamandir.ca
END:VEVENT
BEGIN:VEVENT
DTSTART;TZID=America/Toronto:20250825T190000
DTEND;TZID=America/Toronto:20250825T200000
DTSTAMP:20260423T063925
CREATED:20240123T162004Z
LAST-MODIFIED:20240223T135133Z
UID:10000954-1756148400-1756152000@radhakrishnamandir.ca
SUMMARY:Shiva Abhishek
DESCRIPTION:
URL:https://radhakrishnamandir.ca/event/shiva-abhishek/2025-08-25/
LOCATION:Radha Krishna Mandir & Cultural Centre\, 85 Boxwood Drive\, Cambridge\, Ontario\, N3E 0A5\, Canada
CATEGORIES:Events at Mandir
ATTACH;FMTTYPE=image/jpeg:https://radhakrishnamandir.ca/wp-content/uploads/2024/01/lordshiva-e1709218431374.jpg
ORGANIZER;CN="Panditji":MAILTO:rkmcc@radhakrishnamandir.ca
END:VEVENT
BEGIN:VEVENT
DTSTART;TZID=America/Toronto:20250826T180000
DTEND;TZID=America/Toronto:20250826T200000
DTSTAMP:20260423T063925
CREATED:20250508T160210Z
LAST-MODIFIED:20251124T045349Z
UID:10003836-1756231200-1756238400@radhakrishnamandir.ca
SUMMARY:Hanuman ji Chalisa Satsang
DESCRIPTION:
URL:https://radhakrishnamandir.ca/event/hanuman-chalisa-3/2025-08-26/
LOCATION:Radha Krishna Mandir & Cultural Centre\, 85 Boxwood Drive\, Cambridge\, Ontario\, N3E 0A5\, Canada
CATEGORIES:Events at Mandir,Special Events
ORGANIZER;CN="Panditji":MAILTO:rkmcc@radhakrishnamandir.ca
END:VEVENT
BEGIN:VEVENT
DTSTART;TZID=America/Toronto:20250827T180000
DTEND;TZID=America/Toronto:20250827T200000
DTSTAMP:20260423T063925
CREATED:20250125T003906Z
LAST-MODIFIED:20250830T141303Z
UID:10002736-1756317600-1756324800@radhakrishnamandir.ca
SUMMARY:Shri Krishna Puja
DESCRIPTION:
URL:https://radhakrishnamandir.ca/event/shri-krishna-puja/2025-08-27/
LOCATION:Radha Krishna Mandir & Cultural Centre\, 85 Boxwood Drive\, Cambridge\, Ontario\, N3E 0A5\, Canada
CATEGORIES:Culture,Events at Mandir,Special Events
ATTACH;FMTTYPE=image/png:https://radhakrishnamandir.ca/wp-content/uploads/2025/01/Weekly_Lord_Krishna_Puja_-2025-2.png
END:VEVENT
BEGIN:VEVENT
DTSTART;TZID=America/Toronto:20250831T100000
DTEND;TZID=America/Toronto:20250831T120000
DTSTAMP:20260423T063925
CREATED:20250826T130026Z
LAST-MODIFIED:20250826T130259Z
UID:10001770-1756634400-1756641600@radhakrishnamandir.ca
SUMMARY:Sunday Service
DESCRIPTION:
URL:https://radhakrishnamandir.ca/event/sunday-service_/2025-08-31/
LOCATION:Radha Krishna Mandir & Cultural Centre\, 85 Boxwood Drive\, Cambridge\, Ontario\, N3E 0A5\, Canada
CATEGORIES:Events at Mandir
ATTACH;FMTTYPE=image/png:https://radhakrishnamandir.ca/wp-content/uploads/2024/12/Sunday_Service-1.png
ORGANIZER;CN="Panditji":MAILTO:info@radhakrishnamandir.ca
END:VEVENT
BEGIN:VEVENT
DTSTART;TZID=America/Toronto:20250831T170000
DTEND;TZID=America/Toronto:20250831T200000
DTSTAMP:20260423T063925
CREATED:20240901T194702Z
LAST-MODIFIED:20250828T141716Z
UID:10002419-1756659600-1756670400@radhakrishnamandir.ca
SUMMARY:Radha Ashtami
DESCRIPTION:
URL:https://radhakrishnamandir.ca/event/radha-ashtami/
LOCATION:Radha Krishna Mandir & Cultural Centre\, 85 Boxwood Drive\, Cambridge\, Ontario\, N3E 0A5\, Canada
CATEGORIES:Events at Mandir,Special Events
ATTACH;FMTTYPE=image/png:https://radhakrishnamandir.ca/wp-content/uploads/2024/09/Final_Radha-Ashtmi_2025-1-2.png
ORGANIZER;CN="Panditji":MAILTO:rkmcc@radhakrishnamandir.ca
END:VEVENT
BEGIN:VEVENT
DTSTART;TZID=America/Toronto:20250902T180000
DTEND;TZID=America/Toronto:20250902T200000
DTSTAMP:20260423T063925
CREATED:20250508T160210Z
LAST-MODIFIED:20251124T045349Z
UID:10003837-1756836000-1756843200@radhakrishnamandir.ca
SUMMARY:Hanuman ji Chalisa Satsang
DESCRIPTION:
URL:https://radhakrishnamandir.ca/event/hanuman-chalisa-3/2025-09-02/
LOCATION:Radha Krishna Mandir & Cultural Centre\, 85 Boxwood Drive\, Cambridge\, Ontario\, N3E 0A5\, Canada
CATEGORIES:Events at Mandir,Special Events
ORGANIZER;CN="Panditji":MAILTO:rkmcc@radhakrishnamandir.ca
END:VEVENT
BEGIN:VEVENT
DTSTART;TZID=America/Toronto:20250903T180000
DTEND;TZID=America/Toronto:20250903T200000
DTSTAMP:20260423T063925
CREATED:20250830T142732Z
LAST-MODIFIED:20251025T161010Z
UID:10002737-1756922400-1756929600@radhakrishnamandir.ca
SUMMARY:Shri Krishna Puja
DESCRIPTION:
URL:https://radhakrishnamandir.ca/event/shri-krishna-puja-2/2025-09-03/
LOCATION:Radha Krishna Mandir & Cultural Centre\, 85 Boxwood Drive\, Cambridge\, Ontario\, N3E 0A5\, Canada
CATEGORIES:Culture,Events at Mandir,Special Events
ATTACH;FMTTYPE=image/png:https://radhakrishnamandir.ca/wp-content/uploads/2025/08/unnamed.png
END:VEVENT
BEGIN:VEVENT
DTSTART;TZID=America/Toronto:20250906T100000
DTEND;TZID=America/Toronto:20250906T120000
DTSTAMP:20260423T063925
CREATED:20240829T204329Z
LAST-MODIFIED:20250830T035740Z
UID:10002408-1757152800-1757160000@radhakrishnamandir.ca
SUMMARY:Ganesh Visarjan
DESCRIPTION:
URL:https://radhakrishnamandir.ca/event/ganesh-visarjan/
LOCATION:Radha Krishna Mandir & Cultural Centre\, 85 Boxwood Drive\, Cambridge\, Ontario\, N3E 0A5\, Canada
CATEGORIES:Community Outreach,Events at Mandir,Special Events
ATTACH;FMTTYPE=image/png:https://radhakrishnamandir.ca/wp-content/uploads/2024/01/Final_Ganesh_Visarjan_2025-1.png
ORGANIZER;CN="Dwarka Persaud":MAILTO:president@radhakrishnamandir.ca
END:VEVENT
BEGIN:VEVENT
DTSTART;VALUE=DATE:20250907
DTEND;VALUE=DATE:20250922
DTSTAMP:20260423T063925
CREATED:20240123T161320Z
LAST-MODIFIED:20250830T212522Z
UID:10000347-1757203200-1758499199@radhakrishnamandir.ca
SUMMARY:Pitri Paksha (Register to offer Tilanjali at Mandir on Sept 13th\, 20th or 21st)
DESCRIPTION:
URL:https://radhakrishnamandir.ca/event/pitri-paksha/
LOCATION:Radha Krishna Mandir & Cultural Centre\, 85 Boxwood Drive\, Cambridge\, Ontario\, N3E 0A5\, Canada
CATEGORIES:Events at Mandir,Special Events
ATTACH;FMTTYPE=image/png:https://radhakrishnamandir.ca/wp-content/uploads/2024/01/Final_Pitri-Paksh_2025-6.png
ORGANIZER;CN="Panditji":MAILTO:rkmcc@radhakrishnamandir.ca
END:VEVENT
BEGIN:VEVENT
DTSTART;TZID=America/Toronto:20250907T100000
DTEND;TZID=America/Toronto:20250907T120000
DTSTAMP:20260423T063925
CREATED:20250826T130026Z
LAST-MODIFIED:20250826T130259Z
UID:10001771-1757239200-1757246400@radhakrishnamandir.ca
SUMMARY:Sunday Service
DESCRIPTION:
URL:https://radhakrishnamandir.ca/event/sunday-service_/2025-09-07/
LOCATION:Radha Krishna Mandir & Cultural Centre\, 85 Boxwood Drive\, Cambridge\, Ontario\, N3E 0A5\, Canada
CATEGORIES:Events at Mandir
ATTACH;FMTTYPE=image/png:https://radhakrishnamandir.ca/wp-content/uploads/2024/12/Sunday_Service-1.png
ORGANIZER;CN="Panditji":MAILTO:info@radhakrishnamandir.ca
END:VEVENT
BEGIN:VEVENT
DTSTART;TZID=America/Toronto:20250909T180000
DTEND;TZID=America/Toronto:20250909T200000
DTSTAMP:20260423T063925
CREATED:20250508T160210Z
LAST-MODIFIED:20251124T045349Z
UID:10003838-1757440800-1757448000@radhakrishnamandir.ca
SUMMARY:Hanuman ji Chalisa Satsang
DESCRIPTION:
URL:https://radhakrishnamandir.ca/event/hanuman-chalisa-3/2025-09-09/
LOCATION:Radha Krishna Mandir & Cultural Centre\, 85 Boxwood Drive\, Cambridge\, Ontario\, N3E 0A5\, Canada
CATEGORIES:Events at Mandir,Special Events
ORGANIZER;CN="Panditji":MAILTO:rkmcc@radhakrishnamandir.ca
END:VEVENT
BEGIN:VEVENT
DTSTART;TZID=America/Toronto:20250910T180000
DTEND;TZID=America/Toronto:20250910T200000
DTSTAMP:20260423T063925
CREATED:20250830T142732Z
LAST-MODIFIED:20251025T161010Z
UID:10002738-1757527200-1757534400@radhakrishnamandir.ca
SUMMARY:Shri Krishna Puja
DESCRIPTION:
URL:https://radhakrishnamandir.ca/event/shri-krishna-puja-2/2025-09-10/
LOCATION:Radha Krishna Mandir & Cultural Centre\, 85 Boxwood Drive\, Cambridge\, Ontario\, N3E 0A5\, Canada
CATEGORIES:Culture,Events at Mandir,Special Events
ATTACH;FMTTYPE=image/png:https://radhakrishnamandir.ca/wp-content/uploads/2025/08/unnamed.png
END:VEVENT
BEGIN:VEVENT
DTSTART;TZID=America/Toronto:20250914T170000
DTEND;TZID=America/Toronto:20250914T190000
DTSTAMP:20260423T063925
CREATED:20250526T002551Z
LAST-MODIFIED:20250526T002805Z
UID:10003356-1757869200-1757876400@radhakrishnamandir.ca
SUMMARY:Satsangh
DESCRIPTION:
URL:https://radhakrishnamandir.ca/event/monthly-satsangh-2-2/2025-09-14/
LOCATION:Radha Krishna Mandir & Cultural Centre\, 85 Boxwood Drive\, Cambridge\, Ontario\, N3E 0A5\, Canada
CATEGORIES:Culture,Events at Mandir
END:VEVENT
BEGIN:VEVENT
DTSTART;TZID=America/Toronto:20250916T180000
DTEND;TZID=America/Toronto:20250916T200000
DTSTAMP:20260423T063925
CREATED:20250508T160210Z
LAST-MODIFIED:20251124T045349Z
UID:10003839-1758045600-1758052800@radhakrishnamandir.ca
SUMMARY:Hanuman ji Chalisa Satsang
DESCRIPTION:
URL:https://radhakrishnamandir.ca/event/hanuman-chalisa-3/2025-09-16/
LOCATION:Radha Krishna Mandir & Cultural Centre\, 85 Boxwood Drive\, Cambridge\, Ontario\, N3E 0A5\, Canada
CATEGORIES:Events at Mandir,Special Events
ORGANIZER;CN="Panditji":MAILTO:rkmcc@radhakrishnamandir.ca
END:VEVENT
BEGIN:VEVENT
DTSTART;TZID=America/Toronto:20250917T180000
DTEND;TZID=America/Toronto:20250917T200000
DTSTAMP:20260423T063925
CREATED:20250830T142732Z
LAST-MODIFIED:20251025T161010Z
UID:10002739-1758132000-1758139200@radhakrishnamandir.ca
SUMMARY:Shri Krishna Puja
DESCRIPTION:
URL:https://radhakrishnamandir.ca/event/shri-krishna-puja-2/2025-09-17/
LOCATION:Radha Krishna Mandir & Cultural Centre\, 85 Boxwood Drive\, Cambridge\, Ontario\, N3E 0A5\, Canada
CATEGORIES:Culture,Events at Mandir,Special Events
ATTACH;FMTTYPE=image/png:https://radhakrishnamandir.ca/wp-content/uploads/2025/08/unnamed.png
END:VEVENT
BEGIN:VEVENT
DTSTART;TZID=America/Toronto:20250921T100000
DTEND;TZID=America/Toronto:20250921T120000
DTSTAMP:20260423T063925
CREATED:20250826T130026Z
LAST-MODIFIED:20250826T130259Z
UID:10001773-1758448800-1758456000@radhakrishnamandir.ca
SUMMARY:Sunday Service
DESCRIPTION:
URL:https://radhakrishnamandir.ca/event/sunday-service_/2025-09-21/
LOCATION:Radha Krishna Mandir & Cultural Centre\, 85 Boxwood Drive\, Cambridge\, Ontario\, N3E 0A5\, Canada
CATEGORIES:Events at Mandir
ATTACH;FMTTYPE=image/png:https://radhakrishnamandir.ca/wp-content/uploads/2024/12/Sunday_Service-1.png
ORGANIZER;CN="Panditji":MAILTO:info@radhakrishnamandir.ca
END:VEVENT
BEGIN:VEVENT
DTSTART;TZID=America/Toronto:20250922T183000
DTEND;TZID=America/Toronto:20250930T210000
DTSTAMP:20260423T063925
CREATED:20240123T161442Z
LAST-MODIFIED:20250919T211649Z
UID:10000348-1758565800-1759266000@radhakrishnamandir.ca
SUMMARY:Sharaad Nauraatri ( Call us to sponsor puja)
DESCRIPTION:
URL:https://radhakrishnamandir.ca/event/sharaad-nauraatri/
LOCATION:Radha Krishna Mandir & Cultural Centre\, 85 Boxwood Drive\, Cambridge\, Ontario\, N3E 0A5\, Canada
CATEGORIES:Events at Mandir,Special Events
ATTACH;FMTTYPE=image/png:https://radhakrishnamandir.ca/wp-content/uploads/2024/01/Final_Sharad_Navratri_2025.png
END:VEVENT
BEGIN:VEVENT
DTSTART;TZID=America/Toronto:20250928T100000
DTEND;TZID=America/Toronto:20250928T120000
DTSTAMP:20260423T063925
CREATED:20250826T130026Z
LAST-MODIFIED:20250826T130259Z
UID:10001774-1759053600-1759060800@radhakrishnamandir.ca
SUMMARY:Sunday Service
DESCRIPTION:
URL:https://radhakrishnamandir.ca/event/sunday-service_/2025-09-28/
LOCATION:Radha Krishna Mandir & Cultural Centre\, 85 Boxwood Drive\, Cambridge\, Ontario\, N3E 0A5\, Canada
CATEGORIES:Events at Mandir
ATTACH;FMTTYPE=image/png:https://radhakrishnamandir.ca/wp-content/uploads/2024/12/Sunday_Service-1.png
ORGANIZER;CN="Panditji":MAILTO:info@radhakrishnamandir.ca
END:VEVENT
BEGIN:VEVENT
DTSTART;TZID=America/Toronto:20251001T183000
DTEND;TZID=America/Toronto:20251001T200000
DTSTAMP:20260423T063925
CREATED:20241003T020558Z
LAST-MODIFIED:20250827T023615Z
UID:10002424-1759343400-1759348800@radhakrishnamandir.ca
SUMMARY:Dusshera
DESCRIPTION:
URL:https://radhakrishnamandir.ca/event/dusshera/
LOCATION:Radha Krishna Mandir & Cultural Centre\, 85 Boxwood Drive\, Cambridge\, Ontario\, N3E 0A5\, Canada
CATEGORIES:Events at Mandir
ATTACH;FMTTYPE=image/png:https://radhakrishnamandir.ca/wp-content/uploads/2024/10/Final_Dussehra_2025-.png
ORGANIZER;CN="Panditji":MAILTO:rkmcc@radhakrishnamandir.ca
END:VEVENT
END:VCALENDAR