BEGIN:VCALENDAR
VERSION:2.0
PRODID:-//Radha Krishna Mandir &amp; Cultural Centre, Cambridge Ontario - ECPv6.15.20//NONSGML v1.0//EN
CALSCALE:GREGORIAN
METHOD:PUBLISH
X-WR-CALNAME:Radha Krishna Mandir &amp; Cultural Centre, Cambridge Ontario
X-ORIGINAL-URL:https://radhakrishnamandir.ca
X-WR-CALDESC:Events for Radha Krishna Mandir &amp; Cultural Centre, Cambridge Ontario
REFRESH-INTERVAL;VALUE=DURATION:PT1H
X-Robots-Tag:noindex
X-PUBLISHED-TTL:PT1H
BEGIN:VTIMEZONE
TZID:America/Toronto
BEGIN:DAYLIGHT
TZOFFSETFROM:-0500
TZOFFSETTO:-0400
TZNAME:EDT
DTSTART:20280312T070000
END:DAYLIGHT
BEGIN:STANDARD
TZOFFSETFROM:-0400
TZOFFSETTO:-0500
TZNAME:EST
DTSTART:20281105T060000
END:STANDARD
BEGIN:DAYLIGHT
TZOFFSETFROM:-0500
TZOFFSETTO:-0400
TZNAME:EDT
DTSTART:20290311T070000
END:DAYLIGHT
BEGIN:STANDARD
TZOFFSETFROM:-0400
TZOFFSETTO:-0500
TZNAME:EST
DTSTART:20291104T060000
END:STANDARD
BEGIN:DAYLIGHT
TZOFFSETFROM:-0500
TZOFFSETTO:-0400
TZNAME:EDT
DTSTART:20300310T070000
END:DAYLIGHT
BEGIN:STANDARD
TZOFFSETFROM:-0400
TZOFFSETTO:-0500
TZNAME:EST
DTSTART:20301103T060000
END:STANDARD
END:VTIMEZONE
BEGIN:VEVENT
DTSTART;TZID=America/Toronto:20290813T183000
DTEND;TZID=America/Toronto:20290813T200000
DTSTAMP:20260420T101539
CREATED:20260405T210609Z
LAST-MODIFIED:20260405T210612Z
UID:10003642-1881340200-1881345600@radhakrishnamandir.ca
SUMMARY:Lord Shiva (Rudra) Abhishek
DESCRIPTION:
URL:https://radhakrishnamandir.ca/event/shiva-abhishek-3-2-2-2/2029-08-13/
LOCATION:Radha Krishna Mandir & Cultural Centre\, 85 Boxwood Drive\, Cambridge\, Ontario\, N3E 0A5\, Canada
CATEGORIES:Events at Mandir
ATTACH;FMTTYPE=image/png:https://radhakrishnamandir.ca/wp-content/uploads/2025/10/Mondays-lord-shiva_2026-1.png
ORGANIZER;CN="Panditji":MAILTO:rkmcc@radhakrishnamandir.ca
END:VEVENT
BEGIN:VEVENT
DTSTART;TZID=America/Toronto:20290819T100000
DTEND;TZID=America/Toronto:20290819T120000
DTSTAMP:20260420T101539
CREATED:20260405T211126Z
LAST-MODIFIED:20260405T211130Z
UID:10002417-1881828000-1881835200@radhakrishnamandir.ca
SUMMARY:Sunday Service
DESCRIPTION:Sunday Program\nJoin us on Sunday! Programming begins at 10:00 AM and continues until noon\, followed by a  lunch. If you would like to sit for puja or sponsor/provide lunch for attendees\, please give us a call or email us.
URL:https://radhakrishnamandir.ca/event/sunday-service-6-2-2-2/2029-08-19/
LOCATION:Radha Krishna Mandir & Cultural Centre\, 85 Boxwood Drive\, Cambridge\, Ontario\, N3E 0A5\, Canada
CATEGORIES:Events at Mandir
ATTACH;FMTTYPE=image/png:https://radhakrishnamandir.ca/wp-content/uploads/2025/10/Sunday_Service_2026-1.png
ORGANIZER;CN="Panditji":MAILTO:info@radhakrishnamandir.ca
END:VEVENT
BEGIN:VEVENT
DTSTART;TZID=America/Toronto:20290819T170000
DTEND;TZID=America/Toronto:20290819T190000
DTSTAMP:20260420T101539
CREATED:20260327T124953Z
LAST-MODIFIED:20260406T020646Z
UID:10004101-1881853200-1881860400@radhakrishnamandir.ca
SUMMARY:Satsangh
DESCRIPTION: 
URL:https://radhakrishnamandir.ca/event/monthly-satsangh-2-2-2-3/2029-08-19/
LOCATION:Radha Krishna Mandir & Cultural Centre\, 85 Boxwood Drive\, Cambridge\, Ontario\, N3E 0A5\, Canada
CATEGORIES:Culture,Events at Mandir
ATTACH;FMTTYPE=image/png:https://radhakrishnamandir.ca/wp-content/uploads/2026/03/Monthly_-Sunday_Puja_-2025-4.png
END:VEVENT
BEGIN:VEVENT
DTSTART;TZID=America/Toronto:20290820T183000
DTEND;TZID=America/Toronto:20290820T200000
DTSTAMP:20260420T101539
CREATED:20260405T210609Z
LAST-MODIFIED:20260405T210612Z
UID:10003643-1881945000-1881950400@radhakrishnamandir.ca
SUMMARY:Lord Shiva (Rudra) Abhishek
DESCRIPTION:
URL:https://radhakrishnamandir.ca/event/shiva-abhishek-3-2-2-2/2029-08-20/
LOCATION:Radha Krishna Mandir & Cultural Centre\, 85 Boxwood Drive\, Cambridge\, Ontario\, N3E 0A5\, Canada
CATEGORIES:Events at Mandir
ATTACH;FMTTYPE=image/png:https://radhakrishnamandir.ca/wp-content/uploads/2025/10/Mondays-lord-shiva_2026-1.png
ORGANIZER;CN="Panditji":MAILTO:rkmcc@radhakrishnamandir.ca
END:VEVENT
BEGIN:VEVENT
DTSTART;TZID=America/Toronto:20290826T100000
DTEND;TZID=America/Toronto:20290826T120000
DTSTAMP:20260420T101539
CREATED:20260405T211126Z
LAST-MODIFIED:20260405T211130Z
UID:10002418-1882432800-1882440000@radhakrishnamandir.ca
SUMMARY:Sunday Service
DESCRIPTION:Sunday Program\nJoin us on Sunday! Programming begins at 10:00 AM and continues until noon\, followed by a  lunch. If you would like to sit for puja or sponsor/provide lunch for attendees\, please give us a call or email us.
URL:https://radhakrishnamandir.ca/event/sunday-service-6-2-2-2/2029-08-26/
LOCATION:Radha Krishna Mandir & Cultural Centre\, 85 Boxwood Drive\, Cambridge\, Ontario\, N3E 0A5\, Canada
CATEGORIES:Events at Mandir
ATTACH;FMTTYPE=image/png:https://radhakrishnamandir.ca/wp-content/uploads/2025/10/Sunday_Service_2026-1.png
ORGANIZER;CN="Panditji":MAILTO:info@radhakrishnamandir.ca
END:VEVENT
BEGIN:VEVENT
DTSTART;TZID=America/Toronto:20290827T183000
DTEND;TZID=America/Toronto:20290827T200000
DTSTAMP:20260420T101539
CREATED:20260405T210609Z
LAST-MODIFIED:20260405T210612Z
UID:10003644-1882549800-1882555200@radhakrishnamandir.ca
SUMMARY:Lord Shiva (Rudra) Abhishek
DESCRIPTION:
URL:https://radhakrishnamandir.ca/event/shiva-abhishek-3-2-2-2/2029-08-27/
LOCATION:Radha Krishna Mandir & Cultural Centre\, 85 Boxwood Drive\, Cambridge\, Ontario\, N3E 0A5\, Canada
CATEGORIES:Events at Mandir
ATTACH;FMTTYPE=image/png:https://radhakrishnamandir.ca/wp-content/uploads/2025/10/Mondays-lord-shiva_2026-1.png
ORGANIZER;CN="Panditji":MAILTO:rkmcc@radhakrishnamandir.ca
END:VEVENT
BEGIN:VEVENT
DTSTART;TZID=America/Toronto:20290902T100000
DTEND;TZID=America/Toronto:20290902T120000
DTSTAMP:20260420T101539
CREATED:20260405T211126Z
LAST-MODIFIED:20260405T211130Z
UID:10002437-1883037600-1883044800@radhakrishnamandir.ca
SUMMARY:Sunday Service
DESCRIPTION:Sunday Program\nJoin us on Sunday! Programming begins at 10:00 AM and continues until noon\, followed by a  lunch. If you would like to sit for puja or sponsor/provide lunch for attendees\, please give us a call or email us.
URL:https://radhakrishnamandir.ca/event/sunday-service-6-2-2-2/2029-09-02/
LOCATION:Radha Krishna Mandir & Cultural Centre\, 85 Boxwood Drive\, Cambridge\, Ontario\, N3E 0A5\, Canada
CATEGORIES:Events at Mandir
ATTACH;FMTTYPE=image/png:https://radhakrishnamandir.ca/wp-content/uploads/2025/10/Sunday_Service_2026-1.png
ORGANIZER;CN="Panditji":MAILTO:info@radhakrishnamandir.ca
END:VEVENT
BEGIN:VEVENT
DTSTART;TZID=America/Toronto:20290903T183000
DTEND;TZID=America/Toronto:20290903T200000
DTSTAMP:20260420T101539
CREATED:20260405T210609Z
LAST-MODIFIED:20260405T210612Z
UID:10003645-1883154600-1883160000@radhakrishnamandir.ca
SUMMARY:Lord Shiva (Rudra) Abhishek
DESCRIPTION:
URL:https://radhakrishnamandir.ca/event/shiva-abhishek-3-2-2-2/2029-09-03/
LOCATION:Radha Krishna Mandir & Cultural Centre\, 85 Boxwood Drive\, Cambridge\, Ontario\, N3E 0A5\, Canada
CATEGORIES:Events at Mandir
ATTACH;FMTTYPE=image/png:https://radhakrishnamandir.ca/wp-content/uploads/2025/10/Mondays-lord-shiva_2026-1.png
ORGANIZER;CN="Panditji":MAILTO:rkmcc@radhakrishnamandir.ca
END:VEVENT
BEGIN:VEVENT
DTSTART;TZID=America/Toronto:20290909T100000
DTEND;TZID=America/Toronto:20290909T120000
DTSTAMP:20260420T101539
CREATED:20260405T211126Z
LAST-MODIFIED:20260405T211130Z
UID:10003785-1883642400-1883649600@radhakrishnamandir.ca
SUMMARY:Sunday Service
DESCRIPTION:Sunday Program\nJoin us on Sunday! Programming begins at 10:00 AM and continues until noon\, followed by a  lunch. If you would like to sit for puja or sponsor/provide lunch for attendees\, please give us a call or email us.
URL:https://radhakrishnamandir.ca/event/sunday-service-6-2-2-2/2029-09-09/
LOCATION:Radha Krishna Mandir & Cultural Centre\, 85 Boxwood Drive\, Cambridge\, Ontario\, N3E 0A5\, Canada
CATEGORIES:Events at Mandir
ATTACH;FMTTYPE=image/png:https://radhakrishnamandir.ca/wp-content/uploads/2025/10/Sunday_Service_2026-1.png
ORGANIZER;CN="Panditji":MAILTO:info@radhakrishnamandir.ca
END:VEVENT
BEGIN:VEVENT
DTSTART;TZID=America/Toronto:20290910T183000
DTEND;TZID=America/Toronto:20290910T200000
DTSTAMP:20260420T101539
CREATED:20260405T210609Z
LAST-MODIFIED:20260405T210612Z
UID:10003646-1883759400-1883764800@radhakrishnamandir.ca
SUMMARY:Lord Shiva (Rudra) Abhishek
DESCRIPTION:
URL:https://radhakrishnamandir.ca/event/shiva-abhishek-3-2-2-2/2029-09-10/
LOCATION:Radha Krishna Mandir & Cultural Centre\, 85 Boxwood Drive\, Cambridge\, Ontario\, N3E 0A5\, Canada
CATEGORIES:Events at Mandir
ATTACH;FMTTYPE=image/png:https://radhakrishnamandir.ca/wp-content/uploads/2025/10/Mondays-lord-shiva_2026-1.png
ORGANIZER;CN="Panditji":MAILTO:rkmcc@radhakrishnamandir.ca
END:VEVENT
BEGIN:VEVENT
DTSTART;TZID=America/Toronto:20290916T100000
DTEND;TZID=America/Toronto:20290916T120000
DTSTAMP:20260420T101539
CREATED:20260405T211126Z
LAST-MODIFIED:20260405T211130Z
UID:10002438-1884247200-1884254400@radhakrishnamandir.ca
SUMMARY:Sunday Service
DESCRIPTION:Sunday Program\nJoin us on Sunday! Programming begins at 10:00 AM and continues until noon\, followed by a  lunch. If you would like to sit for puja or sponsor/provide lunch for attendees\, please give us a call or email us.
URL:https://radhakrishnamandir.ca/event/sunday-service-6-2-2-2/2029-09-16/
LOCATION:Radha Krishna Mandir & Cultural Centre\, 85 Boxwood Drive\, Cambridge\, Ontario\, N3E 0A5\, Canada
CATEGORIES:Events at Mandir
ATTACH;FMTTYPE=image/png:https://radhakrishnamandir.ca/wp-content/uploads/2025/10/Sunday_Service_2026-1.png
ORGANIZER;CN="Panditji":MAILTO:info@radhakrishnamandir.ca
END:VEVENT
BEGIN:VEVENT
DTSTART;TZID=America/Toronto:20290916T170000
DTEND;TZID=America/Toronto:20290916T190000
DTSTAMP:20260420T101539
CREATED:20260327T124953Z
LAST-MODIFIED:20260406T020646Z
UID:10004102-1884272400-1884279600@radhakrishnamandir.ca
SUMMARY:Satsangh
DESCRIPTION: 
URL:https://radhakrishnamandir.ca/event/monthly-satsangh-2-2-2-3/2029-09-16/
LOCATION:Radha Krishna Mandir & Cultural Centre\, 85 Boxwood Drive\, Cambridge\, Ontario\, N3E 0A5\, Canada
CATEGORIES:Culture,Events at Mandir
ATTACH;FMTTYPE=image/png:https://radhakrishnamandir.ca/wp-content/uploads/2026/03/Monthly_-Sunday_Puja_-2025-4.png
END:VEVENT
BEGIN:VEVENT
DTSTART;TZID=America/Toronto:20290917T183000
DTEND;TZID=America/Toronto:20290917T200000
DTSTAMP:20260420T101539
CREATED:20260405T210609Z
LAST-MODIFIED:20260405T210612Z
UID:10003647-1884364200-1884369600@radhakrishnamandir.ca
SUMMARY:Lord Shiva (Rudra) Abhishek
DESCRIPTION:
URL:https://radhakrishnamandir.ca/event/shiva-abhishek-3-2-2-2/2029-09-17/
LOCATION:Radha Krishna Mandir & Cultural Centre\, 85 Boxwood Drive\, Cambridge\, Ontario\, N3E 0A5\, Canada
CATEGORIES:Events at Mandir
ATTACH;FMTTYPE=image/png:https://radhakrishnamandir.ca/wp-content/uploads/2025/10/Mondays-lord-shiva_2026-1.png
ORGANIZER;CN="Panditji":MAILTO:rkmcc@radhakrishnamandir.ca
END:VEVENT
BEGIN:VEVENT
DTSTART;TZID=America/Toronto:20290923T100000
DTEND;TZID=America/Toronto:20290923T120000
DTSTAMP:20260420T101539
CREATED:20260405T211126Z
LAST-MODIFIED:20260405T211130Z
UID:10002439-1884852000-1884859200@radhakrishnamandir.ca
SUMMARY:Sunday Service
DESCRIPTION:Sunday Program\nJoin us on Sunday! Programming begins at 10:00 AM and continues until noon\, followed by a  lunch. If you would like to sit for puja or sponsor/provide lunch for attendees\, please give us a call or email us.
URL:https://radhakrishnamandir.ca/event/sunday-service-6-2-2-2/2029-09-23/
LOCATION:Radha Krishna Mandir & Cultural Centre\, 85 Boxwood Drive\, Cambridge\, Ontario\, N3E 0A5\, Canada
CATEGORIES:Events at Mandir
ATTACH;FMTTYPE=image/png:https://radhakrishnamandir.ca/wp-content/uploads/2025/10/Sunday_Service_2026-1.png
ORGANIZER;CN="Panditji":MAILTO:info@radhakrishnamandir.ca
END:VEVENT
BEGIN:VEVENT
DTSTART;TZID=America/Toronto:20290924T183000
DTEND;TZID=America/Toronto:20290924T200000
DTSTAMP:20260420T101539
CREATED:20260405T210609Z
LAST-MODIFIED:20260405T210612Z
UID:10003648-1884969000-1884974400@radhakrishnamandir.ca
SUMMARY:Lord Shiva (Rudra) Abhishek
DESCRIPTION:
URL:https://radhakrishnamandir.ca/event/shiva-abhishek-3-2-2-2/2029-09-24/
LOCATION:Radha Krishna Mandir & Cultural Centre\, 85 Boxwood Drive\, Cambridge\, Ontario\, N3E 0A5\, Canada
CATEGORIES:Events at Mandir
ATTACH;FMTTYPE=image/png:https://radhakrishnamandir.ca/wp-content/uploads/2025/10/Mondays-lord-shiva_2026-1.png
ORGANIZER;CN="Panditji":MAILTO:rkmcc@radhakrishnamandir.ca
END:VEVENT
BEGIN:VEVENT
DTSTART;TZID=America/Toronto:20290930T100000
DTEND;TZID=America/Toronto:20290930T120000
DTSTAMP:20260420T101539
CREATED:20260405T211126Z
LAST-MODIFIED:20260405T211130Z
UID:10002440-1885456800-1885464000@radhakrishnamandir.ca
SUMMARY:Sunday Service
DESCRIPTION:Sunday Program\nJoin us on Sunday! Programming begins at 10:00 AM and continues until noon\, followed by a  lunch. If you would like to sit for puja or sponsor/provide lunch for attendees\, please give us a call or email us.
URL:https://radhakrishnamandir.ca/event/sunday-service-6-2-2-2/2029-09-30/
LOCATION:Radha Krishna Mandir & Cultural Centre\, 85 Boxwood Drive\, Cambridge\, Ontario\, N3E 0A5\, Canada
CATEGORIES:Events at Mandir
ATTACH;FMTTYPE=image/png:https://radhakrishnamandir.ca/wp-content/uploads/2025/10/Sunday_Service_2026-1.png
ORGANIZER;CN="Panditji":MAILTO:info@radhakrishnamandir.ca
END:VEVENT
BEGIN:VEVENT
DTSTART;TZID=America/Toronto:20291001T183000
DTEND;TZID=America/Toronto:20291001T200000
DTSTAMP:20260420T101539
CREATED:20260405T210609Z
LAST-MODIFIED:20260405T210612Z
UID:10003649-1885573800-1885579200@radhakrishnamandir.ca
SUMMARY:Lord Shiva (Rudra) Abhishek
DESCRIPTION:
URL:https://radhakrishnamandir.ca/event/shiva-abhishek-3-2-2-2/2029-10-01/
LOCATION:Radha Krishna Mandir & Cultural Centre\, 85 Boxwood Drive\, Cambridge\, Ontario\, N3E 0A5\, Canada
CATEGORIES:Events at Mandir
ATTACH;FMTTYPE=image/png:https://radhakrishnamandir.ca/wp-content/uploads/2025/10/Mondays-lord-shiva_2026-1.png
ORGANIZER;CN="Panditji":MAILTO:rkmcc@radhakrishnamandir.ca
END:VEVENT
BEGIN:VEVENT
DTSTART;TZID=America/Toronto:20291007T100000
DTEND;TZID=America/Toronto:20291007T120000
DTSTAMP:20260420T101539
CREATED:20260405T211126Z
LAST-MODIFIED:20260405T211130Z
UID:10002441-1886061600-1886068800@radhakrishnamandir.ca
SUMMARY:Sunday Service
DESCRIPTION:Sunday Program\nJoin us on Sunday! Programming begins at 10:00 AM and continues until noon\, followed by a  lunch. If you would like to sit for puja or sponsor/provide lunch for attendees\, please give us a call or email us.
URL:https://radhakrishnamandir.ca/event/sunday-service-6-2-2-2/2029-10-07/
LOCATION:Radha Krishna Mandir & Cultural Centre\, 85 Boxwood Drive\, Cambridge\, Ontario\, N3E 0A5\, Canada
CATEGORIES:Events at Mandir
ATTACH;FMTTYPE=image/png:https://radhakrishnamandir.ca/wp-content/uploads/2025/10/Sunday_Service_2026-1.png
ORGANIZER;CN="Panditji":MAILTO:info@radhakrishnamandir.ca
END:VEVENT
BEGIN:VEVENT
DTSTART;TZID=America/Toronto:20291008T183000
DTEND;TZID=America/Toronto:20291008T200000
DTSTAMP:20260420T101539
CREATED:20260405T210609Z
LAST-MODIFIED:20260405T210612Z
UID:10003650-1886178600-1886184000@radhakrishnamandir.ca
SUMMARY:Lord Shiva (Rudra) Abhishek
DESCRIPTION:
URL:https://radhakrishnamandir.ca/event/shiva-abhishek-3-2-2-2/2029-10-08/
LOCATION:Radha Krishna Mandir & Cultural Centre\, 85 Boxwood Drive\, Cambridge\, Ontario\, N3E 0A5\, Canada
CATEGORIES:Events at Mandir
ATTACH;FMTTYPE=image/png:https://radhakrishnamandir.ca/wp-content/uploads/2025/10/Mondays-lord-shiva_2026-1.png
ORGANIZER;CN="Panditji":MAILTO:rkmcc@radhakrishnamandir.ca
END:VEVENT
BEGIN:VEVENT
DTSTART;TZID=America/Toronto:20291014T100000
DTEND;TZID=America/Toronto:20291014T120000
DTSTAMP:20260420T101539
CREATED:20260405T211126Z
LAST-MODIFIED:20260405T211130Z
UID:10003786-1886666400-1886673600@radhakrishnamandir.ca
SUMMARY:Sunday Service
DESCRIPTION:Sunday Program\nJoin us on Sunday! Programming begins at 10:00 AM and continues until noon\, followed by a  lunch. If you would like to sit for puja or sponsor/provide lunch for attendees\, please give us a call or email us.
URL:https://radhakrishnamandir.ca/event/sunday-service-6-2-2-2/2029-10-14/
LOCATION:Radha Krishna Mandir & Cultural Centre\, 85 Boxwood Drive\, Cambridge\, Ontario\, N3E 0A5\, Canada
CATEGORIES:Events at Mandir
ATTACH;FMTTYPE=image/png:https://radhakrishnamandir.ca/wp-content/uploads/2025/10/Sunday_Service_2026-1.png
ORGANIZER;CN="Panditji":MAILTO:info@radhakrishnamandir.ca
END:VEVENT
BEGIN:VEVENT
DTSTART;TZID=America/Toronto:20291015T183000
DTEND;TZID=America/Toronto:20291015T200000
DTSTAMP:20260420T101539
CREATED:20260405T210609Z
LAST-MODIFIED:20260405T210612Z
UID:10003651-1886783400-1886788800@radhakrishnamandir.ca
SUMMARY:Lord Shiva (Rudra) Abhishek
DESCRIPTION:
URL:https://radhakrishnamandir.ca/event/shiva-abhishek-3-2-2-2/2029-10-15/
LOCATION:Radha Krishna Mandir & Cultural Centre\, 85 Boxwood Drive\, Cambridge\, Ontario\, N3E 0A5\, Canada
CATEGORIES:Events at Mandir
ATTACH;FMTTYPE=image/png:https://radhakrishnamandir.ca/wp-content/uploads/2025/10/Mondays-lord-shiva_2026-1.png
ORGANIZER;CN="Panditji":MAILTO:rkmcc@radhakrishnamandir.ca
END:VEVENT
BEGIN:VEVENT
DTSTART;TZID=America/Toronto:20291021T100000
DTEND;TZID=America/Toronto:20291021T120000
DTSTAMP:20260420T101539
CREATED:20260405T211126Z
LAST-MODIFIED:20260405T211130Z
UID:10002442-1887271200-1887278400@radhakrishnamandir.ca
SUMMARY:Sunday Service
DESCRIPTION:Sunday Program\nJoin us on Sunday! Programming begins at 10:00 AM and continues until noon\, followed by a  lunch. If you would like to sit for puja or sponsor/provide lunch for attendees\, please give us a call or email us.
URL:https://radhakrishnamandir.ca/event/sunday-service-6-2-2-2/2029-10-21/
LOCATION:Radha Krishna Mandir & Cultural Centre\, 85 Boxwood Drive\, Cambridge\, Ontario\, N3E 0A5\, Canada
CATEGORIES:Events at Mandir
ATTACH;FMTTYPE=image/png:https://radhakrishnamandir.ca/wp-content/uploads/2025/10/Sunday_Service_2026-1.png
ORGANIZER;CN="Panditji":MAILTO:info@radhakrishnamandir.ca
END:VEVENT
BEGIN:VEVENT
DTSTART;TZID=America/Toronto:20291021T170000
DTEND;TZID=America/Toronto:20291021T190000
DTSTAMP:20260420T101539
CREATED:20260327T124953Z
LAST-MODIFIED:20260406T020646Z
UID:10004103-1887296400-1887303600@radhakrishnamandir.ca
SUMMARY:Satsangh
DESCRIPTION: 
URL:https://radhakrishnamandir.ca/event/monthly-satsangh-2-2-2-3/2029-10-21/
LOCATION:Radha Krishna Mandir & Cultural Centre\, 85 Boxwood Drive\, Cambridge\, Ontario\, N3E 0A5\, Canada
CATEGORIES:Culture,Events at Mandir
ATTACH;FMTTYPE=image/png:https://radhakrishnamandir.ca/wp-content/uploads/2026/03/Monthly_-Sunday_Puja_-2025-4.png
END:VEVENT
BEGIN:VEVENT
DTSTART;TZID=America/Toronto:20291022T183000
DTEND;TZID=America/Toronto:20291022T200000
DTSTAMP:20260420T101540
CREATED:20260405T210609Z
LAST-MODIFIED:20260405T210612Z
UID:10003652-1887388200-1887393600@radhakrishnamandir.ca
SUMMARY:Lord Shiva (Rudra) Abhishek
DESCRIPTION:
URL:https://radhakrishnamandir.ca/event/shiva-abhishek-3-2-2-2/2029-10-22/
LOCATION:Radha Krishna Mandir & Cultural Centre\, 85 Boxwood Drive\, Cambridge\, Ontario\, N3E 0A5\, Canada
CATEGORIES:Events at Mandir
ATTACH;FMTTYPE=image/png:https://radhakrishnamandir.ca/wp-content/uploads/2025/10/Mondays-lord-shiva_2026-1.png
ORGANIZER;CN="Panditji":MAILTO:rkmcc@radhakrishnamandir.ca
END:VEVENT
BEGIN:VEVENT
DTSTART;TZID=America/Toronto:20291028T100000
DTEND;TZID=America/Toronto:20291028T120000
DTSTAMP:20260420T101540
CREATED:20260405T211126Z
LAST-MODIFIED:20260405T211130Z
UID:10002443-1887876000-1887883200@radhakrishnamandir.ca
SUMMARY:Sunday Service
DESCRIPTION:Sunday Program\nJoin us on Sunday! Programming begins at 10:00 AM and continues until noon\, followed by a  lunch. If you would like to sit for puja or sponsor/provide lunch for attendees\, please give us a call or email us.
URL:https://radhakrishnamandir.ca/event/sunday-service-6-2-2-2/2029-10-28/
LOCATION:Radha Krishna Mandir & Cultural Centre\, 85 Boxwood Drive\, Cambridge\, Ontario\, N3E 0A5\, Canada
CATEGORIES:Events at Mandir
ATTACH;FMTTYPE=image/png:https://radhakrishnamandir.ca/wp-content/uploads/2025/10/Sunday_Service_2026-1.png
ORGANIZER;CN="Panditji":MAILTO:info@radhakrishnamandir.ca
END:VEVENT
BEGIN:VEVENT
DTSTART;TZID=America/Toronto:20291029T183000
DTEND;TZID=America/Toronto:20291029T200000
DTSTAMP:20260420T101540
CREATED:20260405T210609Z
LAST-MODIFIED:20260405T210612Z
UID:10003653-1887993000-1887998400@radhakrishnamandir.ca
SUMMARY:Lord Shiva (Rudra) Abhishek
DESCRIPTION:
URL:https://radhakrishnamandir.ca/event/shiva-abhishek-3-2-2-2/2029-10-29/
LOCATION:Radha Krishna Mandir & Cultural Centre\, 85 Boxwood Drive\, Cambridge\, Ontario\, N3E 0A5\, Canada
CATEGORIES:Events at Mandir
ATTACH;FMTTYPE=image/png:https://radhakrishnamandir.ca/wp-content/uploads/2025/10/Mondays-lord-shiva_2026-1.png
ORGANIZER;CN="Panditji":MAILTO:rkmcc@radhakrishnamandir.ca
END:VEVENT
BEGIN:VEVENT
DTSTART;TZID=America/Toronto:20291104T100000
DTEND;TZID=America/Toronto:20291104T120000
DTSTAMP:20260420T101540
CREATED:20260405T211126Z
LAST-MODIFIED:20260405T211130Z
UID:10002444-1888480800-1888488000@radhakrishnamandir.ca
SUMMARY:Sunday Service
DESCRIPTION:Sunday Program\nJoin us on Sunday! Programming begins at 10:00 AM and continues until noon\, followed by a  lunch. If you would like to sit for puja or sponsor/provide lunch for attendees\, please give us a call or email us.
URL:https://radhakrishnamandir.ca/event/sunday-service-6-2-2-2/2029-11-04/
LOCATION:Radha Krishna Mandir & Cultural Centre\, 85 Boxwood Drive\, Cambridge\, Ontario\, N3E 0A5\, Canada
CATEGORIES:Events at Mandir
ATTACH;FMTTYPE=image/png:https://radhakrishnamandir.ca/wp-content/uploads/2025/10/Sunday_Service_2026-1.png
ORGANIZER;CN="Panditji":MAILTO:info@radhakrishnamandir.ca
END:VEVENT
BEGIN:VEVENT
DTSTART;TZID=America/Toronto:20291105T183000
DTEND;TZID=America/Toronto:20291105T200000
DTSTAMP:20260420T101540
CREATED:20260405T210609Z
LAST-MODIFIED:20260405T210612Z
UID:10003654-1888597800-1888603200@radhakrishnamandir.ca
SUMMARY:Lord Shiva (Rudra) Abhishek
DESCRIPTION:
URL:https://radhakrishnamandir.ca/event/shiva-abhishek-3-2-2-2/2029-11-05/
LOCATION:Radha Krishna Mandir & Cultural Centre\, 85 Boxwood Drive\, Cambridge\, Ontario\, N3E 0A5\, Canada
CATEGORIES:Events at Mandir
ATTACH;FMTTYPE=image/png:https://radhakrishnamandir.ca/wp-content/uploads/2025/10/Mondays-lord-shiva_2026-1.png
ORGANIZER;CN="Panditji":MAILTO:rkmcc@radhakrishnamandir.ca
END:VEVENT
BEGIN:VEVENT
DTSTART;TZID=America/Toronto:20291111T100000
DTEND;TZID=America/Toronto:20291111T120000
DTSTAMP:20260420T101540
CREATED:20260405T211126Z
LAST-MODIFIED:20260405T211130Z
UID:10003787-1889085600-1889092800@radhakrishnamandir.ca
SUMMARY:Sunday Service
DESCRIPTION:Sunday Program\nJoin us on Sunday! Programming begins at 10:00 AM and continues until noon\, followed by a  lunch. If you would like to sit for puja or sponsor/provide lunch for attendees\, please give us a call or email us.
URL:https://radhakrishnamandir.ca/event/sunday-service-6-2-2-2/2029-11-11/
LOCATION:Radha Krishna Mandir & Cultural Centre\, 85 Boxwood Drive\, Cambridge\, Ontario\, N3E 0A5\, Canada
CATEGORIES:Events at Mandir
ATTACH;FMTTYPE=image/png:https://radhakrishnamandir.ca/wp-content/uploads/2025/10/Sunday_Service_2026-1.png
ORGANIZER;CN="Panditji":MAILTO:info@radhakrishnamandir.ca
END:VEVENT
BEGIN:VEVENT
DTSTART;TZID=America/Toronto:20291112T183000
DTEND;TZID=America/Toronto:20291112T200000
DTSTAMP:20260420T101540
CREATED:20260405T210609Z
LAST-MODIFIED:20260405T210612Z
UID:10003655-1889202600-1889208000@radhakrishnamandir.ca
SUMMARY:Lord Shiva (Rudra) Abhishek
DESCRIPTION:
URL:https://radhakrishnamandir.ca/event/shiva-abhishek-3-2-2-2/2029-11-12/
LOCATION:Radha Krishna Mandir & Cultural Centre\, 85 Boxwood Drive\, Cambridge\, Ontario\, N3E 0A5\, Canada
CATEGORIES:Events at Mandir
ATTACH;FMTTYPE=image/png:https://radhakrishnamandir.ca/wp-content/uploads/2025/10/Mondays-lord-shiva_2026-1.png
ORGANIZER;CN="Panditji":MAILTO:rkmcc@radhakrishnamandir.ca
END:VEVENT
END:VCALENDAR