BEGIN:VCALENDAR
VERSION:2.0
PRODID:-//Radha Krishna Mandir &amp; Cultural Centre, Cambridge Ontario - ECPv6.15.20//NONSGML v1.0//EN
CALSCALE:GREGORIAN
METHOD:PUBLISH
X-WR-CALNAME:Radha Krishna Mandir &amp; Cultural Centre, Cambridge Ontario
X-ORIGINAL-URL:https://radhakrishnamandir.ca
X-WR-CALDESC:Events for Radha Krishna Mandir &amp; Cultural Centre, Cambridge Ontario
REFRESH-INTERVAL;VALUE=DURATION:PT1H
X-Robots-Tag:noindex
X-PUBLISHED-TTL:PT1H
BEGIN:VTIMEZONE
TZID:America/Toronto
BEGIN:DAYLIGHT
TZOFFSETFROM:-0500
TZOFFSETTO:-0400
TZNAME:EDT
DTSTART:20240310T070000
END:DAYLIGHT
BEGIN:STANDARD
TZOFFSETFROM:-0400
TZOFFSETTO:-0500
TZNAME:EST
DTSTART:20241103T060000
END:STANDARD
BEGIN:DAYLIGHT
TZOFFSETFROM:-0500
TZOFFSETTO:-0400
TZNAME:EDT
DTSTART:20250309T070000
END:DAYLIGHT
BEGIN:STANDARD
TZOFFSETFROM:-0400
TZOFFSETTO:-0500
TZNAME:EST
DTSTART:20251102T060000
END:STANDARD
BEGIN:DAYLIGHT
TZOFFSETFROM:-0500
TZOFFSETTO:-0400
TZNAME:EDT
DTSTART:20260308T070000
END:DAYLIGHT
BEGIN:STANDARD
TZOFFSETFROM:-0400
TZOFFSETTO:-0500
TZNAME:EST
DTSTART:20261101T060000
END:STANDARD
END:VTIMEZONE
BEGIN:VEVENT
DTSTART;TZID=America/Toronto:20250504T100000
DTEND;TZID=America/Toronto:20250504T230000
DTSTAMP:20260420T142904
CREATED:20240731T190136Z
LAST-MODIFIED:20241010T125918Z
UID:10002379-1746352800-1746399600@radhakrishnamandir.ca
SUMMARY:Bal Vihar (by Registration only)
DESCRIPTION: 
URL:https://radhakrishnamandir.ca/event/bal-vihar-by-registration-only-2/2025-05-04/
LOCATION:Radha Krishna Mandir & Cultural Centre\, 85 Boxwood Drive\, Cambridge\, Ontario\, N3E 0A5\, Canada
CATEGORIES:Community Outreach,Culture,Events at Mandir
ATTACH;FMTTYPE=image/png:https://radhakrishnamandir.ca/wp-content/uploads/2024/01/Bal_vihar_2024.png
ORGANIZER;CN="Bhawna Lakhanpal":MAILTO:balvihar@radhakrishnamandir.ca
END:VEVENT
BEGIN:VEVENT
DTSTART;TZID=America/Toronto:20250504T100000
DTEND;TZID=America/Toronto:20250504T120000
DTSTAMP:20260420T142904
CREATED:20241229T041041Z
LAST-MODIFIED:20241229T041100Z
UID:10001753-1746352800-1746360000@radhakrishnamandir.ca
SUMMARY:Sunday Service
DESCRIPTION:Sunday Programming starts at 10 am till noon\, followed by lunch
URL:https://radhakrishnamandir.ca/event/sunday-service-3-2-2/2025-05-04/
LOCATION:Radha Krishna Mandir & Cultural Centre\, 85 Boxwood Drive\, Cambridge\, Ontario\, N3E 0A5\, Canada
CATEGORIES:Events at Mandir
ATTACH;FMTTYPE=image/png:https://radhakrishnamandir.ca/wp-content/uploads/2024/06/Sunday_upasna_pt.nikhil-1.png
ORGANIZER;CN="Panditji":MAILTO:info@radhakrishnamandir.ca
END:VEVENT
BEGIN:VEVENT
DTSTART;TZID=America/Toronto:20250430T180000
DTEND;TZID=America/Toronto:20250430T200000
DTSTAMP:20260420T142904
CREATED:20250125T003906Z
LAST-MODIFIED:20250830T141303Z
UID:10002722-1746036000-1746043200@radhakrishnamandir.ca
SUMMARY:Shri Krishna Puja
DESCRIPTION:
URL:https://radhakrishnamandir.ca/event/shri-krishna-puja/2025-04-30/
LOCATION:Radha Krishna Mandir & Cultural Centre\, 85 Boxwood Drive\, Cambridge\, Ontario\, N3E 0A5\, Canada
CATEGORIES:Culture,Events at Mandir,Special Events
ATTACH;FMTTYPE=image/png:https://radhakrishnamandir.ca/wp-content/uploads/2025/01/Weekly_Lord_Krishna_Puja_-2025-2.png
END:VEVENT
BEGIN:VEVENT
DTSTART;TZID=America/Toronto:20250429T180000
DTEND;TZID=America/Toronto:20250429T210000
DTSTAMP:20260420T142904
CREATED:20250426T134818Z
LAST-MODIFIED:20250426T134818Z
UID:10003200-1745949600-1745960400@radhakrishnamandir.ca
SUMMARY:Sri Hanuman ji Satsangh with Pt. Rajin Balgobind
DESCRIPTION:
URL:https://radhakrishnamandir.ca/event/shrihanumanji/
LOCATION:Radha Krishna Mandir & Cultural Centre\, 85 Boxwood Drive\, Cambridge\, Ontario\, N3E 0A5\, Canada
CATEGORIES:Culture,Events at Mandir,Special Events
ATTACH;FMTTYPE=image/jpeg:https://radhakrishnamandir.ca/wp-content/uploads/2025/04/tuesday.jpg
ORGANIZER;CN="Dwarka Persaud":MAILTO:president@radhakrishnamandir.ca
END:VEVENT
BEGIN:VEVENT
DTSTART;TZID=America/Toronto:20250428T180000
DTEND;TZID=America/Toronto:20250428T210000
DTSTAMP:20260420T142904
CREATED:20250426T134801Z
LAST-MODIFIED:20250426T134801Z
UID:10003199-1745863200-1745874000@radhakrishnamandir.ca
SUMMARY:Lord Shiva Satsangh with Pandit Rajin Balgobind
DESCRIPTION:
URL:https://radhakrishnamandir.ca/event/shivaji/
LOCATION:Radha Krishna Mandir & Cultural Centre\, 85 Boxwood Drive\, Cambridge\, Ontario\, N3E 0A5\, Canada
CATEGORIES:Culture,Events at Mandir,Special Events
ATTACH;FMTTYPE=image/jpeg:https://radhakrishnamandir.ca/wp-content/uploads/2025/04/monday.jpg
ORGANIZER;CN="Dwarka Persaud":MAILTO:president@radhakrishnamandir.ca
END:VEVENT
BEGIN:VEVENT
DTSTART;TZID=America/Toronto:20250428T173000
DTEND;TZID=America/Toronto:20250428T183000
DTSTAMP:20260420T142904
CREATED:20250428T124102Z
LAST-MODIFIED:20250428T124104Z
UID:10000937-1745861400-1745865000@radhakrishnamandir.ca
SUMMARY:Shiva Abhishek
DESCRIPTION:
URL:https://radhakrishnamandir.ca/event/shiva-abhishek-2/
LOCATION:Radha Krishna Mandir & Cultural Centre\, 85 Boxwood Drive\, Cambridge\, Ontario\, N3E 0A5\, Canada
CATEGORIES:Events at Mandir
ATTACH;FMTTYPE=image/jpeg:https://radhakrishnamandir.ca/wp-content/uploads/2024/01/lordshiva-e1709218431374.jpg
ORGANIZER;CN="Panditji":MAILTO:rkmcc@radhakrishnamandir.ca
END:VEVENT
BEGIN:VEVENT
DTSTART;TZID=America/Toronto:20250427T100000
DTEND;TZID=America/Toronto:20250427T230000
DTSTAMP:20260420T142904
CREATED:20240731T190136Z
LAST-MODIFIED:20241010T125918Z
UID:10002378-1745748000-1745794800@radhakrishnamandir.ca
SUMMARY:Bal Vihar (by Registration only)
DESCRIPTION: 
URL:https://radhakrishnamandir.ca/event/bal-vihar-by-registration-only-2/2025-04-27/
LOCATION:Radha Krishna Mandir & Cultural Centre\, 85 Boxwood Drive\, Cambridge\, Ontario\, N3E 0A5\, Canada
CATEGORIES:Community Outreach,Culture,Events at Mandir
ATTACH;FMTTYPE=image/png:https://radhakrishnamandir.ca/wp-content/uploads/2024/01/Bal_vihar_2024.png
ORGANIZER;CN="Bhawna Lakhanpal":MAILTO:balvihar@radhakrishnamandir.ca
END:VEVENT
BEGIN:VEVENT
DTSTART;TZID=America/Toronto:20250427T100000
DTEND;TZID=America/Toronto:20250427T120000
DTSTAMP:20260420T142904
CREATED:20241229T041041Z
LAST-MODIFIED:20241229T041100Z
UID:10001752-1745748000-1745755200@radhakrishnamandir.ca
SUMMARY:Sunday Service
DESCRIPTION:Sunday Programming starts at 10 am till noon\, followed by lunch
URL:https://radhakrishnamandir.ca/event/sunday-service-3-2-2/2025-04-27/
LOCATION:Radha Krishna Mandir & Cultural Centre\, 85 Boxwood Drive\, Cambridge\, Ontario\, N3E 0A5\, Canada
CATEGORIES:Events at Mandir
ATTACH;FMTTYPE=image/png:https://radhakrishnamandir.ca/wp-content/uploads/2024/06/Sunday_upasna_pt.nikhil-1.png
ORGANIZER;CN="Panditji":MAILTO:info@radhakrishnamandir.ca
END:VEVENT
BEGIN:VEVENT
DTSTART;TZID=America/Toronto:20250423T180000
DTEND;TZID=America/Toronto:20250423T200000
DTSTAMP:20260420T142904
CREATED:20250125T003906Z
LAST-MODIFIED:20250830T141303Z
UID:10002721-1745431200-1745438400@radhakrishnamandir.ca
SUMMARY:Shri Krishna Puja
DESCRIPTION:
URL:https://radhakrishnamandir.ca/event/shri-krishna-puja/2025-04-23/
LOCATION:Radha Krishna Mandir & Cultural Centre\, 85 Boxwood Drive\, Cambridge\, Ontario\, N3E 0A5\, Canada
CATEGORIES:Culture,Events at Mandir,Special Events
ATTACH;FMTTYPE=image/png:https://radhakrishnamandir.ca/wp-content/uploads/2025/01/Weekly_Lord_Krishna_Puja_-2025-2.png
END:VEVENT
BEGIN:VEVENT
DTSTART;TZID=America/Toronto:20250422T170000
DTEND;TZID=America/Toronto:20250422T200000
DTSTAMP:20260420T142904
CREATED:20250403T202612Z
LAST-MODIFIED:20250403T202722Z
UID:10003153-1745341200-1745352000@radhakrishnamandir.ca
SUMMARY:Hanuman Chalisa Satsang
DESCRIPTION:Jai Bajrangbali ji ki! \nPlease do come and take benefit of the blessings of Lord Hanumaan ji..We are always looking for the new sponsors for the program\nSo if you’re thinking to sponsor the Sunderkand Path\, Please call the temple at 519-650-1575 or you may anyone one the flyer. \nWe would love to hear from you.
URL:https://radhakrishnamandir.ca/event/hanuman-chalisa-2-2-2/2025-04-22/
LOCATION:Radha Krishna Mandir & Cultural Centre\, 85 Boxwood Drive\, Cambridge\, Ontario\, N3E 0A5\, Canada
CATEGORIES:Events at Mandir
ORGANIZER;CN="Panditji":MAILTO:rkmcc@radhakrishnamandir.ca
END:VEVENT
BEGIN:VEVENT
DTSTART;TZID=America/Toronto:20250421T190000
DTEND;TZID=America/Toronto:20250421T200000
DTSTAMP:20260420T142904
CREATED:20240123T162004Z
LAST-MODIFIED:20240223T135133Z
UID:10000936-1745262000-1745265600@radhakrishnamandir.ca
SUMMARY:Shiva Abhishek
DESCRIPTION:
URL:https://radhakrishnamandir.ca/event/shiva-abhishek/2025-04-21/
LOCATION:Radha Krishna Mandir & Cultural Centre\, 85 Boxwood Drive\, Cambridge\, Ontario\, N3E 0A5\, Canada
CATEGORIES:Events at Mandir
ATTACH;FMTTYPE=image/jpeg:https://radhakrishnamandir.ca/wp-content/uploads/2024/01/lordshiva-e1709218431374.jpg
ORGANIZER;CN="Panditji":MAILTO:rkmcc@radhakrishnamandir.ca
END:VEVENT
BEGIN:VEVENT
DTSTART;TZID=America/Toronto:20250420T100000
DTEND;TZID=America/Toronto:20250420T230000
DTSTAMP:20260420T142904
CREATED:20240731T190136Z
LAST-MODIFIED:20241010T125918Z
UID:10002377-1745143200-1745190000@radhakrishnamandir.ca
SUMMARY:Bal Vihar (by Registration only)
DESCRIPTION: 
URL:https://radhakrishnamandir.ca/event/bal-vihar-by-registration-only-2/2025-04-20/
LOCATION:Radha Krishna Mandir & Cultural Centre\, 85 Boxwood Drive\, Cambridge\, Ontario\, N3E 0A5\, Canada
CATEGORIES:Community Outreach,Culture,Events at Mandir
ATTACH;FMTTYPE=image/png:https://radhakrishnamandir.ca/wp-content/uploads/2024/01/Bal_vihar_2024.png
ORGANIZER;CN="Bhawna Lakhanpal":MAILTO:balvihar@radhakrishnamandir.ca
END:VEVENT
BEGIN:VEVENT
DTSTART;TZID=America/Toronto:20250420T100000
DTEND;TZID=America/Toronto:20250420T120000
DTSTAMP:20260420T142904
CREATED:20241229T041041Z
LAST-MODIFIED:20241229T041100Z
UID:10001751-1745143200-1745150400@radhakrishnamandir.ca
SUMMARY:Sunday Service
DESCRIPTION:Sunday Programming starts at 10 am till noon\, followed by lunch
URL:https://radhakrishnamandir.ca/event/sunday-service-3-2-2/2025-04-20/
LOCATION:Radha Krishna Mandir & Cultural Centre\, 85 Boxwood Drive\, Cambridge\, Ontario\, N3E 0A5\, Canada
CATEGORIES:Events at Mandir
ATTACH;FMTTYPE=image/png:https://radhakrishnamandir.ca/wp-content/uploads/2024/06/Sunday_upasna_pt.nikhil-1.png
ORGANIZER;CN="Panditji":MAILTO:info@radhakrishnamandir.ca
END:VEVENT
BEGIN:VEVENT
DTSTART;TZID=America/Toronto:20250419T170000
DTEND;TZID=America/Toronto:20250419T200000
DTSTAMP:20260420T142904
CREATED:20250130T203141Z
LAST-MODIFIED:20250417T105738Z
UID:10003141-1745082000-1745092800@radhakrishnamandir.ca
SUMMARY:Ram Leela: Prince of Ayodhya: Get your tickets limited seating
DESCRIPTION:Ram Leela Event – A Celebration of Story\, Culture\, &  Devotion \nSaturday April 19\, 2025\n\nEvent Location: Humanities Theatre\, located in the Hagey Hall Building (HH) at University of Waterloo\nParking in Lot H is included in the price of the ticket!
URL:https://radhakrishnamandir.ca/event/ram-leela/
LOCATION:University of Waterloo Humanities Theatre\, 200 University Avenue West\, Waterloo\, Ontario\, N2L 3G1\, Canada
CATEGORIES:Community Outreach,Culture,Fundraising,Special Events
ATTACH;FMTTYPE=image/jpeg:https://radhakrishnamandir.ca/wp-content/uploads/2025/01/Ram-Leela-Sponsors-v3-3-scaled.jpg
ORGANIZER;CN="Dwarka Persaud":MAILTO:president@radhakrishnamandir.ca
END:VEVENT
BEGIN:VEVENT
DTSTART;TZID=America/Toronto:20250416T180000
DTEND;TZID=America/Toronto:20250416T200000
DTSTAMP:20260420T142904
CREATED:20250125T003906Z
LAST-MODIFIED:20250830T141303Z
UID:10002720-1744826400-1744833600@radhakrishnamandir.ca
SUMMARY:Shri Krishna Puja
DESCRIPTION:
URL:https://radhakrishnamandir.ca/event/shri-krishna-puja/2025-04-16/
LOCATION:Radha Krishna Mandir & Cultural Centre\, 85 Boxwood Drive\, Cambridge\, Ontario\, N3E 0A5\, Canada
CATEGORIES:Culture,Events at Mandir,Special Events
ATTACH;FMTTYPE=image/png:https://radhakrishnamandir.ca/wp-content/uploads/2025/01/Weekly_Lord_Krishna_Puja_-2025-2.png
END:VEVENT
BEGIN:VEVENT
DTSTART;TZID=America/Toronto:20250415T170000
DTEND;TZID=America/Toronto:20250415T200000
DTSTAMP:20260420T142904
CREATED:20250403T202612Z
LAST-MODIFIED:20250403T202722Z
UID:10003152-1744736400-1744747200@radhakrishnamandir.ca
SUMMARY:Hanuman Chalisa Satsang
DESCRIPTION:Jai Bajrangbali ji ki! \nPlease do come and take benefit of the blessings of Lord Hanumaan ji..We are always looking for the new sponsors for the program\nSo if you’re thinking to sponsor the Sunderkand Path\, Please call the temple at 519-650-1575 or you may anyone one the flyer. \nWe would love to hear from you.
URL:https://radhakrishnamandir.ca/event/hanuman-chalisa-2-2-2/2025-04-15/
LOCATION:Radha Krishna Mandir & Cultural Centre\, 85 Boxwood Drive\, Cambridge\, Ontario\, N3E 0A5\, Canada
CATEGORIES:Events at Mandir
ORGANIZER;CN="Panditji":MAILTO:rkmcc@radhakrishnamandir.ca
END:VEVENT
BEGIN:VEVENT
DTSTART;TZID=America/Toronto:20250414T190000
DTEND;TZID=America/Toronto:20250414T200000
DTSTAMP:20260420T142904
CREATED:20240123T162004Z
LAST-MODIFIED:20240223T135133Z
UID:10000935-1744657200-1744660800@radhakrishnamandir.ca
SUMMARY:Shiva Abhishek
DESCRIPTION:
URL:https://radhakrishnamandir.ca/event/shiva-abhishek/2025-04-14/
LOCATION:Radha Krishna Mandir & Cultural Centre\, 85 Boxwood Drive\, Cambridge\, Ontario\, N3E 0A5\, Canada
CATEGORIES:Events at Mandir
ATTACH;FMTTYPE=image/jpeg:https://radhakrishnamandir.ca/wp-content/uploads/2024/01/lordshiva-e1709218431374.jpg
ORGANIZER;CN="Panditji":MAILTO:rkmcc@radhakrishnamandir.ca
END:VEVENT
BEGIN:VEVENT
DTSTART;TZID=America/Toronto:20250413T170000
DTEND;TZID=America/Toronto:20250413T190000
DTSTAMP:20260420T142904
CREATED:20250129T221117Z
LAST-MODIFIED:20250403T202411Z
UID:10003076-1744563600-1744570800@radhakrishnamandir.ca
SUMMARY:Satsangh
DESCRIPTION: 
URL:https://radhakrishnamandir.ca/event/monthly-satsangh/2025-04-13/
LOCATION:Radha Krishna Mandir & Cultural Centre\, 85 Boxwood Drive\, Cambridge\, Ontario\, N3E 0A5\, Canada
CATEGORIES:Culture,Events at Mandir
END:VEVENT
BEGIN:VEVENT
DTSTART;TZID=America/Toronto:20250413T100000
DTEND;TZID=America/Toronto:20250413T230000
DTSTAMP:20260420T142904
CREATED:20240731T190136Z
LAST-MODIFIED:20241010T125918Z
UID:10002376-1744538400-1744585200@radhakrishnamandir.ca
SUMMARY:Bal Vihar (by Registration only)
DESCRIPTION: 
URL:https://radhakrishnamandir.ca/event/bal-vihar-by-registration-only-2/2025-04-13/
LOCATION:Radha Krishna Mandir & Cultural Centre\, 85 Boxwood Drive\, Cambridge\, Ontario\, N3E 0A5\, Canada
CATEGORIES:Community Outreach,Culture,Events at Mandir
ATTACH;FMTTYPE=image/png:https://radhakrishnamandir.ca/wp-content/uploads/2024/01/Bal_vihar_2024.png
ORGANIZER;CN="Bhawna Lakhanpal":MAILTO:balvihar@radhakrishnamandir.ca
END:VEVENT
BEGIN:VEVENT
DTSTART;TZID=America/Toronto:20250413T100000
DTEND;TZID=America/Toronto:20250413T120000
DTSTAMP:20260420T142904
CREATED:20250403T195634Z
LAST-MODIFIED:20250403T195808Z
UID:10003016-1744538400-1744545600@radhakrishnamandir.ca
SUMMARY:Sunday Upasana with Pt. Avinash Sharma
DESCRIPTION:Pt. Avinash Sharma comes on second Sunday each month
URL:https://radhakrishnamandir.ca/event/sunday-upasana-6-2/2025-04-13/
LOCATION:Radha Krishna Mandir & Cultural Centre\, 85 Boxwood Drive\, Cambridge\, Ontario\, N3E 0A5\, Canada
CATEGORIES:Events at Mandir
ATTACH;FMTTYPE=image/jpeg:https://radhakrishnamandir.ca/wp-content/uploads/2024/05/Upasana.jpg
ORGANIZER;CN="Dwarka Persaud":MAILTO:president@radhakrishnamandir.ca
END:VEVENT
BEGIN:VEVENT
DTSTART;TZID=America/Toronto:20250409T180000
DTEND;TZID=America/Toronto:20250409T200000
DTSTAMP:20260420T142904
CREATED:20250125T003906Z
LAST-MODIFIED:20250830T141303Z
UID:10002719-1744221600-1744228800@radhakrishnamandir.ca
SUMMARY:Shri Krishna Puja
DESCRIPTION:
URL:https://radhakrishnamandir.ca/event/shri-krishna-puja/2025-04-09/
LOCATION:Radha Krishna Mandir & Cultural Centre\, 85 Boxwood Drive\, Cambridge\, Ontario\, N3E 0A5\, Canada
CATEGORIES:Culture,Events at Mandir,Special Events
ATTACH;FMTTYPE=image/png:https://radhakrishnamandir.ca/wp-content/uploads/2025/01/Weekly_Lord_Krishna_Puja_-2025-2.png
END:VEVENT
BEGIN:VEVENT
DTSTART;TZID=America/Toronto:20250408T170000
DTEND;TZID=America/Toronto:20250408T200000
DTSTAMP:20260420T142904
CREATED:20250403T202612Z
LAST-MODIFIED:20250403T202722Z
UID:10003151-1744131600-1744142400@radhakrishnamandir.ca
SUMMARY:Hanuman Chalisa Satsang
DESCRIPTION:Jai Bajrangbali ji ki! \nPlease do come and take benefit of the blessings of Lord Hanumaan ji..We are always looking for the new sponsors for the program\nSo if you’re thinking to sponsor the Sunderkand Path\, Please call the temple at 519-650-1575 or you may anyone one the flyer. \nWe would love to hear from you.
URL:https://radhakrishnamandir.ca/event/hanuman-chalisa-2-2-2/2025-04-08/
LOCATION:Radha Krishna Mandir & Cultural Centre\, 85 Boxwood Drive\, Cambridge\, Ontario\, N3E 0A5\, Canada
CATEGORIES:Events at Mandir
ORGANIZER;CN="Panditji":MAILTO:rkmcc@radhakrishnamandir.ca
END:VEVENT
BEGIN:VEVENT
DTSTART;TZID=America/Toronto:20250407T190000
DTEND;TZID=America/Toronto:20250407T200000
DTSTAMP:20260420T142904
CREATED:20240123T162004Z
LAST-MODIFIED:20240223T135133Z
UID:10000934-1744052400-1744056000@radhakrishnamandir.ca
SUMMARY:Shiva Abhishek
DESCRIPTION:
URL:https://radhakrishnamandir.ca/event/shiva-abhishek/2025-04-07/
LOCATION:Radha Krishna Mandir & Cultural Centre\, 85 Boxwood Drive\, Cambridge\, Ontario\, N3E 0A5\, Canada
CATEGORIES:Events at Mandir
ATTACH;FMTTYPE=image/jpeg:https://radhakrishnamandir.ca/wp-content/uploads/2024/01/lordshiva-e1709218431374.jpg
ORGANIZER;CN="Panditji":MAILTO:rkmcc@radhakrishnamandir.ca
END:VEVENT
BEGIN:VEVENT
DTSTART;TZID=America/Toronto:20250406T100000
DTEND;TZID=America/Toronto:20250406T230000
DTSTAMP:20260420T142904
CREATED:20240731T190136Z
LAST-MODIFIED:20241010T125918Z
UID:10002375-1743933600-1743980400@radhakrishnamandir.ca
SUMMARY:Bal Vihar (by Registration only)
DESCRIPTION: 
URL:https://radhakrishnamandir.ca/event/bal-vihar-by-registration-only-2/2025-04-06/
LOCATION:Radha Krishna Mandir & Cultural Centre\, 85 Boxwood Drive\, Cambridge\, Ontario\, N3E 0A5\, Canada
CATEGORIES:Community Outreach,Culture,Events at Mandir
ATTACH;FMTTYPE=image/png:https://radhakrishnamandir.ca/wp-content/uploads/2024/01/Bal_vihar_2024.png
ORGANIZER;CN="Bhawna Lakhanpal":MAILTO:balvihar@radhakrishnamandir.ca
END:VEVENT
BEGIN:VEVENT
DTSTART;TZID=America/Toronto:20250406T100000
DTEND;TZID=America/Toronto:20250406T120000
DTSTAMP:20260420T142904
CREATED:20250403T201121Z
LAST-MODIFIED:20250403T201148Z
UID:10001749-1743933600-1743940800@radhakrishnamandir.ca
SUMMARY:Sunday Service
DESCRIPTION:Sunday Programming starts at 10 am till noon\, followed by lunch
URL:https://radhakrishnamandir.ca/event/sunday-service-5/
LOCATION:Radha Krishna Mandir & Cultural Centre\, 85 Boxwood Drive\, Cambridge\, Ontario\, N3E 0A5\, Canada
CATEGORIES:Events at Mandir
ATTACH;FMTTYPE=image/png:https://radhakrishnamandir.ca/wp-content/uploads/2024/12/Copy-of-Pt.-Deo_Sunday_Service_2025.png
ORGANIZER;CN="Panditji":MAILTO:info@radhakrishnamandir.ca
END:VEVENT
BEGIN:VEVENT
DTSTART;TZID=America/Toronto:20250405T160000
DTEND;TZID=America/Toronto:20250405T200000
DTSTAMP:20260420T142905
CREATED:20250324T160024Z
LAST-MODIFIED:20250407T132002Z
UID:10003184-1743868800-1743883200@radhakrishnamandir.ca
SUMMARY:Mata Ki Chowki
DESCRIPTION:Mata Ki Chowki will be will done from 4 PM to 8 PM featuring Sunil Bharadwaj & team followed by Parvachan\, Bhajans\, Kirtans\, Aarti and Prasad. \n\n\n   \n 
URL:https://radhakrishnamandir.ca/event/mata-ki-chowki/
LOCATION:Radha Krishna Mandir & Cultural Centre\, 85 Boxwood Drive\, Cambridge\, Ontario\, N3E 0A5\, Canada
CATEGORIES:Events at Mandir
ATTACH;FMTTYPE=image/png:https://radhakrishnamandir.ca/wp-content/uploads/2025/03/Mata-Ki-Chowki_with-sponsors-2.png
ORGANIZER;CN="Dwarka Persaud":MAILTO:president@radhakrishnamandir.ca
END:VEVENT
BEGIN:VEVENT
DTSTART;TZID=America/Toronto:20250405T100000
DTEND;TZID=America/Toronto:20250405T120000
DTSTAMP:20260420T142905
CREATED:20240331T161559Z
LAST-MODIFIED:20250403T202103Z
UID:10001161-1743847200-1743854400@radhakrishnamandir.ca
SUMMARY:Ram Navami Celebrations (Morning)
DESCRIPTION:Ram Navami puja will be will done from 10 AM  there would be Ramayan chanting. Mandir will be open all day those who would like to come in for darshan.
URL:https://radhakrishnamandir.ca/event/ram-navami-celebrations/
LOCATION:Radha Krishna Mandir & Cultural Centre\, 85 Boxwood Drive\, Cambridge\, Ontario\, N3E 0A5\, Canada
CATEGORIES:Events at Mandir
ATTACH;FMTTYPE=image/png:https://radhakrishnamandir.ca/wp-content/uploads/2024/03/Ram-Navami_2025_updated.png
ORGANIZER;CN="Dwarka Persaud":MAILTO:president@radhakrishnamandir.ca
END:VEVENT
BEGIN:VEVENT
DTSTART;TZID=America/Toronto:20250403T183000
DTEND;TZID=America/Toronto:20250403T203000
DTSTAMP:20260420T142905
CREATED:20240331T155406Z
LAST-MODIFIED:20250226T124214Z
UID:10003139-1743705000-1743712200@radhakrishnamandir.ca
SUMMARY:Chaitra Nauraat Celebrations (Sign up to sponsor a Puja)
DESCRIPTION:Please sign up here to sponsor a puja
URL:https://radhakrishnamandir.ca/event/chaitra-navrati-celebrations/2025-04-03/
LOCATION:Radha Krishna Mandir & Cultural Centre\, 85 Boxwood Drive\, Cambridge\, Ontario\, N3E 0A5\, Canada
CATEGORIES:Culture,Events at Mandir
ATTACH;FMTTYPE=image/png:https://radhakrishnamandir.ca/wp-content/uploads/2024/03/Final_Chaitra-Nauraat_2025-1.png
ORGANIZER;CN="Panditji":MAILTO:rkmcc@radhakrishnamandir.ca
END:VEVENT
BEGIN:VEVENT
DTSTART;TZID=America/Toronto:20250402T183000
DTEND;TZID=America/Toronto:20250402T203000
DTSTAMP:20260420T142905
CREATED:20240331T155406Z
LAST-MODIFIED:20250226T124214Z
UID:10003138-1743618600-1743625800@radhakrishnamandir.ca
SUMMARY:Chaitra Nauraat Celebrations (Sign up to sponsor a Puja)
DESCRIPTION:Please sign up here to sponsor a puja
URL:https://radhakrishnamandir.ca/event/chaitra-navrati-celebrations/2025-04-02/
LOCATION:Radha Krishna Mandir & Cultural Centre\, 85 Boxwood Drive\, Cambridge\, Ontario\, N3E 0A5\, Canada
CATEGORIES:Culture,Events at Mandir
ATTACH;FMTTYPE=image/png:https://radhakrishnamandir.ca/wp-content/uploads/2024/03/Final_Chaitra-Nauraat_2025-1.png
ORGANIZER;CN="Panditji":MAILTO:rkmcc@radhakrishnamandir.ca
END:VEVENT
BEGIN:VEVENT
DTSTART;TZID=America/Toronto:20250401T183000
DTEND;TZID=America/Toronto:20250401T203000
DTSTAMP:20260420T142905
CREATED:20240331T155406Z
LAST-MODIFIED:20250226T124214Z
UID:10003137-1743532200-1743539400@radhakrishnamandir.ca
SUMMARY:Chaitra Nauraat Celebrations (Sign up to sponsor a Puja)
DESCRIPTION:Please sign up here to sponsor a puja
URL:https://radhakrishnamandir.ca/event/chaitra-navrati-celebrations/2025-04-01/
LOCATION:Radha Krishna Mandir & Cultural Centre\, 85 Boxwood Drive\, Cambridge\, Ontario\, N3E 0A5\, Canada
CATEGORIES:Culture,Events at Mandir
ATTACH;FMTTYPE=image/png:https://radhakrishnamandir.ca/wp-content/uploads/2024/03/Final_Chaitra-Nauraat_2025-1.png
ORGANIZER;CN="Panditji":MAILTO:rkmcc@radhakrishnamandir.ca
END:VEVENT
END:VCALENDAR