BEGIN:VCALENDAR
VERSION:2.0
PRODID:-//Radha Krishna Mandir &amp; Cultural Centre, Cambridge Ontario - ECPv6.15.20//NONSGML v1.0//EN
CALSCALE:GREGORIAN
METHOD:PUBLISH
X-WR-CALNAME:Radha Krishna Mandir &amp; Cultural Centre, Cambridge Ontario
X-ORIGINAL-URL:https://radhakrishnamandir.ca
X-WR-CALDESC:Events for Radha Krishna Mandir &amp; Cultural Centre, Cambridge Ontario
REFRESH-INTERVAL;VALUE=DURATION:PT1H
X-Robots-Tag:noindex
X-PUBLISHED-TTL:PT1H
BEGIN:VTIMEZONE
TZID:America/Toronto
BEGIN:DAYLIGHT
TZOFFSETFROM:-0500
TZOFFSETTO:-0400
TZNAME:EDT
DTSTART:20230312T070000
END:DAYLIGHT
BEGIN:STANDARD
TZOFFSETFROM:-0400
TZOFFSETTO:-0500
TZNAME:EST
DTSTART:20231105T060000
END:STANDARD
BEGIN:DAYLIGHT
TZOFFSETFROM:-0500
TZOFFSETTO:-0400
TZNAME:EDT
DTSTART:20240310T070000
END:DAYLIGHT
BEGIN:STANDARD
TZOFFSETFROM:-0400
TZOFFSETTO:-0500
TZNAME:EST
DTSTART:20241103T060000
END:STANDARD
BEGIN:DAYLIGHT
TZOFFSETFROM:-0500
TZOFFSETTO:-0400
TZNAME:EDT
DTSTART:20250309T070000
END:DAYLIGHT
BEGIN:STANDARD
TZOFFSETFROM:-0400
TZOFFSETTO:-0500
TZNAME:EST
DTSTART:20251102T060000
END:STANDARD
END:VTIMEZONE
BEGIN:VEVENT
DTSTART;TZID=America/Toronto:20241119T183000
DTEND;TZID=America/Toronto:20241119T203000
DTSTAMP:20260422T011528
CREATED:20241031T092339Z
LAST-MODIFIED:20241101T132740Z
UID:10000048-1732041000-1732048200@radhakrishnamandir.ca
SUMMARY:Hanuman Chalisa Satsang
DESCRIPTION:Hanumaan Chalisa Satsang \nJai Bajrangbali ji ki. Our humble request to all devotees to come and take advantage of Lord Hanumaan ji’s blessings..\nand celebrate together with us.
URL:https://radhakrishnamandir.ca/event/hanuman-chalisa-2/2024-11-19/
LOCATION:Radha Krishna Mandir & Cultural Centre\, 85 Boxwood Drive\, Cambridge\, Ontario\, N3E 0A5\, Canada
CATEGORIES:Events at Mandir
ATTACH;FMTTYPE=image/png:https://radhakrishnamandir.ca/wp-content/uploads/2024/02/Hanumanji_Every_tuesday.png
ORGANIZER;CN="Panditji":MAILTO:rkmcc@radhakrishnamandir.ca
END:VEVENT
BEGIN:VEVENT
DTSTART;TZID=America/Toronto:20241118T190000
DTEND;TZID=America/Toronto:20241118T200000
DTSTAMP:20260422T011528
CREATED:20240123T162004Z
LAST-MODIFIED:20240223T135133Z
UID:10000914-1731956400-1731960000@radhakrishnamandir.ca
SUMMARY:Shiva Abhishek
DESCRIPTION:
URL:https://radhakrishnamandir.ca/event/shiva-abhishek/2024-11-18/
LOCATION:Radha Krishna Mandir & Cultural Centre\, 85 Boxwood Drive\, Cambridge\, Ontario\, N3E 0A5\, Canada
CATEGORIES:Events at Mandir
ATTACH;FMTTYPE=image/jpeg:https://radhakrishnamandir.ca/wp-content/uploads/2024/01/lordshiva-e1709218431374.jpg
ORGANIZER;CN="Panditji":MAILTO:rkmcc@radhakrishnamandir.ca
END:VEVENT
BEGIN:VEVENT
DTSTART;TZID=America/Toronto:20241117T100000
DTEND;TZID=America/Toronto:20241117T230000
DTSTAMP:20260422T011528
CREATED:20240731T190136Z
LAST-MODIFIED:20241010T125918Z
UID:10002355-1731837600-1731884400@radhakrishnamandir.ca
SUMMARY:Bal Vihar (by Registration only)
DESCRIPTION: 
URL:https://radhakrishnamandir.ca/event/bal-vihar-by-registration-only-2/2024-11-17/
LOCATION:Radha Krishna Mandir & Cultural Centre\, 85 Boxwood Drive\, Cambridge\, Ontario\, N3E 0A5\, Canada
CATEGORIES:Community Outreach,Culture,Events at Mandir
ATTACH;FMTTYPE=image/png:https://radhakrishnamandir.ca/wp-content/uploads/2024/01/Bal_vihar_2024.png
ORGANIZER;CN="Bhawna Lakhanpal":MAILTO:balvihar@radhakrishnamandir.ca
END:VEVENT
BEGIN:VEVENT
DTSTART;TZID=America/Toronto:20241117T100000
DTEND;TZID=America/Toronto:20241117T120000
DTSTAMP:20260422T011528
CREATED:20241114T205726Z
LAST-MODIFIED:20241121T155527Z
UID:10001729-1731837600-1731844800@radhakrishnamandir.ca
SUMMARY:Sunday Service
DESCRIPTION:Sunday Programming starts at 10 am till noon\, followed by lunchpan
URL:https://radhakrishnamandir.ca/event/sunday-service-3-2/2024-11-17/
LOCATION:Radha Krishna Mandir & Cultural Centre\, 85 Boxwood Drive\, Cambridge\, Ontario\, N3E 0A5\, Canada
CATEGORIES:Events at Mandir
ATTACH;FMTTYPE=image/png:https://radhakrishnamandir.ca/wp-content/uploads/2024/06/Sunday_upasna_pt.nikhil-1.png
ORGANIZER;CN="Panditji":MAILTO:info@radhakrishnamandir.ca
END:VEVENT
BEGIN:VEVENT
DTSTART;TZID=America/Toronto:20241114T183000
DTEND;TZID=America/Toronto:20241114T203000
DTSTAMP:20260422T011528
CREATED:20241101T235128Z
LAST-MODIFIED:20241101T235435Z
UID:10002433-1731609000-1731616200@radhakrishnamandir.ca
SUMMARY:Gyan Satsangh with Pt. Munelal Maharaj
DESCRIPTION:
URL:https://radhakrishnamandir.ca/event/gyan-satsangh/2024-11-14/
LOCATION:Radha Krishna Mandir & Cultural Centre\, 85 Boxwood Drive\, Cambridge\, Ontario\, N3E 0A5\, Canada
CATEGORIES:Events at Mandir
ATTACH;FMTTYPE=image/png:https://radhakrishnamandir.ca/wp-content/uploads/2024/11/Final_Pt-Munelal_2024.png
ORGANIZER;CN="Dwarka Persaud":MAILTO:president@radhakrishnamandir.ca
END:VEVENT
BEGIN:VEVENT
DTSTART;TZID=America/Toronto:20241113T183000
DTEND;TZID=America/Toronto:20241113T203000
DTSTAMP:20260422T011528
CREATED:20241101T235128Z
LAST-MODIFIED:20241101T235435Z
UID:10002432-1731522600-1731529800@radhakrishnamandir.ca
SUMMARY:Gyan Satsangh with Pt. Munelal Maharaj
DESCRIPTION:
URL:https://radhakrishnamandir.ca/event/gyan-satsangh/2024-11-13/
LOCATION:Radha Krishna Mandir & Cultural Centre\, 85 Boxwood Drive\, Cambridge\, Ontario\, N3E 0A5\, Canada
CATEGORIES:Events at Mandir
ATTACH;FMTTYPE=image/png:https://radhakrishnamandir.ca/wp-content/uploads/2024/11/Final_Pt-Munelal_2024.png
ORGANIZER;CN="Dwarka Persaud":MAILTO:president@radhakrishnamandir.ca
END:VEVENT
BEGIN:VEVENT
DTSTART;TZID=America/Toronto:20241112T183000
DTEND;TZID=America/Toronto:20241112T203000
DTSTAMP:20260422T011528
CREATED:20241031T092339Z
LAST-MODIFIED:20241101T132740Z
UID:10000047-1731436200-1731443400@radhakrishnamandir.ca
SUMMARY:Hanuman Chalisa Satsang
DESCRIPTION:Hanumaan Chalisa Satsang \nJai Bajrangbali ji ki. Our humble request to all devotees to come and take advantage of Lord Hanumaan ji’s blessings..\nand celebrate together with us.
URL:https://radhakrishnamandir.ca/event/hanuman-chalisa-2/2024-11-12/
LOCATION:Radha Krishna Mandir & Cultural Centre\, 85 Boxwood Drive\, Cambridge\, Ontario\, N3E 0A5\, Canada
CATEGORIES:Events at Mandir
ATTACH;FMTTYPE=image/png:https://radhakrishnamandir.ca/wp-content/uploads/2024/02/Hanumanji_Every_tuesday.png
ORGANIZER;CN="Panditji":MAILTO:rkmcc@radhakrishnamandir.ca
END:VEVENT
BEGIN:VEVENT
DTSTART;TZID=America/Toronto:20241111T190000
DTEND;TZID=America/Toronto:20241111T200000
DTSTAMP:20260422T011528
CREATED:20240123T162004Z
LAST-MODIFIED:20240223T135133Z
UID:10000913-1731351600-1731355200@radhakrishnamandir.ca
SUMMARY:Shiva Abhishek
DESCRIPTION:
URL:https://radhakrishnamandir.ca/event/shiva-abhishek/2024-11-11/
LOCATION:Radha Krishna Mandir & Cultural Centre\, 85 Boxwood Drive\, Cambridge\, Ontario\, N3E 0A5\, Canada
CATEGORIES:Events at Mandir
ATTACH;FMTTYPE=image/jpeg:https://radhakrishnamandir.ca/wp-content/uploads/2024/01/lordshiva-e1709218431374.jpg
ORGANIZER;CN="Panditji":MAILTO:rkmcc@radhakrishnamandir.ca
END:VEVENT
BEGIN:VEVENT
DTSTART;TZID=America/Toronto:20241110T100000
DTEND;TZID=America/Toronto:20241110T230000
DTSTAMP:20260422T011528
CREATED:20240731T190136Z
LAST-MODIFIED:20241010T125918Z
UID:10002354-1731232800-1731279600@radhakrishnamandir.ca
SUMMARY:Bal Vihar (by Registration only)
DESCRIPTION: 
URL:https://radhakrishnamandir.ca/event/bal-vihar-by-registration-only-2/2024-11-10/
LOCATION:Radha Krishna Mandir & Cultural Centre\, 85 Boxwood Drive\, Cambridge\, Ontario\, N3E 0A5\, Canada
CATEGORIES:Community Outreach,Culture,Events at Mandir
ATTACH;FMTTYPE=image/png:https://radhakrishnamandir.ca/wp-content/uploads/2024/01/Bal_vihar_2024.png
ORGANIZER;CN="Bhawna Lakhanpal":MAILTO:balvihar@radhakrishnamandir.ca
END:VEVENT
BEGIN:VEVENT
DTSTART;TZID=America/Toronto:20241110T100000
DTEND;TZID=America/Toronto:20241110T120000
DTSTAMP:20260422T011528
CREATED:20240914T222233Z
LAST-MODIFIED:20240914T222326Z
UID:10000069-1731232800-1731240000@radhakrishnamandir.ca
SUMMARY:Sunday Upasana
DESCRIPTION:Pt. Avinash Sharma comes on second Sunday each month
URL:https://radhakrishnamandir.ca/event/sunday-upasana-4-3/2024-11-10/
LOCATION:Radha Krishna Mandir & Cultural Centre\, 85 Boxwood Drive\, Cambridge\, Ontario\, N3E 0A5\, Canada
CATEGORIES:Events at Mandir
ATTACH;FMTTYPE=image/jpeg:https://radhakrishnamandir.ca/wp-content/uploads/2024/05/Upasana.jpg
ORGANIZER;CN="Dwarka Persaud":MAILTO:president@radhakrishnamandir.ca
END:VEVENT
BEGIN:VEVENT
DTSTART;TZID=America/Toronto:20241109T163000
DTEND;TZID=America/Toronto:20241109T220000
DTSTAMP:20260422T011528
CREATED:20240127T193319Z
LAST-MODIFIED:20241019T182927Z
UID:10001134-1731169800-1731189600@radhakrishnamandir.ca
SUMMARY:Grand Diwali Dinner\, Gala & Dance
DESCRIPTION: 
URL:https://radhakrishnamandir.ca/event/annual-diwali-gala/
LOCATION:Ontario
CATEGORIES:Culture,Fundraising,Special Events
ATTACH;FMTTYPE=image/png:https://radhakrishnamandir.ca/wp-content/uploads/2024/01/RKM-DIWALI-DINNER-2024-revised.png
ORGANIZER;CN="Dwarka Persaud":MAILTO:president@radhakrishnamandir.ca
END:VEVENT
BEGIN:VEVENT
DTSTART;TZID=America/Toronto:20241105T183000
DTEND;TZID=America/Toronto:20241105T203000
DTSTAMP:20260422T011528
CREATED:20241031T092339Z
LAST-MODIFIED:20241101T132740Z
UID:10000046-1730831400-1730838600@radhakrishnamandir.ca
SUMMARY:Hanuman Chalisa Satsang
DESCRIPTION:Hanumaan Chalisa Satsang \nJai Bajrangbali ji ki. Our humble request to all devotees to come and take advantage of Lord Hanumaan ji’s blessings..\nand celebrate together with us.
URL:https://radhakrishnamandir.ca/event/hanuman-chalisa-2/2024-11-05/
LOCATION:Radha Krishna Mandir & Cultural Centre\, 85 Boxwood Drive\, Cambridge\, Ontario\, N3E 0A5\, Canada
CATEGORIES:Events at Mandir
ATTACH;FMTTYPE=image/png:https://radhakrishnamandir.ca/wp-content/uploads/2024/02/Hanumanji_Every_tuesday.png
ORGANIZER;CN="Panditji":MAILTO:rkmcc@radhakrishnamandir.ca
END:VEVENT
BEGIN:VEVENT
DTSTART;TZID=America/Toronto:20241104T190000
DTEND;TZID=America/Toronto:20241104T200000
DTSTAMP:20260422T011528
CREATED:20240123T162004Z
LAST-MODIFIED:20240223T135133Z
UID:10000912-1730746800-1730750400@radhakrishnamandir.ca
SUMMARY:Shiva Abhishek
DESCRIPTION:
URL:https://radhakrishnamandir.ca/event/shiva-abhishek/2024-11-04/
LOCATION:Radha Krishna Mandir & Cultural Centre\, 85 Boxwood Drive\, Cambridge\, Ontario\, N3E 0A5\, Canada
CATEGORIES:Events at Mandir
ATTACH;FMTTYPE=image/jpeg:https://radhakrishnamandir.ca/wp-content/uploads/2024/01/lordshiva-e1709218431374.jpg
ORGANIZER;CN="Panditji":MAILTO:rkmcc@radhakrishnamandir.ca
END:VEVENT
BEGIN:VEVENT
DTSTART;TZID=America/Toronto:20241103T100000
DTEND;TZID=America/Toronto:20241103T230000
DTSTAMP:20260422T011528
CREATED:20240731T190136Z
LAST-MODIFIED:20241010T125918Z
UID:10002353-1730628000-1730674800@radhakrishnamandir.ca
SUMMARY:Bal Vihar (by Registration only)
DESCRIPTION: 
URL:https://radhakrishnamandir.ca/event/bal-vihar-by-registration-only-2/2024-11-03/
LOCATION:Radha Krishna Mandir & Cultural Centre\, 85 Boxwood Drive\, Cambridge\, Ontario\, N3E 0A5\, Canada
CATEGORIES:Community Outreach,Culture,Events at Mandir
ATTACH;FMTTYPE=image/png:https://radhakrishnamandir.ca/wp-content/uploads/2024/01/Bal_vihar_2024.png
ORGANIZER;CN="Bhawna Lakhanpal":MAILTO:balvihar@radhakrishnamandir.ca
END:VEVENT
BEGIN:VEVENT
DTSTART;TZID=America/Toronto:20241103T100000
DTEND;TZID=America/Toronto:20241103T120000
DTSTAMP:20260422T011528
CREATED:20241229T040551Z
LAST-MODIFIED:20241229T040552Z
UID:10001727-1730628000-1730635200@radhakrishnamandir.ca
SUMMARY:Sunday Service
DESCRIPTION:Sunday Programming starts at 10 am till noon\, followed by lunchpan
URL:https://radhakrishnamandir.ca/event/sunday-service-3-3/
LOCATION:Radha Krishna Mandir & Cultural Centre\, 85 Boxwood Drive\, Cambridge\, Ontario\, N3E 0A5\, Canada
CATEGORIES:Events at Mandir
ATTACH;FMTTYPE=image/png:https://radhakrishnamandir.ca/wp-content/uploads/2024/06/Sunday_upasna_pt.nikhil-1.png
ORGANIZER;CN="Panditji":MAILTO:info@radhakrishnamandir.ca
END:VEVENT
BEGIN:VEVENT
DTSTART;TZID=America/Toronto:20241029T183000
DTEND;TZID=America/Toronto:20241029T193000
DTSTAMP:20260422T011528
CREATED:20241003T022110Z
LAST-MODIFIED:20241003T022111Z
UID:10000045-1730226600-1730230200@radhakrishnamandir.ca
SUMMARY:Hanuman Chalisa Satsang
DESCRIPTION:Hanumaan Chalisa Satsang \nJai Bajrangbali ji ki. Our humble request to all devotees to come and take advantage of Lord Hanumaan ji’s blessings..\nand celebrate together with us.
URL:https://radhakrishnamandir.ca/event/hanuman-chalisa/2024-10-29/
LOCATION:Radha Krishna Mandir & Cultural Centre\, 85 Boxwood Drive\, Cambridge\, Ontario\, N3E 0A5\, Canada
CATEGORIES:Events at Mandir
ATTACH;FMTTYPE=image/png:https://radhakrishnamandir.ca/wp-content/uploads/2024/02/Hanumanji_Every_tuesday.png
ORGANIZER;CN="Panditji":MAILTO:rkmcc@radhakrishnamandir.ca
END:VEVENT
BEGIN:VEVENT
DTSTART;TZID=America/Toronto:20241028T190000
DTEND;TZID=America/Toronto:20241028T200000
DTSTAMP:20260422T011528
CREATED:20240123T162004Z
LAST-MODIFIED:20240223T135133Z
UID:10000911-1730142000-1730145600@radhakrishnamandir.ca
SUMMARY:Shiva Abhishek
DESCRIPTION:
URL:https://radhakrishnamandir.ca/event/shiva-abhishek/2024-10-28/
LOCATION:Radha Krishna Mandir & Cultural Centre\, 85 Boxwood Drive\, Cambridge\, Ontario\, N3E 0A5\, Canada
CATEGORIES:Events at Mandir
ATTACH;FMTTYPE=image/jpeg:https://radhakrishnamandir.ca/wp-content/uploads/2024/01/lordshiva-e1709218431374.jpg
ORGANIZER;CN="Panditji":MAILTO:rkmcc@radhakrishnamandir.ca
END:VEVENT
BEGIN:VEVENT
DTSTART;TZID=America/Toronto:20241027T100000
DTEND;TZID=America/Toronto:20241027T230000
DTSTAMP:20260422T011528
CREATED:20240731T190136Z
LAST-MODIFIED:20241010T125918Z
UID:10002352-1730023200-1730070000@radhakrishnamandir.ca
SUMMARY:Bal Vihar (by Registration only)
DESCRIPTION: 
URL:https://radhakrishnamandir.ca/event/bal-vihar-by-registration-only-2/2024-10-27/
LOCATION:Radha Krishna Mandir & Cultural Centre\, 85 Boxwood Drive\, Cambridge\, Ontario\, N3E 0A5\, Canada
CATEGORIES:Community Outreach,Culture,Events at Mandir
ATTACH;FMTTYPE=image/png:https://radhakrishnamandir.ca/wp-content/uploads/2024/01/Bal_vihar_2024.png
ORGANIZER;CN="Bhawna Lakhanpal":MAILTO:balvihar@radhakrishnamandir.ca
END:VEVENT
BEGIN:VEVENT
DTSTART;TZID=America/Toronto:20241027T100000
DTEND;TZID=America/Toronto:20241027T120000
DTSTAMP:20260422T011528
CREATED:20240830T164229Z
LAST-MODIFIED:20240830T164422Z
UID:10001726-1730023200-1730030400@radhakrishnamandir.ca
SUMMARY:Sunday Service
DESCRIPTION:Sunday Programming starts at 10 am till noon\, followed by lunchpan
URL:https://radhakrishnamandir.ca/event/sunday-service-3/2024-10-27/
LOCATION:Radha Krishna Mandir & Cultural Centre\, 85 Boxwood Drive\, Cambridge\, Ontario\, N3E 0A5\, Canada
CATEGORIES:Events at Mandir
ATTACH;FMTTYPE=image/png:https://radhakrishnamandir.ca/wp-content/uploads/2024/06/Sunday_upasna_pt.nikhil-1.png
ORGANIZER;CN="Panditji":MAILTO:info@radhakrishnamandir.ca
END:VEVENT
BEGIN:VEVENT
DTSTART;TZID=America/Toronto:20241022T183000
DTEND;TZID=America/Toronto:20241022T193000
DTSTAMP:20260422T011528
CREATED:20241003T022110Z
LAST-MODIFIED:20241003T022111Z
UID:10000044-1729621800-1729625400@radhakrishnamandir.ca
SUMMARY:Hanuman Chalisa Satsang
DESCRIPTION:Hanumaan Chalisa Satsang \nJai Bajrangbali ji ki. Our humble request to all devotees to come and take advantage of Lord Hanumaan ji’s blessings..\nand celebrate together with us.
URL:https://radhakrishnamandir.ca/event/hanuman-chalisa/2024-10-22/
LOCATION:Radha Krishna Mandir & Cultural Centre\, 85 Boxwood Drive\, Cambridge\, Ontario\, N3E 0A5\, Canada
CATEGORIES:Events at Mandir
ATTACH;FMTTYPE=image/png:https://radhakrishnamandir.ca/wp-content/uploads/2024/02/Hanumanji_Every_tuesday.png
ORGANIZER;CN="Panditji":MAILTO:rkmcc@radhakrishnamandir.ca
END:VEVENT
BEGIN:VEVENT
DTSTART;TZID=America/Toronto:20241021T190000
DTEND;TZID=America/Toronto:20241021T200000
DTSTAMP:20260422T011528
CREATED:20240123T162004Z
LAST-MODIFIED:20240223T135133Z
UID:10000910-1729537200-1729540800@radhakrishnamandir.ca
SUMMARY:Shiva Abhishek
DESCRIPTION:
URL:https://radhakrishnamandir.ca/event/shiva-abhishek/2024-10-21/
LOCATION:Radha Krishna Mandir & Cultural Centre\, 85 Boxwood Drive\, Cambridge\, Ontario\, N3E 0A5\, Canada
CATEGORIES:Events at Mandir
ATTACH;FMTTYPE=image/jpeg:https://radhakrishnamandir.ca/wp-content/uploads/2024/01/lordshiva-e1709218431374.jpg
ORGANIZER;CN="Panditji":MAILTO:rkmcc@radhakrishnamandir.ca
END:VEVENT
BEGIN:VEVENT
DTSTART;TZID=America/Toronto:20241020T100000
DTEND;TZID=America/Toronto:20241020T230000
DTSTAMP:20260422T011528
CREATED:20240731T190136Z
LAST-MODIFIED:20241010T125918Z
UID:10002351-1729418400-1729465200@radhakrishnamandir.ca
SUMMARY:Bal Vihar (by Registration only)
DESCRIPTION: 
URL:https://radhakrishnamandir.ca/event/bal-vihar-by-registration-only-2/2024-10-20/
LOCATION:Radha Krishna Mandir & Cultural Centre\, 85 Boxwood Drive\, Cambridge\, Ontario\, N3E 0A5\, Canada
CATEGORIES:Community Outreach,Culture,Events at Mandir
ATTACH;FMTTYPE=image/png:https://radhakrishnamandir.ca/wp-content/uploads/2024/01/Bal_vihar_2024.png
ORGANIZER;CN="Bhawna Lakhanpal":MAILTO:balvihar@radhakrishnamandir.ca
END:VEVENT
BEGIN:VEVENT
DTSTART;TZID=America/Toronto:20241020T100000
DTEND;TZID=America/Toronto:20241020T120000
DTSTAMP:20260422T011528
CREATED:20240830T164229Z
LAST-MODIFIED:20240830T164422Z
UID:10001725-1729418400-1729425600@radhakrishnamandir.ca
SUMMARY:Sunday Service
DESCRIPTION:Sunday Programming starts at 10 am till noon\, followed by lunchpan
URL:https://radhakrishnamandir.ca/event/sunday-service-3/2024-10-20/
LOCATION:Radha Krishna Mandir & Cultural Centre\, 85 Boxwood Drive\, Cambridge\, Ontario\, N3E 0A5\, Canada
CATEGORIES:Events at Mandir
ATTACH;FMTTYPE=image/png:https://radhakrishnamandir.ca/wp-content/uploads/2024/06/Sunday_upasna_pt.nikhil-1.png
ORGANIZER;CN="Panditji":MAILTO:info@radhakrishnamandir.ca
END:VEVENT
BEGIN:VEVENT
DTSTART;TZID=America/Toronto:20241019T170000
DTEND;TZID=America/Toronto:20241019T200000
DTSTAMP:20260422T011528
CREATED:20240908T011155Z
LAST-MODIFIED:20240908T011155Z
UID:10002421-1729357200-1729368000@radhakrishnamandir.ca
SUMMARY:Mega Chowki featuring Sur Sagar (Winner of Sa Re Ga Ma Pa\, Punjab)
DESCRIPTION:
URL:https://radhakrishnamandir.ca/event/mega-chowki-featuring-sur-sagar-winner-of-sa-re-ga-ma-pa-punjab/
LOCATION:Brampton Triveni Mandir and Community Centre\, 20 Daviselm Drive\, Brampton\,\, Ontario\, L6X 0E6\, Canada
CATEGORIES:Community Outreach,Culture,Fundraising,Special Events
ATTACH;FMTTYPE=image/png:https://radhakrishnamandir.ca/wp-content/uploads/2024/09/Chowki-Night-1.png
ORGANIZER;CN="Dwarka Persaud":MAILTO:president@radhakrishnamandir.ca
END:VEVENT
BEGIN:VEVENT
DTSTART;TZID=America/Toronto:20241015T183000
DTEND;TZID=America/Toronto:20241015T193000
DTSTAMP:20260422T011528
CREATED:20241003T022110Z
LAST-MODIFIED:20241003T022111Z
UID:10000042-1729017000-1729020600@radhakrishnamandir.ca
SUMMARY:Hanuman Chalisa Satsang
DESCRIPTION:Hanumaan Chalisa Satsang \nJai Bajrangbali ji ki. Our humble request to all devotees to come and take advantage of Lord Hanumaan ji’s blessings..\nand celebrate together with us.
URL:https://radhakrishnamandir.ca/event/hanuman-chalisa/2024-10-15/
LOCATION:Radha Krishna Mandir & Cultural Centre\, 85 Boxwood Drive\, Cambridge\, Ontario\, N3E 0A5\, Canada
CATEGORIES:Events at Mandir
ATTACH;FMTTYPE=image/png:https://radhakrishnamandir.ca/wp-content/uploads/2024/02/Hanumanji_Every_tuesday.png
ORGANIZER;CN="Panditji":MAILTO:rkmcc@radhakrishnamandir.ca
END:VEVENT
BEGIN:VEVENT
DTSTART;TZID=America/Toronto:20241014T190000
DTEND;TZID=America/Toronto:20241014T200000
DTSTAMP:20260422T011528
CREATED:20240123T162004Z
LAST-MODIFIED:20240223T135133Z
UID:10000909-1728932400-1728936000@radhakrishnamandir.ca
SUMMARY:Shiva Abhishek
DESCRIPTION:
URL:https://radhakrishnamandir.ca/event/shiva-abhishek/2024-10-14/
LOCATION:Radha Krishna Mandir & Cultural Centre\, 85 Boxwood Drive\, Cambridge\, Ontario\, N3E 0A5\, Canada
CATEGORIES:Events at Mandir
ATTACH;FMTTYPE=image/jpeg:https://radhakrishnamandir.ca/wp-content/uploads/2024/01/lordshiva-e1709218431374.jpg
ORGANIZER;CN="Panditji":MAILTO:rkmcc@radhakrishnamandir.ca
END:VEVENT
BEGIN:VEVENT
DTSTART;TZID=America/Toronto:20241013T100000
DTEND;TZID=America/Toronto:20241013T230000
DTSTAMP:20260422T011528
CREATED:20240731T190136Z
LAST-MODIFIED:20241010T125918Z
UID:10002350-1728813600-1728860400@radhakrishnamandir.ca
SUMMARY:Bal Vihar (by Registration only)
DESCRIPTION: 
URL:https://radhakrishnamandir.ca/event/bal-vihar-by-registration-only-2/2024-10-13/
LOCATION:Radha Krishna Mandir & Cultural Centre\, 85 Boxwood Drive\, Cambridge\, Ontario\, N3E 0A5\, Canada
CATEGORIES:Community Outreach,Culture,Events at Mandir
ATTACH;FMTTYPE=image/png:https://radhakrishnamandir.ca/wp-content/uploads/2024/01/Bal_vihar_2024.png
ORGANIZER;CN="Bhawna Lakhanpal":MAILTO:balvihar@radhakrishnamandir.ca
END:VEVENT
BEGIN:VEVENT
DTSTART;TZID=America/Toronto:20241013T100000
DTEND;TZID=America/Toronto:20241013T120000
DTSTAMP:20260422T011528
CREATED:20240914T222233Z
LAST-MODIFIED:20240914T222326Z
UID:10000068-1728813600-1728820800@radhakrishnamandir.ca
SUMMARY:Sunday Upasana
DESCRIPTION:Pt. Avinash Sharma comes on second Sunday each month
URL:https://radhakrishnamandir.ca/event/sunday-upasana-4-3/2024-10-13/
LOCATION:Radha Krishna Mandir & Cultural Centre\, 85 Boxwood Drive\, Cambridge\, Ontario\, N3E 0A5\, Canada
CATEGORIES:Events at Mandir
ATTACH;FMTTYPE=image/jpeg:https://radhakrishnamandir.ca/wp-content/uploads/2024/05/Upasana.jpg
ORGANIZER;CN="Dwarka Persaud":MAILTO:president@radhakrishnamandir.ca
END:VEVENT
BEGIN:VEVENT
DTSTART;TZID=America/Toronto:20241012T180000
DTEND;TZID=America/Toronto:20241012T235900
DTSTAMP:20260422T011528
CREATED:20240905T031616Z
LAST-MODIFIED:20240921T184038Z
UID:10002420-1728756000-1728777540@radhakrishnamandir.ca
SUMMARY:Sharad Purnima Garba Night
DESCRIPTION:Get ready to be mesmerized by the tunes of Jay Ashar\, Master of Sound\, along with his live Band @Rhy-Dhunn. Tickets are $25 including one time dinner and additional snacks available for purchase by Baldev Paan of Cambridge\,under NEW Management (Hiral Bhatt). Paper copy tickets are available Baldev Paan\, Radha Krishna Mandir and Soap Bin Cleaner in CambridgeWe will have Prizes for best dance and best dressed in 3 categories; children\, women and men sponsored by BaljinderHundal from Century 21 and Inderjit Sarpal from CIBC Mortgage SpecialistDon’t forget to bring your Dandiyas\, if you don’t have\, you will be able to purchase a pair at the Venue. \nSpecial thanks to all our Proud Sponsors for their Support and Contribution \nSanjay Patel – Healthwise PharmacyAmit Airi – Remax TeamAnu/Bitu Ganger – Ginos PizzaHiralKumar Bhatt – Baldev Paan of CambridgeKamal Khanna and Pavan Sharma – KP Reality ProsArpan Pandit – Rajwadi-Pure Veg Gujarati RestaurantHimja Upadhyay – Hilos PhysiotherapyVishal Sharma – Chest Legal Professional CorporationPurvi Naik – Billyard Insurance GroupNagappa and Laxmi Yaligar – Intell AcademySarpreet Singh – Homelife / Miracle Realty Ltd.Ity Dogra – TD Canada – Mobile Mortgage SpecialistPradeep Bhandari – Keybase FinancialTejas Patel – Super India FoodmarketInderjit Sarpal – CIBC mortgagesShailendrasinh Parmar – PrimericaKen Patel – Soap Bin Cleaner and Coin LaundryBaljinder Hundal – Century 21Monika Sharma – Homelife / Miracle Realty Ltd.Bipan Sharma – Driving Instructor 
URL:https://radhakrishnamandir.ca/event/sharad-purnima-gabra-night/
LOCATION:Duncan McIntosh Arena\, 200 Christopher Dr\,\, Cambridge\, Ontario\, Canada
CATEGORIES:Community Outreach,Culture,Fundraising,Special Events
ATTACH;FMTTYPE=image/jpeg:https://radhakrishnamandir.ca/wp-content/uploads/2024/09/WhatsApp-Image-2024-09-18-at-09.04.22_7d5605d3.jpg
END:VEVENT
BEGIN:VEVENT
DTSTART;TZID=America/Toronto:20241007T190000
DTEND;TZID=America/Toronto:20241007T200000
DTSTAMP:20260422T011528
CREATED:20240123T162004Z
LAST-MODIFIED:20240223T135133Z
UID:10000908-1728327600-1728331200@radhakrishnamandir.ca
SUMMARY:Shiva Abhishek
DESCRIPTION:
URL:https://radhakrishnamandir.ca/event/shiva-abhishek/2024-10-07/
LOCATION:Radha Krishna Mandir & Cultural Centre\, 85 Boxwood Drive\, Cambridge\, Ontario\, N3E 0A5\, Canada
CATEGORIES:Events at Mandir
ATTACH;FMTTYPE=image/jpeg:https://radhakrishnamandir.ca/wp-content/uploads/2024/01/lordshiva-e1709218431374.jpg
ORGANIZER;CN="Panditji":MAILTO:rkmcc@radhakrishnamandir.ca
END:VEVENT
END:VCALENDAR