BEGIN:VCALENDAR
VERSION:2.0
PRODID:-//Radha Krishna Mandir &amp; Cultural Centre, Cambridge Ontario - ECPv6.15.20//NONSGML v1.0//EN
CALSCALE:GREGORIAN
METHOD:PUBLISH
X-WR-CALNAME:Radha Krishna Mandir &amp; Cultural Centre, Cambridge Ontario
X-ORIGINAL-URL:https://radhakrishnamandir.ca
X-WR-CALDESC:Events for Radha Krishna Mandir &amp; Cultural Centre, Cambridge Ontario
REFRESH-INTERVAL;VALUE=DURATION:PT1H
X-Robots-Tag:noindex
X-PUBLISHED-TTL:PT1H
BEGIN:VTIMEZONE
TZID:America/Toronto
BEGIN:DAYLIGHT
TZOFFSETFROM:-0500
TZOFFSETTO:-0400
TZNAME:EDT
DTSTART:20240310T070000
END:DAYLIGHT
BEGIN:STANDARD
TZOFFSETFROM:-0400
TZOFFSETTO:-0500
TZNAME:EST
DTSTART:20241103T060000
END:STANDARD
BEGIN:DAYLIGHT
TZOFFSETFROM:-0500
TZOFFSETTO:-0400
TZNAME:EDT
DTSTART:20250309T070000
END:DAYLIGHT
BEGIN:STANDARD
TZOFFSETFROM:-0400
TZOFFSETTO:-0500
TZNAME:EST
DTSTART:20251102T060000
END:STANDARD
BEGIN:DAYLIGHT
TZOFFSETFROM:-0500
TZOFFSETTO:-0400
TZNAME:EDT
DTSTART:20260308T070000
END:DAYLIGHT
BEGIN:STANDARD
TZOFFSETFROM:-0400
TZOFFSETTO:-0500
TZNAME:EST
DTSTART:20261101T060000
END:STANDARD
END:VTIMEZONE
BEGIN:VEVENT
DTSTART;TZID=America/Toronto:20250323T100000
DTEND;TZID=America/Toronto:20250323T120000
DTSTAMP:20260420T175748
CREATED:20241229T041041Z
LAST-MODIFIED:20241229T041100Z
UID:10001747-1742724000-1742731200@radhakrishnamandir.ca
SUMMARY:Sunday Service
DESCRIPTION:Sunday Programming starts at 10 am till noon\, followed by lunch
URL:https://radhakrishnamandir.ca/event/sunday-service-3-2-2/2025-03-23/
LOCATION:Radha Krishna Mandir & Cultural Centre\, 85 Boxwood Drive\, Cambridge\, Ontario\, N3E 0A5\, Canada
CATEGORIES:Events at Mandir
ATTACH;FMTTYPE=image/png:https://radhakrishnamandir.ca/wp-content/uploads/2024/06/Sunday_upasna_pt.nikhil-1.png
ORGANIZER;CN="Panditji":MAILTO:info@radhakrishnamandir.ca
END:VEVENT
BEGIN:VEVENT
DTSTART;TZID=America/Toronto:20250322T170000
DTEND;TZID=America/Toronto:20250322T210000
DTSTAMP:20260420T175748
CREATED:20250124T112515Z
LAST-MODIFIED:20250214T131516Z
UID:10002453-1742662800-1742677200@radhakrishnamandir.ca
SUMMARY:Holi Hai Show
DESCRIPTION:For tickets\, sponsorship\, volunteer or more information\, Contact RADHA: (416) 648-7858| Seeta: (519) 222-1375
URL:https://radhakrishnamandir.ca/event/holi-hai-show/
LOCATION:Ontario
CATEGORIES:Community Outreach,Culture,Fundraising,Special Events
ATTACH;FMTTYPE=image/png:https://radhakrishnamandir.ca/wp-content/uploads/2025/01/Holi_Show2025-1.png
ORGANIZER;CN="Radha Persaud":MAILTO:radha.persaud37@gmail.com
END:VEVENT
BEGIN:VEVENT
DTSTART;TZID=America/Toronto:20250319T180000
DTEND;TZID=America/Toronto:20250319T200000
DTSTAMP:20260420T175748
CREATED:20250125T003906Z
LAST-MODIFIED:20250830T141303Z
UID:10002717-1742407200-1742414400@radhakrishnamandir.ca
SUMMARY:Shri Krishna Puja
DESCRIPTION:
URL:https://radhakrishnamandir.ca/event/shri-krishna-puja/2025-03-19/
LOCATION:Radha Krishna Mandir & Cultural Centre\, 85 Boxwood Drive\, Cambridge\, Ontario\, N3E 0A5\, Canada
CATEGORIES:Culture,Events at Mandir,Special Events
ATTACH;FMTTYPE=image/png:https://radhakrishnamandir.ca/wp-content/uploads/2025/01/Weekly_Lord_Krishna_Puja_-2025-2.png
END:VEVENT
BEGIN:VEVENT
DTSTART;TZID=America/Toronto:20250318T170000
DTEND;TZID=America/Toronto:20250318T200000
DTSTAMP:20260420T175748
CREATED:20250124T123911Z
LAST-MODIFIED:20250308T190116Z
UID:10003149-1742317200-1742328000@radhakrishnamandir.ca
SUMMARY:Hanuman Chalisa Satsang
DESCRIPTION:Jai Bajrangbali ji ki! \nPlease do come and take benefit of the blessings of Lord Hanumaan ji..We are always looking for the new sponsors for the program\nSo if you’re thinking to sponsor the Sunderkand Path\, Please call the temple at 519-650-1575 or you may anyone one the flyer. \nWe would love to hear from you.
URL:https://radhakrishnamandir.ca/event/hanuman-chalisa-2-2/2025-03-18/
LOCATION:Radha Krishna Mandir & Cultural Centre\, 85 Boxwood Drive\, Cambridge\, Ontario\, N3E 0A5\, Canada
CATEGORIES:Events at Mandir
ATTACH;FMTTYPE=image/png:https://radhakrishnamandir.ca/wp-content/uploads/2025/01/RKMCC-Event-Network-4.png
ORGANIZER;CN="Panditji":MAILTO:rkmcc@radhakrishnamandir.ca
END:VEVENT
BEGIN:VEVENT
DTSTART;TZID=America/Toronto:20250317T190000
DTEND;TZID=America/Toronto:20250317T200000
DTSTAMP:20260420T175748
CREATED:20240123T162004Z
LAST-MODIFIED:20240223T135133Z
UID:10000931-1742238000-1742241600@radhakrishnamandir.ca
SUMMARY:Shiva Abhishek
DESCRIPTION:
URL:https://radhakrishnamandir.ca/event/shiva-abhishek/2025-03-17/
LOCATION:Radha Krishna Mandir & Cultural Centre\, 85 Boxwood Drive\, Cambridge\, Ontario\, N3E 0A5\, Canada
CATEGORIES:Events at Mandir
ATTACH;FMTTYPE=image/jpeg:https://radhakrishnamandir.ca/wp-content/uploads/2024/01/lordshiva-e1709218431374.jpg
ORGANIZER;CN="Panditji":MAILTO:rkmcc@radhakrishnamandir.ca
END:VEVENT
BEGIN:VEVENT
DTSTART;TZID=America/Toronto:20250316T100000
DTEND;TZID=America/Toronto:20250316T230000
DTSTAMP:20260420T175748
CREATED:20240731T190136Z
LAST-MODIFIED:20241010T125918Z
UID:10002372-1742119200-1742166000@radhakrishnamandir.ca
SUMMARY:Bal Vihar (by Registration only)
DESCRIPTION: 
URL:https://radhakrishnamandir.ca/event/bal-vihar-by-registration-only-2/2025-03-16/
LOCATION:Radha Krishna Mandir & Cultural Centre\, 85 Boxwood Drive\, Cambridge\, Ontario\, N3E 0A5\, Canada
CATEGORIES:Community Outreach,Culture,Events at Mandir
ATTACH;FMTTYPE=image/png:https://radhakrishnamandir.ca/wp-content/uploads/2024/01/Bal_vihar_2024.png
ORGANIZER;CN="Bhawna Lakhanpal":MAILTO:balvihar@radhakrishnamandir.ca
END:VEVENT
BEGIN:VEVENT
DTSTART;TZID=America/Toronto:20250316T100000
DTEND;TZID=America/Toronto:20250316T130000
DTSTAMP:20260420T175748
CREATED:20250125T140130Z
LAST-MODIFIED:20250125T140320Z
UID:10002967-1742119200-1742130000@radhakrishnamandir.ca
SUMMARY:Holi (Phagwah) Celebrations
DESCRIPTION: 
URL:https://radhakrishnamandir.ca/event/holi-phagwah-celebrations/
LOCATION:Radha Krishna Mandir & Cultural Centre\, 85 Boxwood Drive\, Cambridge\, Ontario\, N3E 0A5\, Canada
CATEGORIES:Community Outreach,Culture,Events at Mandir
END:VEVENT
BEGIN:VEVENT
DTSTART;TZID=America/Toronto:20250316T100000
DTEND;TZID=America/Toronto:20250316T120000
DTSTAMP:20260420T175748
CREATED:20241229T041041Z
LAST-MODIFIED:20241229T041100Z
UID:10001746-1742119200-1742126400@radhakrishnamandir.ca
SUMMARY:Sunday Service
DESCRIPTION:Sunday Programming starts at 10 am till noon\, followed by lunch
URL:https://radhakrishnamandir.ca/event/sunday-service-3-2-2/2025-03-16/
LOCATION:Radha Krishna Mandir & Cultural Centre\, 85 Boxwood Drive\, Cambridge\, Ontario\, N3E 0A5\, Canada
CATEGORIES:Events at Mandir
ATTACH;FMTTYPE=image/png:https://radhakrishnamandir.ca/wp-content/uploads/2024/06/Sunday_upasna_pt.nikhil-1.png
ORGANIZER;CN="Panditji":MAILTO:info@radhakrishnamandir.ca
END:VEVENT
BEGIN:VEVENT
DTSTART;TZID=America/Toronto:20250313T183000
DTEND;TZID=America/Toronto:20250313T200000
DTSTAMP:20260420T175748
CREATED:20250125T135637Z
LAST-MODIFIED:20250125T135815Z
UID:10002966-1741890600-1741896000@radhakrishnamandir.ca
SUMMARY:Holika Dahan
DESCRIPTION: 
URL:https://radhakrishnamandir.ca/event/holika-dahan/
LOCATION:Radha Krishna Mandir & Cultural Centre\, 85 Boxwood Drive\, Cambridge\, Ontario\, N3E 0A5\, Canada
END:VEVENT
BEGIN:VEVENT
DTSTART;TZID=America/Toronto:20250312T180000
DTEND;TZID=America/Toronto:20250312T200000
DTSTAMP:20260420T175748
CREATED:20250125T003906Z
LAST-MODIFIED:20250830T141303Z
UID:10002716-1741802400-1741809600@radhakrishnamandir.ca
SUMMARY:Shri Krishna Puja
DESCRIPTION:
URL:https://radhakrishnamandir.ca/event/shri-krishna-puja/2025-03-12/
LOCATION:Radha Krishna Mandir & Cultural Centre\, 85 Boxwood Drive\, Cambridge\, Ontario\, N3E 0A5\, Canada
CATEGORIES:Culture,Events at Mandir,Special Events
ATTACH;FMTTYPE=image/png:https://radhakrishnamandir.ca/wp-content/uploads/2025/01/Weekly_Lord_Krishna_Puja_-2025-2.png
END:VEVENT
BEGIN:VEVENT
DTSTART;TZID=America/Toronto:20250311T170000
DTEND;TZID=America/Toronto:20250311T200000
DTSTAMP:20260420T175748
CREATED:20250124T123911Z
LAST-MODIFIED:20250308T190116Z
UID:10003148-1741712400-1741723200@radhakrishnamandir.ca
SUMMARY:Hanuman Chalisa Satsang
DESCRIPTION:Jai Bajrangbali ji ki! \nPlease do come and take benefit of the blessings of Lord Hanumaan ji..We are always looking for the new sponsors for the program\nSo if you’re thinking to sponsor the Sunderkand Path\, Please call the temple at 519-650-1575 or you may anyone one the flyer. \nWe would love to hear from you.
URL:https://radhakrishnamandir.ca/event/hanuman-chalisa-2-2/2025-03-11/
LOCATION:Radha Krishna Mandir & Cultural Centre\, 85 Boxwood Drive\, Cambridge\, Ontario\, N3E 0A5\, Canada
CATEGORIES:Events at Mandir
ATTACH;FMTTYPE=image/png:https://radhakrishnamandir.ca/wp-content/uploads/2025/01/RKMCC-Event-Network-4.png
ORGANIZER;CN="Panditji":MAILTO:rkmcc@radhakrishnamandir.ca
END:VEVENT
BEGIN:VEVENT
DTSTART;TZID=America/Toronto:20250310T190000
DTEND;TZID=America/Toronto:20250310T200000
DTSTAMP:20260420T175748
CREATED:20240123T162004Z
LAST-MODIFIED:20240223T135133Z
UID:10000930-1741633200-1741636800@radhakrishnamandir.ca
SUMMARY:Shiva Abhishek
DESCRIPTION:
URL:https://radhakrishnamandir.ca/event/shiva-abhishek/2025-03-10/
LOCATION:Radha Krishna Mandir & Cultural Centre\, 85 Boxwood Drive\, Cambridge\, Ontario\, N3E 0A5\, Canada
CATEGORIES:Events at Mandir
ATTACH;FMTTYPE=image/jpeg:https://radhakrishnamandir.ca/wp-content/uploads/2024/01/lordshiva-e1709218431374.jpg
ORGANIZER;CN="Panditji":MAILTO:rkmcc@radhakrishnamandir.ca
END:VEVENT
BEGIN:VEVENT
DTSTART;TZID=America/Toronto:20250309T170000
DTEND;TZID=America/Toronto:20250309T190000
DTSTAMP:20260420T175748
CREATED:20250129T221117Z
LAST-MODIFIED:20250403T202411Z
UID:10003075-1741539600-1741546800@radhakrishnamandir.ca
SUMMARY:Satsangh
DESCRIPTION: 
URL:https://radhakrishnamandir.ca/event/monthly-satsangh/2025-03-09/
LOCATION:Radha Krishna Mandir & Cultural Centre\, 85 Boxwood Drive\, Cambridge\, Ontario\, N3E 0A5\, Canada
CATEGORIES:Culture,Events at Mandir
END:VEVENT
BEGIN:VEVENT
DTSTART;TZID=America/Toronto:20250309T100000
DTEND;TZID=America/Toronto:20250309T230000
DTSTAMP:20260420T175748
CREATED:20240731T190136Z
LAST-MODIFIED:20241010T125918Z
UID:10002371-1741514400-1741561200@radhakrishnamandir.ca
SUMMARY:Bal Vihar (by Registration only)
DESCRIPTION: 
URL:https://radhakrishnamandir.ca/event/bal-vihar-by-registration-only-2/2025-03-09/
LOCATION:Radha Krishna Mandir & Cultural Centre\, 85 Boxwood Drive\, Cambridge\, Ontario\, N3E 0A5\, Canada
CATEGORIES:Community Outreach,Culture,Events at Mandir
ATTACH;FMTTYPE=image/png:https://radhakrishnamandir.ca/wp-content/uploads/2024/01/Bal_vihar_2024.png
ORGANIZER;CN="Bhawna Lakhanpal":MAILTO:balvihar@radhakrishnamandir.ca
END:VEVENT
BEGIN:VEVENT
DTSTART;TZID=America/Toronto:20250309T100000
DTEND;TZID=America/Toronto:20250309T120000
DTSTAMP:20260420T175748
CREATED:20241130T141239Z
LAST-MODIFIED:20250221T022103Z
UID:10003015-1741514400-1741521600@radhakrishnamandir.ca
SUMMARY:Sunday Upasana with Pt. Avinash Sharma
DESCRIPTION:  \nPt. Avinash Sharma comes on second Sunday each month
URL:https://radhakrishnamandir.ca/event/sunday-upasana-6/
LOCATION:Radha Krishna Mandir & Cultural Centre\, 85 Boxwood Drive\, Cambridge\, Ontario\, N3E 0A5\, Canada
CATEGORIES:Events at Mandir
ATTACH;FMTTYPE=image/jpeg:https://radhakrishnamandir.ca/wp-content/uploads/2024/11/IMG-20250206-WA009.jpg
ORGANIZER;CN="Dwarka Persaud":MAILTO:president@radhakrishnamandir.ca
END:VEVENT
BEGIN:VEVENT
DTSTART;TZID=America/Toronto:20250305T180000
DTEND;TZID=America/Toronto:20250305T200000
DTSTAMP:20260420T175748
CREATED:20250125T003906Z
LAST-MODIFIED:20250830T141303Z
UID:10002715-1741197600-1741204800@radhakrishnamandir.ca
SUMMARY:Shri Krishna Puja
DESCRIPTION:
URL:https://radhakrishnamandir.ca/event/shri-krishna-puja/2025-03-05/
LOCATION:Radha Krishna Mandir & Cultural Centre\, 85 Boxwood Drive\, Cambridge\, Ontario\, N3E 0A5\, Canada
CATEGORIES:Culture,Events at Mandir,Special Events
ATTACH;FMTTYPE=image/png:https://radhakrishnamandir.ca/wp-content/uploads/2025/01/Weekly_Lord_Krishna_Puja_-2025-2.png
END:VEVENT
BEGIN:VEVENT
DTSTART;TZID=America/Toronto:20250304T170000
DTEND;TZID=America/Toronto:20250304T200000
DTSTAMP:20260420T175748
CREATED:20250124T123911Z
LAST-MODIFIED:20250308T190116Z
UID:10003147-1741107600-1741118400@radhakrishnamandir.ca
SUMMARY:Hanuman Chalisa Satsang
DESCRIPTION:Jai Bajrangbali ji ki! \nPlease do come and take benefit of the blessings of Lord Hanumaan ji..We are always looking for the new sponsors for the program\nSo if you’re thinking to sponsor the Sunderkand Path\, Please call the temple at 519-650-1575 or you may anyone one the flyer. \nWe would love to hear from you.
URL:https://radhakrishnamandir.ca/event/hanuman-chalisa-2-2/2025-03-04/
LOCATION:Radha Krishna Mandir & Cultural Centre\, 85 Boxwood Drive\, Cambridge\, Ontario\, N3E 0A5\, Canada
CATEGORIES:Events at Mandir
ATTACH;FMTTYPE=image/png:https://radhakrishnamandir.ca/wp-content/uploads/2025/01/RKMCC-Event-Network-4.png
ORGANIZER;CN="Panditji":MAILTO:rkmcc@radhakrishnamandir.ca
END:VEVENT
BEGIN:VEVENT
DTSTART;TZID=America/Toronto:20250303T190000
DTEND;TZID=America/Toronto:20250303T200000
DTSTAMP:20260420T175748
CREATED:20240123T162004Z
LAST-MODIFIED:20240223T135133Z
UID:10000929-1741028400-1741032000@radhakrishnamandir.ca
SUMMARY:Shiva Abhishek
DESCRIPTION:
URL:https://radhakrishnamandir.ca/event/shiva-abhishek/2025-03-03/
LOCATION:Radha Krishna Mandir & Cultural Centre\, 85 Boxwood Drive\, Cambridge\, Ontario\, N3E 0A5\, Canada
CATEGORIES:Events at Mandir
ATTACH;FMTTYPE=image/jpeg:https://radhakrishnamandir.ca/wp-content/uploads/2024/01/lordshiva-e1709218431374.jpg
ORGANIZER;CN="Panditji":MAILTO:rkmcc@radhakrishnamandir.ca
END:VEVENT
BEGIN:VEVENT
DTSTART;TZID=America/Toronto:20250302T100000
DTEND;TZID=America/Toronto:20250302T230000
DTSTAMP:20260420T175748
CREATED:20240731T190136Z
LAST-MODIFIED:20241010T125918Z
UID:10002370-1740909600-1740956400@radhakrishnamandir.ca
SUMMARY:Bal Vihar (by Registration only)
DESCRIPTION: 
URL:https://radhakrishnamandir.ca/event/bal-vihar-by-registration-only-2/2025-03-02/
LOCATION:Radha Krishna Mandir & Cultural Centre\, 85 Boxwood Drive\, Cambridge\, Ontario\, N3E 0A5\, Canada
CATEGORIES:Community Outreach,Culture,Events at Mandir
ATTACH;FMTTYPE=image/png:https://radhakrishnamandir.ca/wp-content/uploads/2024/01/Bal_vihar_2024.png
ORGANIZER;CN="Bhawna Lakhanpal":MAILTO:balvihar@radhakrishnamandir.ca
END:VEVENT
BEGIN:VEVENT
DTSTART;TZID=America/Toronto:20250302T100000
DTEND;TZID=America/Toronto:20250302T120000
DTSTAMP:20260420T175748
CREATED:20241229T041041Z
LAST-MODIFIED:20241229T041100Z
UID:10001744-1740909600-1740916800@radhakrishnamandir.ca
SUMMARY:Sunday Service
DESCRIPTION:Sunday Programming starts at 10 am till noon\, followed by lunch
URL:https://radhakrishnamandir.ca/event/sunday-service-3-2-2/2025-03-02/
LOCATION:Radha Krishna Mandir & Cultural Centre\, 85 Boxwood Drive\, Cambridge\, Ontario\, N3E 0A5\, Canada
CATEGORIES:Events at Mandir
ATTACH;FMTTYPE=image/png:https://radhakrishnamandir.ca/wp-content/uploads/2024/06/Sunday_upasna_pt.nikhil-1.png
ORGANIZER;CN="Panditji":MAILTO:info@radhakrishnamandir.ca
END:VEVENT
BEGIN:VEVENT
DTSTART;TZID=America/Toronto:20250226T180000
DTEND;TZID=America/Toronto:20250226T200000
DTSTAMP:20260420T175748
CREATED:20250125T003906Z
LAST-MODIFIED:20250830T141303Z
UID:10002714-1740592800-1740600000@radhakrishnamandir.ca
SUMMARY:Shri Krishna Puja
DESCRIPTION:
URL:https://radhakrishnamandir.ca/event/shri-krishna-puja/2025-02-26/
LOCATION:Radha Krishna Mandir & Cultural Centre\, 85 Boxwood Drive\, Cambridge\, Ontario\, N3E 0A5\, Canada
CATEGORIES:Culture,Events at Mandir,Special Events
ATTACH;FMTTYPE=image/png:https://radhakrishnamandir.ca/wp-content/uploads/2025/01/Weekly_Lord_Krishna_Puja_-2025-2.png
END:VEVENT
BEGIN:VEVENT
DTSTART;TZID=America/Toronto:20250224T190000
DTEND;TZID=America/Toronto:20250224T200000
DTSTAMP:20260420T175748
CREATED:20240123T162004Z
LAST-MODIFIED:20240223T135133Z
UID:10000928-1740423600-1740427200@radhakrishnamandir.ca
SUMMARY:Shiva Abhishek
DESCRIPTION:
URL:https://radhakrishnamandir.ca/event/shiva-abhishek/2025-02-24/
LOCATION:Radha Krishna Mandir & Cultural Centre\, 85 Boxwood Drive\, Cambridge\, Ontario\, N3E 0A5\, Canada
CATEGORIES:Events at Mandir
ATTACH;FMTTYPE=image/jpeg:https://radhakrishnamandir.ca/wp-content/uploads/2024/01/lordshiva-e1709218431374.jpg
ORGANIZER;CN="Panditji":MAILTO:rkmcc@radhakrishnamandir.ca
END:VEVENT
BEGIN:VEVENT
DTSTART;TZID=America/Toronto:20250223T100000
DTEND;TZID=America/Toronto:20250223T230000
DTSTAMP:20260420T175748
CREATED:20240731T190136Z
LAST-MODIFIED:20241010T125918Z
UID:10002369-1740304800-1740351600@radhakrishnamandir.ca
SUMMARY:Bal Vihar (by Registration only)
DESCRIPTION: 
URL:https://radhakrishnamandir.ca/event/bal-vihar-by-registration-only-2/2025-02-23/
LOCATION:Radha Krishna Mandir & Cultural Centre\, 85 Boxwood Drive\, Cambridge\, Ontario\, N3E 0A5\, Canada
CATEGORIES:Community Outreach,Culture,Events at Mandir
ATTACH;FMTTYPE=image/png:https://radhakrishnamandir.ca/wp-content/uploads/2024/01/Bal_vihar_2024.png
ORGANIZER;CN="Bhawna Lakhanpal":MAILTO:balvihar@radhakrishnamandir.ca
END:VEVENT
BEGIN:VEVENT
DTSTART;TZID=America/Toronto:20250223T100000
DTEND;TZID=America/Toronto:20250223T120000
DTSTAMP:20260420T175748
CREATED:20241229T041041Z
LAST-MODIFIED:20241229T041100Z
UID:10001743-1740304800-1740312000@radhakrishnamandir.ca
SUMMARY:Sunday Service
DESCRIPTION:Sunday Programming starts at 10 am till noon\, followed by lunch
URL:https://radhakrishnamandir.ca/event/sunday-service-3-2-2/2025-02-23/
LOCATION:Radha Krishna Mandir & Cultural Centre\, 85 Boxwood Drive\, Cambridge\, Ontario\, N3E 0A5\, Canada
CATEGORIES:Events at Mandir
ATTACH;FMTTYPE=image/png:https://radhakrishnamandir.ca/wp-content/uploads/2024/06/Sunday_upasna_pt.nikhil-1.png
ORGANIZER;CN="Panditji":MAILTO:info@radhakrishnamandir.ca
END:VEVENT
BEGIN:VEVENT
DTSTART;TZID=America/Toronto:20250219T180000
DTEND;TZID=America/Toronto:20250219T200000
DTSTAMP:20260420T175748
CREATED:20250125T003906Z
LAST-MODIFIED:20250830T141303Z
UID:10002713-1739988000-1739995200@radhakrishnamandir.ca
SUMMARY:Shri Krishna Puja
DESCRIPTION:
URL:https://radhakrishnamandir.ca/event/shri-krishna-puja/2025-02-19/
LOCATION:Radha Krishna Mandir & Cultural Centre\, 85 Boxwood Drive\, Cambridge\, Ontario\, N3E 0A5\, Canada
CATEGORIES:Culture,Events at Mandir,Special Events
ATTACH;FMTTYPE=image/png:https://radhakrishnamandir.ca/wp-content/uploads/2025/01/Weekly_Lord_Krishna_Puja_-2025-2.png
END:VEVENT
BEGIN:VEVENT
DTSTART;TZID=America/Toronto:20250218T170000
DTEND;TZID=America/Toronto:20250218T200000
DTSTAMP:20260420T175748
CREATED:20250124T123911Z
LAST-MODIFIED:20250308T190116Z
UID:10003146-1739898000-1739908800@radhakrishnamandir.ca
SUMMARY:Hanuman Chalisa Satsang
DESCRIPTION:Jai Bajrangbali ji ki! \nPlease do come and take benefit of the blessings of Lord Hanumaan ji..We are always looking for the new sponsors for the program\nSo if you’re thinking to sponsor the Sunderkand Path\, Please call the temple at 519-650-1575 or you may anyone one the flyer. \nWe would love to hear from you.
URL:https://radhakrishnamandir.ca/event/hanuman-chalisa-2-2/2025-02-18/
LOCATION:Radha Krishna Mandir & Cultural Centre\, 85 Boxwood Drive\, Cambridge\, Ontario\, N3E 0A5\, Canada
CATEGORIES:Events at Mandir
ATTACH;FMTTYPE=image/png:https://radhakrishnamandir.ca/wp-content/uploads/2025/01/RKMCC-Event-Network-4.png
ORGANIZER;CN="Panditji":MAILTO:rkmcc@radhakrishnamandir.ca
END:VEVENT
BEGIN:VEVENT
DTSTART;TZID=America/Toronto:20250217T190000
DTEND;TZID=America/Toronto:20250217T200000
DTSTAMP:20260420T175748
CREATED:20240123T162004Z
LAST-MODIFIED:20240223T135133Z
UID:10000927-1739818800-1739822400@radhakrishnamandir.ca
SUMMARY:Shiva Abhishek
DESCRIPTION:
URL:https://radhakrishnamandir.ca/event/shiva-abhishek/2025-02-17/
LOCATION:Radha Krishna Mandir & Cultural Centre\, 85 Boxwood Drive\, Cambridge\, Ontario\, N3E 0A5\, Canada
CATEGORIES:Events at Mandir
ATTACH;FMTTYPE=image/jpeg:https://radhakrishnamandir.ca/wp-content/uploads/2024/01/lordshiva-e1709218431374.jpg
ORGANIZER;CN="Panditji":MAILTO:rkmcc@radhakrishnamandir.ca
END:VEVENT
BEGIN:VEVENT
DTSTART;TZID=America/Toronto:20250216T100000
DTEND;TZID=America/Toronto:20250216T230000
DTSTAMP:20260420T175748
CREATED:20240731T190136Z
LAST-MODIFIED:20241010T125918Z
UID:10002368-1739700000-1739746800@radhakrishnamandir.ca
SUMMARY:Bal Vihar (by Registration only)
DESCRIPTION: 
URL:https://radhakrishnamandir.ca/event/bal-vihar-by-registration-only-2/2025-02-16/
LOCATION:Radha Krishna Mandir & Cultural Centre\, 85 Boxwood Drive\, Cambridge\, Ontario\, N3E 0A5\, Canada
CATEGORIES:Community Outreach,Culture,Events at Mandir
ATTACH;FMTTYPE=image/png:https://radhakrishnamandir.ca/wp-content/uploads/2024/01/Bal_vihar_2024.png
ORGANIZER;CN="Bhawna Lakhanpal":MAILTO:balvihar@radhakrishnamandir.ca
END:VEVENT
BEGIN:VEVENT
DTSTART;TZID=America/Toronto:20250216T100000
DTEND;TZID=America/Toronto:20250216T120000
DTSTAMP:20260420T175748
CREATED:20241229T041041Z
LAST-MODIFIED:20241229T041100Z
UID:10001742-1739700000-1739707200@radhakrishnamandir.ca
SUMMARY:Sunday Service
DESCRIPTION:Sunday Programming starts at 10 am till noon\, followed by lunch
URL:https://radhakrishnamandir.ca/event/sunday-service-3-2-2/2025-02-16/
LOCATION:Radha Krishna Mandir & Cultural Centre\, 85 Boxwood Drive\, Cambridge\, Ontario\, N3E 0A5\, Canada
CATEGORIES:Events at Mandir
ATTACH;FMTTYPE=image/png:https://radhakrishnamandir.ca/wp-content/uploads/2024/06/Sunday_upasna_pt.nikhil-1.png
ORGANIZER;CN="Panditji":MAILTO:info@radhakrishnamandir.ca
END:VEVENT
BEGIN:VEVENT
DTSTART;TZID=America/Toronto:20250212T180000
DTEND;TZID=America/Toronto:20250212T200000
DTSTAMP:20260420T175748
CREATED:20250125T003906Z
LAST-MODIFIED:20250830T141303Z
UID:10002712-1739383200-1739390400@radhakrishnamandir.ca
SUMMARY:Shri Krishna Puja
DESCRIPTION:
URL:https://radhakrishnamandir.ca/event/shri-krishna-puja/2025-02-12/
LOCATION:Radha Krishna Mandir & Cultural Centre\, 85 Boxwood Drive\, Cambridge\, Ontario\, N3E 0A5\, Canada
CATEGORIES:Culture,Events at Mandir,Special Events
ATTACH;FMTTYPE=image/png:https://radhakrishnamandir.ca/wp-content/uploads/2025/01/Weekly_Lord_Krishna_Puja_-2025-2.png
END:VEVENT
END:VCALENDAR