BEGIN:VCALENDAR
VERSION:2.0
PRODID:-//Radha Krishna Mandir &amp; Cultural Centre, Cambridge Ontario - ECPv6.15.20//NONSGML v1.0//EN
CALSCALE:GREGORIAN
METHOD:PUBLISH
X-WR-CALNAME:Radha Krishna Mandir &amp; Cultural Centre, Cambridge Ontario
X-ORIGINAL-URL:https://radhakrishnamandir.ca
X-WR-CALDESC:Events for Radha Krishna Mandir &amp; Cultural Centre, Cambridge Ontario
REFRESH-INTERVAL;VALUE=DURATION:PT1H
X-Robots-Tag:noindex
X-PUBLISHED-TTL:PT1H
BEGIN:VTIMEZONE
TZID:America/Toronto
BEGIN:DAYLIGHT
TZOFFSETFROM:-0500
TZOFFSETTO:-0400
TZNAME:EDT
DTSTART:20230312T070000
END:DAYLIGHT
BEGIN:STANDARD
TZOFFSETFROM:-0400
TZOFFSETTO:-0500
TZNAME:EST
DTSTART:20231105T060000
END:STANDARD
BEGIN:DAYLIGHT
TZOFFSETFROM:-0500
TZOFFSETTO:-0400
TZNAME:EDT
DTSTART:20240310T070000
END:DAYLIGHT
BEGIN:STANDARD
TZOFFSETFROM:-0400
TZOFFSETTO:-0500
TZNAME:EST
DTSTART:20241103T060000
END:STANDARD
BEGIN:DAYLIGHT
TZOFFSETFROM:-0500
TZOFFSETTO:-0400
TZNAME:EDT
DTSTART:20250309T070000
END:DAYLIGHT
BEGIN:STANDARD
TZOFFSETFROM:-0400
TZOFFSETTO:-0500
TZNAME:EST
DTSTART:20251102T060000
END:STANDARD
END:VTIMEZONE
BEGIN:VEVENT
DTSTART;TZID=America/Toronto:20240622T173000
DTEND;TZID=America/Toronto:20240622T193000
DTSTAMP:20260422T001859
CREATED:20240621T185419Z
LAST-MODIFIED:20240621T185419Z
UID:10002337-1719077400-1719084600@radhakrishnamandir.ca
SUMMARY:Hanuman ji Puja
DESCRIPTION:
URL:https://radhakrishnamandir.ca/event/hanuman-ji-puja/
LOCATION:Radha Krishna Mandir & Cultural Centre\, 85 Boxwood Drive\, Cambridge\, Ontario\, N3E 0A5\, Canada
CATEGORIES:Events at Mandir,Special Events
ATTACH;FMTTYPE=image/png:https://radhakrishnamandir.ca/wp-content/uploads/2024/06/Hanuman-ji-poja-and-sunderkand.png
END:VEVENT
BEGIN:VEVENT
DTSTART;TZID=America/Toronto:20240621T190000
DTEND;TZID=America/Toronto:20240623T123000
DTSTAMP:20260422T001859
CREATED:20240618T204413Z
LAST-MODIFIED:20240619T201119Z
UID:10001970-1718996400-1719145800@radhakrishnamandir.ca
SUMMARY:Ram Katha with Pandit Budharath Yankatasu
DESCRIPTION:
URL:https://radhakrishnamandir.ca/event/ram-katha-with-pandit-budharath-yankatasu/
LOCATION:Radha Krishna Mandir & Cultural Centre\, 85 Boxwood Drive\, Cambridge\, Ontario\, N3E 0A5\, Canada
CATEGORIES:Events at Mandir,Special Events
ATTACH;FMTTYPE=image/png:https://radhakrishnamandir.ca/wp-content/uploads/2024/06/Pandit-Budharath-Yankatasu-2.png
END:VEVENT
BEGIN:VEVENT
DTSTART;TZID=America/Toronto:20240618T183000
DTEND;TZID=America/Toronto:20240618T193000
DTSTAMP:20260422T001859
CREATED:20240614T175901Z
LAST-MODIFIED:20240617T143317Z
UID:10000026-1718735400-1718739000@radhakrishnamandir.ca
SUMMARY:Hanuman Puja - Every Tuesday
DESCRIPTION:Hanumaan Chalisa Satsang \nJai Bajrangbali ji ki. Our humble request to all devotees to come and take advantage of Lord Hanumaan ji’s blessings..\nand celebrate together with us.. \nPlease enable JavaScript in your browser to complete this form.Please enable JavaScript in your browser to complete this form.Name *FirstLastPhoneEmail *Date / TimeDateTimeWould you like to sponsor Preeti Bhog?YesNoSponsorshipPrice: $101.00 Credit Card *Credit Card field is disabled\, Stripe payments are not enabled in the form settings.Please elaborate let us know if there's anything else you'd like to tell us. Hope to see you soon *Submit
URL:https://radhakrishnamandir.ca/event/hanuman-puja-3-2-2/
LOCATION:Radha Krishna Mandir & Cultural Centre\, 85 Boxwood Drive\, Cambridge\, Ontario\, N3E 0A5\, Canada
CATEGORIES:Events at Mandir,Special Events
ATTACH;FMTTYPE=image/png:https://radhakrishnamandir.ca/wp-content/uploads/2024/02/Hanumanji_Every_tuesday.png
ORGANIZER;CN="Panditji":MAILTO:rkmcc@radhakrishnamandir.ca
END:VEVENT
BEGIN:VEVENT
DTSTART;TZID=America/Toronto:20240617T190000
DTEND;TZID=America/Toronto:20240617T200000
DTSTAMP:20260422T001859
CREATED:20240123T162004Z
LAST-MODIFIED:20240223T135133Z
UID:10000892-1718650800-1718654400@radhakrishnamandir.ca
SUMMARY:Shiva Abhishek
DESCRIPTION:
URL:https://radhakrishnamandir.ca/event/shiva-abhishek/2024-06-17/
LOCATION:Radha Krishna Mandir & Cultural Centre\, 85 Boxwood Drive\, Cambridge\, Ontario\, N3E 0A5\, Canada
CATEGORIES:Events at Mandir
ATTACH;FMTTYPE=image/jpeg:https://radhakrishnamandir.ca/wp-content/uploads/2024/01/lordshiva-e1709218431374.jpg
ORGANIZER;CN="Panditji":MAILTO:rkmcc@radhakrishnamandir.ca
END:VEVENT
BEGIN:VEVENT
DTSTART;TZID=America/Toronto:20240615T180000
DTEND;TZID=America/Toronto:20240615T220000
DTSTAMP:20260422T001900
CREATED:20240307T165312Z
LAST-MODIFIED:20240321T214006Z
UID:10001148-1718474400-1718488800@radhakrishnamandir.ca
SUMMARY:Bhakti Sangeet 2 - A Mega Concert
DESCRIPTION:MEGA CONCERT\n\n\n\n\nBhakti Sangeet features Pt Neil Dev Persad\, Pt Narad Gosine\, Pt Hardat Ashwar and Pt Rajeev Persaud\n\n\n\n\nAlong with a line up of talented musicians\n\n\n\n\nBack by popular demand\n\n\n\nAll proceeds from this concert will go directly towards the building of the New Radha Krishna Mandir in Cambridge Ontario
URL:https://radhakrishnamandir.ca/event/bhakti-sangeet-2-a-mega-concert/
LOCATION:Sringeri Banquet Hall in Toronto Canada\, 80 Brydon Dr\,\, Etobicoke\, ON\, M9W 4N6\, Canada
CATEGORIES:Culture,Fundraising,Special Events
ATTACH;FMTTYPE=image/webp:https://radhakrishnamandir.ca/wp-content/uploads/2024/03/Bhakti-sangeet-2024-VERSION-1-1-scaled.webp
END:VEVENT
BEGIN:VEVENT
DTSTART;TZID=America/Toronto:20240614T190000
DTEND;TZID=America/Toronto:20240614T210000
DTSTAMP:20260422T001900
CREATED:20240528T113117Z
LAST-MODIFIED:20240614T152224Z
UID:10001177-1718391600-1718398800@radhakrishnamandir.ca
SUMMARY:Katha with Pt. Arun Gossai
DESCRIPTION: 
URL:https://radhakrishnamandir.ca/event/katha-with-pt-arun-gossai/
LOCATION:Radha Krishna Mandir & Cultural Centre\, 85 Boxwood Drive\, Cambridge\, Ontario\, N3E 0A5\, Canada
CATEGORIES:Events at Mandir,Fundraising,Special Events
ATTACH;FMTTYPE=image/png:https://radhakrishnamandir.ca/wp-content/uploads/2024/05/Pt.-Gossai_Flyer_final.png
ORGANIZER;CN="Dwarka Persaud":MAILTO:president@radhakrishnamandir.ca
END:VEVENT
BEGIN:VEVENT
DTSTART;TZID=America/Toronto:20240611T183000
DTEND;TZID=America/Toronto:20240611T193000
DTSTAMP:20260422T001900
CREATED:20240201T133625Z
LAST-MODIFIED:20240614T221933Z
UID:10000025-1718130600-1718134200@radhakrishnamandir.ca
SUMMARY:Hanuman Puja
DESCRIPTION:Hanumaan Chalisa Satsang \nJai Bajrangbali ji ki. Our humble request to all devotees to come and take advantage of Lord Hanumaan ji’s blessings..\nand celebrate together with us..
URL:https://radhakrishnamandir.ca/event/hanuman-puja-3-2/2024-06-11/
LOCATION:Radha Krishna Mandir & Cultural Centre\, 85 Boxwood Drive\, Cambridge\, Ontario\, N3E 0A5\, Canada
CATEGORIES:Events at Mandir
ATTACH;FMTTYPE=image/jpeg:https://radhakrishnamandir.ca/wp-content/uploads/2024/01/unnamed.jpg
ORGANIZER;CN="Panditji":MAILTO:rkmcc@radhakrishnamandir.ca
END:VEVENT
BEGIN:VEVENT
DTSTART;TZID=America/Toronto:20240610T190000
DTEND;TZID=America/Toronto:20240610T200000
DTSTAMP:20260422T001900
CREATED:20240123T162004Z
LAST-MODIFIED:20240223T135133Z
UID:10000891-1718046000-1718049600@radhakrishnamandir.ca
SUMMARY:Shiva Abhishek
DESCRIPTION:
URL:https://radhakrishnamandir.ca/event/shiva-abhishek/2024-06-10/
LOCATION:Radha Krishna Mandir & Cultural Centre\, 85 Boxwood Drive\, Cambridge\, Ontario\, N3E 0A5\, Canada
CATEGORIES:Events at Mandir
ATTACH;FMTTYPE=image/jpeg:https://radhakrishnamandir.ca/wp-content/uploads/2024/01/lordshiva-e1709218431374.jpg
ORGANIZER;CN="Panditji":MAILTO:rkmcc@radhakrishnamandir.ca
END:VEVENT
BEGIN:VEVENT
DTSTART;TZID=America/Toronto:20240609T100000
DTEND;TZID=America/Toronto:20240609T120000
DTSTAMP:20260422T001900
CREATED:20240604T163821Z
LAST-MODIFIED:20240604T163822Z
UID:10000064-1717927200-1717934400@radhakrishnamandir.ca
SUMMARY:Sunday Upasana
DESCRIPTION:Pt. Avinash Sharma comes on second Sunday each month
URL:https://radhakrishnamandir.ca/event/sunday-upasana-4-2/
LOCATION:Radha Krishna Mandir & Cultural Centre\, 85 Boxwood Drive\, Cambridge\, Ontario\, N3E 0A5\, Canada
CATEGORIES:Events at Mandir
ATTACH;FMTTYPE=image/jpeg:https://radhakrishnamandir.ca/wp-content/uploads/2024/05/447663967_886866723476820_3995033143947054401_n-1.jpg
ORGANIZER;CN="Dwarka Persaud":MAILTO:president@radhakrishnamandir.ca
END:VEVENT
BEGIN:VEVENT
DTSTART;TZID=America/Toronto:20240608T100000
DTEND;TZID=America/Toronto:20240608T120000
DTSTAMP:20260422T001900
CREATED:20240602T220917Z
LAST-MODIFIED:20240602T221007Z
UID:10001183-1717840800-1717848000@radhakrishnamandir.ca
SUMMARY:Bhagavad Geeta Discourse with Swami Prakashananda ji
DESCRIPTION:
URL:https://radhakrishnamandir.ca/event/bhagawad-geeta-discourse-with-swami-prakashananda-ji/
LOCATION:Radha Krishna Mandir & Cultural Centre\, 85 Boxwood Drive\, Cambridge\, Ontario\, N3E 0A5\, Canada
CATEGORIES:Events at Mandir,Special Events
ATTACH;FMTTYPE=image/jpeg:https://radhakrishnamandir.ca/wp-content/uploads/2024/06/satrday.jpg
ORGANIZER;CN="Dwarka Persaud":MAILTO:president@radhakrishnamandir.ca
END:VEVENT
BEGIN:VEVENT
DTSTART;TZID=America/Toronto:20240604T183000
DTEND;TZID=America/Toronto:20240604T193000
DTSTAMP:20260422T001900
CREATED:20240201T133625Z
LAST-MODIFIED:20240614T221933Z
UID:10000024-1717525800-1717529400@radhakrishnamandir.ca
SUMMARY:Hanuman Puja
DESCRIPTION:Hanumaan Chalisa Satsang \nJai Bajrangbali ji ki. Our humble request to all devotees to come and take advantage of Lord Hanumaan ji’s blessings..\nand celebrate together with us..
URL:https://radhakrishnamandir.ca/event/hanuman-puja-3-2/2024-06-04/
LOCATION:Radha Krishna Mandir & Cultural Centre\, 85 Boxwood Drive\, Cambridge\, Ontario\, N3E 0A5\, Canada
CATEGORIES:Events at Mandir
ATTACH;FMTTYPE=image/jpeg:https://radhakrishnamandir.ca/wp-content/uploads/2024/01/unnamed.jpg
ORGANIZER;CN="Panditji":MAILTO:rkmcc@radhakrishnamandir.ca
END:VEVENT
BEGIN:VEVENT
DTSTART;TZID=America/Toronto:20240603T190000
DTEND;TZID=America/Toronto:20240603T200000
DTSTAMP:20260422T001900
CREATED:20240123T162004Z
LAST-MODIFIED:20240223T135133Z
UID:10000890-1717441200-1717444800@radhakrishnamandir.ca
SUMMARY:Shiva Abhishek
DESCRIPTION:
URL:https://radhakrishnamandir.ca/event/shiva-abhishek/2024-06-03/
LOCATION:Radha Krishna Mandir & Cultural Centre\, 85 Boxwood Drive\, Cambridge\, Ontario\, N3E 0A5\, Canada
CATEGORIES:Events at Mandir
ATTACH;FMTTYPE=image/jpeg:https://radhakrishnamandir.ca/wp-content/uploads/2024/01/lordshiva-e1709218431374.jpg
ORGANIZER;CN="Panditji":MAILTO:rkmcc@radhakrishnamandir.ca
END:VEVENT
BEGIN:VEVENT
DTSTART;TZID=America/Toronto:20240602T100000
DTEND;TZID=America/Toronto:20240602T120000
DTSTAMP:20260422T001900
CREATED:20240531T015832Z
LAST-MODIFIED:20240531T185956Z
UID:10001182-1717322400-1717329600@radhakrishnamandir.ca
SUMMARY:Special session with Swami Chidghan Anand
DESCRIPTION:
URL:https://radhakrishnamandir.ca/event/sunday-services-2/
LOCATION:Radha Krishna Mandir & Cultural Centre\, 85 Boxwood Drive\, Cambridge\, Ontario\, N3E 0A5\, Canada
CATEGORIES:Events at Mandir,Fundraising,Special Events
ATTACH;FMTTYPE=image/png:https://radhakrishnamandir.ca/wp-content/uploads/2024/05/Swami-Chidghanand-Flyer_final-1.png
ORGANIZER;CN="Dwarka Persaud":MAILTO:president@radhakrishnamandir.ca
END:VEVENT
BEGIN:VEVENT
DTSTART;TZID=America/Toronto:20240528T183000
DTEND;TZID=America/Toronto:20240528T193000
DTSTAMP:20260422T001900
CREATED:20240201T133625Z
LAST-MODIFIED:20240614T221933Z
UID:10000023-1716921000-1716924600@radhakrishnamandir.ca
SUMMARY:Hanuman Puja
DESCRIPTION:Hanumaan Chalisa Satsang \nJai Bajrangbali ji ki. Our humble request to all devotees to come and take advantage of Lord Hanumaan ji’s blessings..\nand celebrate together with us..
URL:https://radhakrishnamandir.ca/event/hanuman-puja-3-2/2024-05-28/
LOCATION:Radha Krishna Mandir & Cultural Centre\, 85 Boxwood Drive\, Cambridge\, Ontario\, N3E 0A5\, Canada
CATEGORIES:Events at Mandir
ATTACH;FMTTYPE=image/jpeg:https://radhakrishnamandir.ca/wp-content/uploads/2024/01/unnamed.jpg
ORGANIZER;CN="Panditji":MAILTO:rkmcc@radhakrishnamandir.ca
END:VEVENT
BEGIN:VEVENT
DTSTART;TZID=America/Toronto:20240527T190000
DTEND;TZID=America/Toronto:20240527T200000
DTSTAMP:20260422T001900
CREATED:20240123T162004Z
LAST-MODIFIED:20240223T135133Z
UID:10000889-1716836400-1716840000@radhakrishnamandir.ca
SUMMARY:Shiva Abhishek
DESCRIPTION:
URL:https://radhakrishnamandir.ca/event/shiva-abhishek/2024-05-27/
LOCATION:Radha Krishna Mandir & Cultural Centre\, 85 Boxwood Drive\, Cambridge\, Ontario\, N3E 0A5\, Canada
CATEGORIES:Events at Mandir
ATTACH;FMTTYPE=image/jpeg:https://radhakrishnamandir.ca/wp-content/uploads/2024/01/lordshiva-e1709218431374.jpg
ORGANIZER;CN="Panditji":MAILTO:rkmcc@radhakrishnamandir.ca
END:VEVENT
BEGIN:VEVENT
DTSTART;TZID=America/Toronto:20240524T190000
DTEND;TZID=America/Toronto:20240526T210000
DTSTAMP:20260422T001900
CREATED:20240402T190123Z
LAST-MODIFIED:20240426T154858Z
UID:10001164-1716577200-1716757200@radhakrishnamandir.ca
SUMMARY:Ramayan Yagna with Pt. Jagmohan Persaud
DESCRIPTION:Ramayan Yagna with Pt. Jagmohan Persaud from Guyana
URL:https://radhakrishnamandir.ca/event/ramayan-yagna-with-pt-jagmohan-persaud/
LOCATION:Radha Krishna Mandir & Cultural Centre\, 85 Boxwood Drive\, Cambridge\, Ontario\, N3E 0A5\, Canada
CATEGORIES:Events at Mandir,Special Events
ATTACH;FMTTYPE=image/jpeg:https://radhakrishnamandir.ca/wp-content/uploads/2024/04/IMG-20240402-WA0002-Pt-Jagmohan-Persaud-1.jpg
ORGANIZER;CN="Dwarka Persaud":MAILTO:president@radhakrishnamandir.ca
END:VEVENT
BEGIN:VEVENT
DTSTART;TZID=America/Toronto:20240521T183000
DTEND;TZID=America/Toronto:20240521T193000
DTSTAMP:20260422T001900
CREATED:20240201T133625Z
LAST-MODIFIED:20240614T221933Z
UID:10000022-1716316200-1716319800@radhakrishnamandir.ca
SUMMARY:Hanuman Puja
DESCRIPTION:Hanumaan Chalisa Satsang \nJai Bajrangbali ji ki. Our humble request to all devotees to come and take advantage of Lord Hanumaan ji’s blessings..\nand celebrate together with us..
URL:https://radhakrishnamandir.ca/event/hanuman-puja-3-2/2024-05-21/
LOCATION:Radha Krishna Mandir & Cultural Centre\, 85 Boxwood Drive\, Cambridge\, Ontario\, N3E 0A5\, Canada
CATEGORIES:Events at Mandir
ATTACH;FMTTYPE=image/jpeg:https://radhakrishnamandir.ca/wp-content/uploads/2024/01/unnamed.jpg
ORGANIZER;CN="Panditji":MAILTO:rkmcc@radhakrishnamandir.ca
END:VEVENT
BEGIN:VEVENT
DTSTART;TZID=America/Toronto:20240520T190000
DTEND;TZID=America/Toronto:20240520T200000
DTSTAMP:20260422T001900
CREATED:20240123T162004Z
LAST-MODIFIED:20240223T135133Z
UID:10000888-1716231600-1716235200@radhakrishnamandir.ca
SUMMARY:Shiva Abhishek
DESCRIPTION:
URL:https://radhakrishnamandir.ca/event/shiva-abhishek/2024-05-20/
LOCATION:Radha Krishna Mandir & Cultural Centre\, 85 Boxwood Drive\, Cambridge\, Ontario\, N3E 0A5\, Canada
CATEGORIES:Events at Mandir
ATTACH;FMTTYPE=image/jpeg:https://radhakrishnamandir.ca/wp-content/uploads/2024/01/lordshiva-e1709218431374.jpg
ORGANIZER;CN="Panditji":MAILTO:rkmcc@radhakrishnamandir.ca
END:VEVENT
BEGIN:VEVENT
DTSTART;TZID=America/Toronto:20240519T093000
DTEND;TZID=America/Toronto:20240519T120000
DTSTAMP:20260422T001900
CREATED:20240123T124409Z
LAST-MODIFIED:20240402T190855Z
UID:10000085-1716111000-1716120000@radhakrishnamandir.ca
SUMMARY:Sunday Service
DESCRIPTION:Sunday Programming  starts at 10am ends at noon\, followed by lunch
URL:https://radhakrishnamandir.ca/event/sunday-services/2024-05-19/
LOCATION:Radha Krishna Mandir & Cultural Centre\, 85 Boxwood Drive\, Cambridge\, Ontario\, N3E 0A5\, Canada
CATEGORIES:Events at Mandir
ORGANIZER;CN="Panditji":MAILTO:rkmcc@radhakrishnamandir.ca
END:VEVENT
BEGIN:VEVENT
DTSTART;TZID=America/Toronto:20240518T150000
DTEND;TZID=America/Toronto:20240518T180000
DTSTAMP:20260422T001900
CREATED:20240502T003405Z
LAST-MODIFIED:20240506T010432Z
UID:10001176-1716044400-1716055200@radhakrishnamandir.ca
SUMMARY:Shri Ram Lalla Yatra
DESCRIPTION:Join us as Shri Rama Lalla arrives our  Radha Krishna Mandir in Cambridge\, Ontario. Come\, experience the divine lord Rama presence and blessings!
URL:https://radhakrishnamandir.ca/event/shri-ram-lalla-yatra/
LOCATION:Radha Krishna Mandir & Cultural Centre\, 85 Boxwood Drive\, Cambridge\, Ontario\, N3E 0A5\, Canada
CATEGORIES:Events at Mandir,Special Events
ATTACH;FMTTYPE=image/png:https://radhakrishnamandir.ca/wp-content/uploads/2024/05/Ram-Lalas-Flyer_final-1.png
ORGANIZER;CN="Dwarka Persaud":MAILTO:president@radhakrishnamandir.ca
END:VEVENT
BEGIN:VEVENT
DTSTART;TZID=America/Toronto:20240514T183000
DTEND;TZID=America/Toronto:20240514T193000
DTSTAMP:20260422T001900
CREATED:20240201T133625Z
LAST-MODIFIED:20240614T221933Z
UID:10000021-1715711400-1715715000@radhakrishnamandir.ca
SUMMARY:Hanuman Puja
DESCRIPTION:Hanumaan Chalisa Satsang \nJai Bajrangbali ji ki. Our humble request to all devotees to come and take advantage of Lord Hanumaan ji’s blessings..\nand celebrate together with us..
URL:https://radhakrishnamandir.ca/event/hanuman-puja-3-2/2024-05-14/
LOCATION:Radha Krishna Mandir & Cultural Centre\, 85 Boxwood Drive\, Cambridge\, Ontario\, N3E 0A5\, Canada
CATEGORIES:Events at Mandir
ATTACH;FMTTYPE=image/jpeg:https://radhakrishnamandir.ca/wp-content/uploads/2024/01/unnamed.jpg
ORGANIZER;CN="Panditji":MAILTO:rkmcc@radhakrishnamandir.ca
END:VEVENT
BEGIN:VEVENT
DTSTART;TZID=America/Toronto:20240513T190000
DTEND;TZID=America/Toronto:20240513T200000
DTSTAMP:20260422T001900
CREATED:20240123T162004Z
LAST-MODIFIED:20240223T135133Z
UID:10000887-1715626800-1715630400@radhakrishnamandir.ca
SUMMARY:Shiva Abhishek
DESCRIPTION:
URL:https://radhakrishnamandir.ca/event/shiva-abhishek/2024-05-13/
LOCATION:Radha Krishna Mandir & Cultural Centre\, 85 Boxwood Drive\, Cambridge\, Ontario\, N3E 0A5\, Canada
CATEGORIES:Events at Mandir
ATTACH;FMTTYPE=image/jpeg:https://radhakrishnamandir.ca/wp-content/uploads/2024/01/lordshiva-e1709218431374.jpg
ORGANIZER;CN="Panditji":MAILTO:rkmcc@radhakrishnamandir.ca
END:VEVENT
BEGIN:VEVENT
DTSTART;TZID=America/Toronto:20240512T100000
DTEND;TZID=America/Toronto:20240512T120000
DTSTAMP:20260422T001900
CREATED:20240506T010725Z
LAST-MODIFIED:20240506T010921Z
UID:10000063-1715508000-1715515200@radhakrishnamandir.ca
SUMMARY:Sunday Upasana
DESCRIPTION:Pt. Avinash Sharma comes on second Sunday each month
URL:https://radhakrishnamandir.ca/event/sunday-upasana-3/
LOCATION:Radha Krishna Mandir & Cultural Centre\, 85 Boxwood Drive\, Cambridge\, Ontario\, N3E 0A5\, Canada
CATEGORIES:Events at Mandir
ORGANIZER;CN="Dwarka Persaud":MAILTO:president@radhakrishnamandir.ca
END:VEVENT
BEGIN:VEVENT
DTSTART;TZID=America/Toronto:20240512T100000
DTEND;TZID=America/Toronto:20240512T120000
DTSTAMP:20260422T001900
CREATED:20240411T134035Z
LAST-MODIFIED:20240506T010839Z
UID:10000062-1715508000-1715515200@radhakrishnamandir.ca
SUMMARY:Sunday Upasana
DESCRIPTION:Pt. Avinash Sharma comes on second Sunday each month
URL:https://radhakrishnamandir.ca/event/sunday-upasana-2/
LOCATION:Radha Krishna Mandir & Cultural Centre\, 85 Boxwood Drive\, Cambridge\, Ontario\, N3E 0A5\, Canada
CATEGORIES:Events at Mandir
ATTACH;FMTTYPE=image/jpeg:https://radhakrishnamandir.ca/wp-content/uploads/2024/04/unnamed-5.jpg
ORGANIZER;CN="Dwarka Persaud":MAILTO:president@radhakrishnamandir.ca
END:VEVENT
BEGIN:VEVENT
DTSTART;TZID=America/Toronto:20240507T183000
DTEND;TZID=America/Toronto:20240507T193000
DTSTAMP:20260422T001900
CREATED:20240201T133625Z
LAST-MODIFIED:20240614T221933Z
UID:10000020-1715106600-1715110200@radhakrishnamandir.ca
SUMMARY:Hanuman Puja
DESCRIPTION:Hanumaan Chalisa Satsang \nJai Bajrangbali ji ki. Our humble request to all devotees to come and take advantage of Lord Hanumaan ji’s blessings..\nand celebrate together with us..
URL:https://radhakrishnamandir.ca/event/hanuman-puja-3-2/2024-05-07/
LOCATION:Radha Krishna Mandir & Cultural Centre\, 85 Boxwood Drive\, Cambridge\, Ontario\, N3E 0A5\, Canada
CATEGORIES:Events at Mandir
ATTACH;FMTTYPE=image/jpeg:https://radhakrishnamandir.ca/wp-content/uploads/2024/01/unnamed.jpg
ORGANIZER;CN="Panditji":MAILTO:rkmcc@radhakrishnamandir.ca
END:VEVENT
BEGIN:VEVENT
DTSTART;TZID=America/Toronto:20240506T190000
DTEND;TZID=America/Toronto:20240506T200000
DTSTAMP:20260422T001900
CREATED:20240123T162004Z
LAST-MODIFIED:20240223T135133Z
UID:10000886-1715022000-1715025600@radhakrishnamandir.ca
SUMMARY:Shiva Abhishek
DESCRIPTION:
URL:https://radhakrishnamandir.ca/event/shiva-abhishek/2024-05-06/
LOCATION:Radha Krishna Mandir & Cultural Centre\, 85 Boxwood Drive\, Cambridge\, Ontario\, N3E 0A5\, Canada
CATEGORIES:Events at Mandir
ATTACH;FMTTYPE=image/jpeg:https://radhakrishnamandir.ca/wp-content/uploads/2024/01/lordshiva-e1709218431374.jpg
ORGANIZER;CN="Panditji":MAILTO:rkmcc@radhakrishnamandir.ca
END:VEVENT
BEGIN:VEVENT
DTSTART;TZID=America/Toronto:20240505T093000
DTEND;TZID=America/Toronto:20240505T120000
DTSTAMP:20260422T001900
CREATED:20240123T124409Z
LAST-MODIFIED:20240402T190855Z
UID:10000084-1714901400-1714910400@radhakrishnamandir.ca
SUMMARY:Sunday Service
DESCRIPTION:Sunday Programming  starts at 10am ends at noon\, followed by lunch
URL:https://radhakrishnamandir.ca/event/sunday-services/2024-05-05/
LOCATION:Radha Krishna Mandir & Cultural Centre\, 85 Boxwood Drive\, Cambridge\, Ontario\, N3E 0A5\, Canada
CATEGORIES:Events at Mandir
ORGANIZER;CN="Panditji":MAILTO:rkmcc@radhakrishnamandir.ca
END:VEVENT
BEGIN:VEVENT
DTSTART;TZID=America/Toronto:20240430T183000
DTEND;TZID=America/Toronto:20240430T193000
DTSTAMP:20260422T001900
CREATED:20240201T133625Z
LAST-MODIFIED:20240614T221933Z
UID:10000019-1714501800-1714505400@radhakrishnamandir.ca
SUMMARY:Hanuman Puja
DESCRIPTION:Hanumaan Chalisa Satsang \nJai Bajrangbali ji ki. Our humble request to all devotees to come and take advantage of Lord Hanumaan ji’s blessings..\nand celebrate together with us..
URL:https://radhakrishnamandir.ca/event/hanuman-puja-3-2/2024-04-30/
LOCATION:Radha Krishna Mandir & Cultural Centre\, 85 Boxwood Drive\, Cambridge\, Ontario\, N3E 0A5\, Canada
CATEGORIES:Events at Mandir
ATTACH;FMTTYPE=image/jpeg:https://radhakrishnamandir.ca/wp-content/uploads/2024/01/unnamed.jpg
ORGANIZER;CN="Panditji":MAILTO:rkmcc@radhakrishnamandir.ca
END:VEVENT
BEGIN:VEVENT
DTSTART;TZID=America/Toronto:20240429T190000
DTEND;TZID=America/Toronto:20240429T200000
DTSTAMP:20260422T001900
CREATED:20240123T162004Z
LAST-MODIFIED:20240223T135133Z
UID:10000885-1714417200-1714420800@radhakrishnamandir.ca
SUMMARY:Shiva Abhishek
DESCRIPTION:
URL:https://radhakrishnamandir.ca/event/shiva-abhishek/2024-04-29/
LOCATION:Radha Krishna Mandir & Cultural Centre\, 85 Boxwood Drive\, Cambridge\, Ontario\, N3E 0A5\, Canada
CATEGORIES:Events at Mandir
ATTACH;FMTTYPE=image/jpeg:https://radhakrishnamandir.ca/wp-content/uploads/2024/01/lordshiva-e1709218431374.jpg
ORGANIZER;CN="Panditji":MAILTO:rkmcc@radhakrishnamandir.ca
END:VEVENT
BEGIN:VEVENT
DTSTART;TZID=America/Toronto:20240428T093000
DTEND;TZID=America/Toronto:20240428T120000
DTSTAMP:20260422T001900
CREATED:20240123T124409Z
LAST-MODIFIED:20240402T190855Z
UID:10000083-1714296600-1714305600@radhakrishnamandir.ca
SUMMARY:Sunday Service
DESCRIPTION:Sunday Programming  starts at 10am ends at noon\, followed by lunch
URL:https://radhakrishnamandir.ca/event/sunday-services/2024-04-28/
LOCATION:Radha Krishna Mandir & Cultural Centre\, 85 Boxwood Drive\, Cambridge\, Ontario\, N3E 0A5\, Canada
CATEGORIES:Events at Mandir
ORGANIZER;CN="Panditji":MAILTO:rkmcc@radhakrishnamandir.ca
END:VEVENT
END:VCALENDAR