BEGIN:VCALENDAR
VERSION:2.0
PRODID:-//Radha Krishna Mandir &amp; Cultural Centre, Cambridge Ontario - ECPv6.15.20//NONSGML v1.0//EN
CALSCALE:GREGORIAN
METHOD:PUBLISH
X-WR-CALNAME:Radha Krishna Mandir &amp; Cultural Centre, Cambridge Ontario
X-ORIGINAL-URL:https://radhakrishnamandir.ca
X-WR-CALDESC:Events for Radha Krishna Mandir &amp; Cultural Centre, Cambridge Ontario
REFRESH-INTERVAL;VALUE=DURATION:PT1H
X-Robots-Tag:noindex
X-PUBLISHED-TTL:PT1H
BEGIN:VTIMEZONE
TZID:America/Toronto
BEGIN:DAYLIGHT
TZOFFSETFROM:-0500
TZOFFSETTO:-0400
TZNAME:EDT
DTSTART:20230312T070000
END:DAYLIGHT
BEGIN:STANDARD
TZOFFSETFROM:-0400
TZOFFSETTO:-0500
TZNAME:EST
DTSTART:20231105T060000
END:STANDARD
BEGIN:DAYLIGHT
TZOFFSETFROM:-0500
TZOFFSETTO:-0400
TZNAME:EDT
DTSTART:20240310T070000
END:DAYLIGHT
BEGIN:STANDARD
TZOFFSETFROM:-0400
TZOFFSETTO:-0500
TZNAME:EST
DTSTART:20241103T060000
END:STANDARD
BEGIN:DAYLIGHT
TZOFFSETFROM:-0500
TZOFFSETTO:-0400
TZNAME:EDT
DTSTART:20250309T070000
END:DAYLIGHT
BEGIN:STANDARD
TZOFFSETFROM:-0400
TZOFFSETTO:-0500
TZNAME:EST
DTSTART:20251102T060000
END:STANDARD
END:VTIMEZONE
BEGIN:VEVENT
DTSTART;TZID=America/Toronto:20240924T183000
DTEND;TZID=America/Toronto:20240924T193000
DTSTAMP:20260421T040452
CREATED:20240617T215646Z
LAST-MODIFIED:20240626T193930Z
UID:10000040-1727202600-1727206200@radhakrishnamandir.ca
SUMMARY:Hanuman Puja - Every Tuesday
DESCRIPTION:Hanumaan Chalisa Satsang \nJai Bajrangbali ji ki. Our humble request to all devotees to come and take advantage of Lord Hanumaan ji’s blessings..\nand celebrate together with us.
URL:https://radhakrishnamandir.ca/event/hanuman-puja-3-2-2-2/2024-09-24/
LOCATION:Radha Krishna Mandir & Cultural Centre\, 85 Boxwood Drive\, Cambridge\, Ontario\, N3E 0A5\, Canada
CATEGORIES:Events at Mandir
ATTACH;FMTTYPE=image/png:https://radhakrishnamandir.ca/wp-content/uploads/2024/02/Hanumanji_Every_tuesday.png
ORGANIZER;CN="Panditji":MAILTO:rkmcc@radhakrishnamandir.ca
END:VEVENT
BEGIN:VEVENT
DTSTART;TZID=America/Toronto:20240923T190000
DTEND;TZID=America/Toronto:20240923T200000
DTSTAMP:20260421T040452
CREATED:20240123T162004Z
LAST-MODIFIED:20240223T135133Z
UID:10000906-1727118000-1727121600@radhakrishnamandir.ca
SUMMARY:Shiva Abhishek
DESCRIPTION:
URL:https://radhakrishnamandir.ca/event/shiva-abhishek/2024-09-23/
LOCATION:Radha Krishna Mandir & Cultural Centre\, 85 Boxwood Drive\, Cambridge\, Ontario\, N3E 0A5\, Canada
CATEGORIES:Events at Mandir
ATTACH;FMTTYPE=image/jpeg:https://radhakrishnamandir.ca/wp-content/uploads/2024/01/lordshiva-e1709218431374.jpg
ORGANIZER;CN="Panditji":MAILTO:rkmcc@radhakrishnamandir.ca
END:VEVENT
BEGIN:VEVENT
DTSTART;TZID=America/Toronto:20240922T100000
DTEND;TZID=America/Toronto:20240922T230000
DTSTAMP:20260421T040452
CREATED:20240731T190136Z
LAST-MODIFIED:20241010T125918Z
UID:10002347-1726999200-1727046000@radhakrishnamandir.ca
SUMMARY:Bal Vihar (by Registration only)
DESCRIPTION: 
URL:https://radhakrishnamandir.ca/event/bal-vihar-by-registration-only-2/2024-09-22/
LOCATION:Radha Krishna Mandir & Cultural Centre\, 85 Boxwood Drive\, Cambridge\, Ontario\, N3E 0A5\, Canada
CATEGORIES:Community Outreach,Culture,Events at Mandir
ATTACH;FMTTYPE=image/png:https://radhakrishnamandir.ca/wp-content/uploads/2024/01/Bal_vihar_2024.png
ORGANIZER;CN="Bhawna Lakhanpal":MAILTO:balvihar@radhakrishnamandir.ca
END:VEVENT
BEGIN:VEVENT
DTSTART;TZID=America/Toronto:20240922T100000
DTEND;TZID=America/Toronto:20240922T120000
DTSTAMP:20260421T040452
CREATED:20240830T164229Z
LAST-MODIFIED:20240830T164422Z
UID:10001721-1726999200-1727006400@radhakrishnamandir.ca
SUMMARY:Sunday Service
DESCRIPTION:Sunday Programming starts at 10 am till noon\, followed by lunchpan
URL:https://radhakrishnamandir.ca/event/sunday-service-3/2024-09-22/
LOCATION:Radha Krishna Mandir & Cultural Centre\, 85 Boxwood Drive\, Cambridge\, Ontario\, N3E 0A5\, Canada
CATEGORIES:Events at Mandir
ATTACH;FMTTYPE=image/png:https://radhakrishnamandir.ca/wp-content/uploads/2024/06/Sunday_upasna_pt.nikhil-1.png
ORGANIZER;CN="Panditji":MAILTO:info@radhakrishnamandir.ca
END:VEVENT
BEGIN:VEVENT
DTSTART;TZID=America/Toronto:20240917T183000
DTEND;TZID=America/Toronto:20240917T193000
DTSTAMP:20260421T040452
CREATED:20240617T215646Z
LAST-MODIFIED:20240626T193930Z
UID:10000039-1726597800-1726601400@radhakrishnamandir.ca
SUMMARY:Hanuman Puja - Every Tuesday
DESCRIPTION:Hanumaan Chalisa Satsang \nJai Bajrangbali ji ki. Our humble request to all devotees to come and take advantage of Lord Hanumaan ji’s blessings..\nand celebrate together with us.
URL:https://radhakrishnamandir.ca/event/hanuman-puja-3-2-2-2/2024-09-17/
LOCATION:Radha Krishna Mandir & Cultural Centre\, 85 Boxwood Drive\, Cambridge\, Ontario\, N3E 0A5\, Canada
CATEGORIES:Events at Mandir
ATTACH;FMTTYPE=image/png:https://radhakrishnamandir.ca/wp-content/uploads/2024/02/Hanumanji_Every_tuesday.png
ORGANIZER;CN="Panditji":MAILTO:rkmcc@radhakrishnamandir.ca
END:VEVENT
BEGIN:VEVENT
DTSTART;TZID=America/Toronto:20240916T190000
DTEND;TZID=America/Toronto:20240916T200000
DTSTAMP:20260421T040452
CREATED:20240123T162004Z
LAST-MODIFIED:20240223T135133Z
UID:10000905-1726513200-1726516800@radhakrishnamandir.ca
SUMMARY:Shiva Abhishek
DESCRIPTION:
URL:https://radhakrishnamandir.ca/event/shiva-abhishek/2024-09-16/
LOCATION:Radha Krishna Mandir & Cultural Centre\, 85 Boxwood Drive\, Cambridge\, Ontario\, N3E 0A5\, Canada
CATEGORIES:Events at Mandir
ATTACH;FMTTYPE=image/jpeg:https://radhakrishnamandir.ca/wp-content/uploads/2024/01/lordshiva-e1709218431374.jpg
ORGANIZER;CN="Panditji":MAILTO:rkmcc@radhakrishnamandir.ca
END:VEVENT
BEGIN:VEVENT
DTSTART;TZID=America/Toronto:20240915T100000
DTEND;TZID=America/Toronto:20240915T120000
DTSTAMP:20260421T040452
CREATED:20240829T203355Z
LAST-MODIFIED:20240901T194239Z
UID:10002407-1726394400-1726401600@radhakrishnamandir.ca
SUMMARY:Ganesh Utsav  (Pooja @Mandir)
DESCRIPTION:Come join us for Ganesh Pooja!
URL:https://radhakrishnamandir.ca/event/ganesh-visarjan-murti-sthapana-pooja/2024-09-15/
LOCATION:Radha Krishna Mandir & Cultural Centre\, 85 Boxwood Drive\, Cambridge\, Ontario\, N3E 0A5\, Canada
CATEGORIES:Events at Mandir
ORGANIZER;CN="Dwarka Persaud":MAILTO:president@radhakrishnamandir.ca
END:VEVENT
BEGIN:VEVENT
DTSTART;TZID=America/Toronto:20240914T183000
DTEND;TZID=America/Toronto:20240914T193000
DTSTAMP:20260421T040452
CREATED:20240829T203355Z
LAST-MODIFIED:20240901T194239Z
UID:10002405-1726338600-1726342200@radhakrishnamandir.ca
SUMMARY:Ganesh Utsav  (Pooja @Mandir)
DESCRIPTION:Come join us for Ganesh Pooja!
URL:https://radhakrishnamandir.ca/event/ganesh-visarjan-murti-sthapana-pooja/2024-09-14/
LOCATION:Radha Krishna Mandir & Cultural Centre\, 85 Boxwood Drive\, Cambridge\, Ontario\, N3E 0A5\, Canada
CATEGORIES:Events at Mandir
ORGANIZER;CN="Dwarka Persaud":MAILTO:president@radhakrishnamandir.ca
END:VEVENT
BEGIN:VEVENT
DTSTART;TZID=America/Toronto:20240913T183000
DTEND;TZID=America/Toronto:20240913T193000
DTSTAMP:20260421T040452
CREATED:20240829T203355Z
LAST-MODIFIED:20240901T194239Z
UID:10002404-1726252200-1726255800@radhakrishnamandir.ca
SUMMARY:Ganesh Utsav  (Pooja @Mandir)
DESCRIPTION:Come join us for Ganesh Pooja!
URL:https://radhakrishnamandir.ca/event/ganesh-visarjan-murti-sthapana-pooja/2024-09-13/
LOCATION:Radha Krishna Mandir & Cultural Centre\, 85 Boxwood Drive\, Cambridge\, Ontario\, N3E 0A5\, Canada
CATEGORIES:Events at Mandir
ORGANIZER;CN="Dwarka Persaud":MAILTO:president@radhakrishnamandir.ca
END:VEVENT
BEGIN:VEVENT
DTSTART;TZID=America/Toronto:20240912T183000
DTEND;TZID=America/Toronto:20240912T193000
DTSTAMP:20260421T040452
CREATED:20240829T203355Z
LAST-MODIFIED:20240901T194239Z
UID:10002403-1726165800-1726169400@radhakrishnamandir.ca
SUMMARY:Ganesh Utsav  (Pooja @Mandir)
DESCRIPTION:Come join us for Ganesh Pooja!
URL:https://radhakrishnamandir.ca/event/ganesh-visarjan-murti-sthapana-pooja/2024-09-12/
LOCATION:Radha Krishna Mandir & Cultural Centre\, 85 Boxwood Drive\, Cambridge\, Ontario\, N3E 0A5\, Canada
CATEGORIES:Events at Mandir
ORGANIZER;CN="Dwarka Persaud":MAILTO:president@radhakrishnamandir.ca
END:VEVENT
BEGIN:VEVENT
DTSTART;TZID=America/Toronto:20240911T173000
DTEND;TZID=America/Toronto:20240911T183000
DTSTAMP:20260421T040452
CREATED:20240829T203355Z
LAST-MODIFIED:20240901T194239Z
UID:10002402-1726075800-1726079400@radhakrishnamandir.ca
SUMMARY:Ganesh Utsav  (Pooja @Mandir)
DESCRIPTION:Come join us for Ganesh Pooja!
URL:https://radhakrishnamandir.ca/event/ganesh-visarjan-murti-sthapana-pooja/2024-09-11/
LOCATION:Radha Krishna Mandir & Cultural Centre\, 85 Boxwood Drive\, Cambridge\, Ontario\, N3E 0A5\, Canada
CATEGORIES:Events at Mandir
ORGANIZER;CN="Dwarka Persaud":MAILTO:president@radhakrishnamandir.ca
END:VEVENT
BEGIN:VEVENT
DTSTART;TZID=America/Toronto:20240910T183000
DTEND;TZID=America/Toronto:20240910T193000
DTSTAMP:20260421T040452
CREATED:20240617T215646Z
LAST-MODIFIED:20240626T193930Z
UID:10000038-1725993000-1725996600@radhakrishnamandir.ca
SUMMARY:Hanuman Puja - Every Tuesday
DESCRIPTION:Hanumaan Chalisa Satsang \nJai Bajrangbali ji ki. Our humble request to all devotees to come and take advantage of Lord Hanumaan ji’s blessings..\nand celebrate together with us.
URL:https://radhakrishnamandir.ca/event/hanuman-puja-3-2-2-2/2024-09-10/
LOCATION:Radha Krishna Mandir & Cultural Centre\, 85 Boxwood Drive\, Cambridge\, Ontario\, N3E 0A5\, Canada
CATEGORIES:Events at Mandir
ATTACH;FMTTYPE=image/png:https://radhakrishnamandir.ca/wp-content/uploads/2024/02/Hanumanji_Every_tuesday.png
ORGANIZER;CN="Panditji":MAILTO:rkmcc@radhakrishnamandir.ca
END:VEVENT
BEGIN:VEVENT
DTSTART;TZID=America/Toronto:20240910T173000
DTEND;TZID=America/Toronto:20240910T183000
DTSTAMP:20260421T040452
CREATED:20240829T203355Z
LAST-MODIFIED:20240901T194239Z
UID:10002401-1725989400-1725993000@radhakrishnamandir.ca
SUMMARY:Ganesh Utsav  (Pooja @Mandir)
DESCRIPTION:Come join us for Ganesh Pooja!
URL:https://radhakrishnamandir.ca/event/ganesh-visarjan-murti-sthapana-pooja/2024-09-10/
LOCATION:Radha Krishna Mandir & Cultural Centre\, 85 Boxwood Drive\, Cambridge\, Ontario\, N3E 0A5\, Canada
CATEGORIES:Events at Mandir
ORGANIZER;CN="Dwarka Persaud":MAILTO:president@radhakrishnamandir.ca
END:VEVENT
BEGIN:VEVENT
DTSTART;TZID=America/Toronto:20240909T190000
DTEND;TZID=America/Toronto:20240909T200000
DTSTAMP:20260421T040452
CREATED:20240123T162004Z
LAST-MODIFIED:20240223T135133Z
UID:10000904-1725908400-1725912000@radhakrishnamandir.ca
SUMMARY:Shiva Abhishek
DESCRIPTION:
URL:https://radhakrishnamandir.ca/event/shiva-abhishek/2024-09-09/
LOCATION:Radha Krishna Mandir & Cultural Centre\, 85 Boxwood Drive\, Cambridge\, Ontario\, N3E 0A5\, Canada
CATEGORIES:Events at Mandir
ATTACH;FMTTYPE=image/jpeg:https://radhakrishnamandir.ca/wp-content/uploads/2024/01/lordshiva-e1709218431374.jpg
ORGANIZER;CN="Panditji":MAILTO:rkmcc@radhakrishnamandir.ca
END:VEVENT
BEGIN:VEVENT
DTSTART;TZID=America/Toronto:20240909T173000
DTEND;TZID=America/Toronto:20240909T183000
DTSTAMP:20260421T040452
CREATED:20240829T203355Z
LAST-MODIFIED:20240901T194239Z
UID:10002400-1725903000-1725906600@radhakrishnamandir.ca
SUMMARY:Ganesh Utsav  (Pooja @Mandir)
DESCRIPTION:Come join us for Ganesh Pooja!
URL:https://radhakrishnamandir.ca/event/ganesh-visarjan-murti-sthapana-pooja/2024-09-09/
LOCATION:Radha Krishna Mandir & Cultural Centre\, 85 Boxwood Drive\, Cambridge\, Ontario\, N3E 0A5\, Canada
CATEGORIES:Events at Mandir
ORGANIZER;CN="Dwarka Persaud":MAILTO:president@radhakrishnamandir.ca
END:VEVENT
BEGIN:VEVENT
DTSTART;TZID=America/Toronto:20240908T183000
DTEND;TZID=America/Toronto:20240908T193000
DTSTAMP:20260421T040452
CREATED:20240829T203355Z
LAST-MODIFIED:20240901T194239Z
UID:10002399-1725820200-1725823800@radhakrishnamandir.ca
SUMMARY:Ganesh Utsav  (Pooja @Mandir)
DESCRIPTION:Come join us for Ganesh Pooja!
URL:https://radhakrishnamandir.ca/event/ganesh-visarjan-murti-sthapana-pooja/2024-09-08/
LOCATION:Radha Krishna Mandir & Cultural Centre\, 85 Boxwood Drive\, Cambridge\, Ontario\, N3E 0A5\, Canada
CATEGORIES:Events at Mandir
ORGANIZER;CN="Dwarka Persaud":MAILTO:president@radhakrishnamandir.ca
END:VEVENT
BEGIN:VEVENT
DTSTART;TZID=America/Toronto:20240908T100000
DTEND;TZID=America/Toronto:20240908T120000
DTSTAMP:20260421T040453
CREATED:20240801T154100Z
LAST-MODIFIED:20240831T120334Z
UID:10000066-1725789600-1725796800@radhakrishnamandir.ca
SUMMARY:Sunday Upasana
DESCRIPTION:Pt. Avinash Sharma comes on second Sunday each month \n \n 
URL:https://radhakrishnamandir.ca/event/sunday-upasana-5/
LOCATION:Radha Krishna Mandir & Cultural Centre\, 85 Boxwood Drive\, Cambridge\, Ontario\, N3E 0A5\, Canada
CATEGORIES:Events at Mandir
ATTACH;FMTTYPE=image/jpeg:https://radhakrishnamandir.ca/wp-content/uploads/2024/08/Sunday_upasna.jpg
ORGANIZER;CN="Dwarka Persaud":MAILTO:president@radhakrishnamandir.ca
END:VEVENT
BEGIN:VEVENT
DTSTART;TZID=America/Toronto:20240907T183000
DTEND;TZID=America/Toronto:20240907T193000
DTSTAMP:20260421T040453
CREATED:20240829T203355Z
LAST-MODIFIED:20240901T194239Z
UID:10002398-1725733800-1725737400@radhakrishnamandir.ca
SUMMARY:Ganesh Utsav  (Pooja @Mandir)
DESCRIPTION:Come join us for Ganesh Pooja!
URL:https://radhakrishnamandir.ca/event/ganesh-visarjan-murti-sthapana-pooja/2024-09-07/
LOCATION:Radha Krishna Mandir & Cultural Centre\, 85 Boxwood Drive\, Cambridge\, Ontario\, N3E 0A5\, Canada
CATEGORIES:Events at Mandir
ORGANIZER;CN="Dwarka Persaud":MAILTO:president@radhakrishnamandir.ca
END:VEVENT
BEGIN:VEVENT
DTSTART;TZID=America/Toronto:20240903T183000
DTEND;TZID=America/Toronto:20240903T193000
DTSTAMP:20260421T040453
CREATED:20240617T215646Z
LAST-MODIFIED:20240626T193930Z
UID:10000037-1725388200-1725391800@radhakrishnamandir.ca
SUMMARY:Hanuman Puja - Every Tuesday
DESCRIPTION:Hanumaan Chalisa Satsang \nJai Bajrangbali ji ki. Our humble request to all devotees to come and take advantage of Lord Hanumaan ji’s blessings..\nand celebrate together with us.
URL:https://radhakrishnamandir.ca/event/hanuman-puja-3-2-2-2/2024-09-03/
LOCATION:Radha Krishna Mandir & Cultural Centre\, 85 Boxwood Drive\, Cambridge\, Ontario\, N3E 0A5\, Canada
CATEGORIES:Events at Mandir
ATTACH;FMTTYPE=image/png:https://radhakrishnamandir.ca/wp-content/uploads/2024/02/Hanumanji_Every_tuesday.png
ORGANIZER;CN="Panditji":MAILTO:rkmcc@radhakrishnamandir.ca
END:VEVENT
BEGIN:VEVENT
DTSTART;TZID=America/Toronto:20240902T190000
DTEND;TZID=America/Toronto:20240902T200000
DTSTAMP:20260421T040453
CREATED:20240123T162004Z
LAST-MODIFIED:20240223T135133Z
UID:10000903-1725303600-1725307200@radhakrishnamandir.ca
SUMMARY:Shiva Abhishek
DESCRIPTION:
URL:https://radhakrishnamandir.ca/event/shiva-abhishek/2024-09-02/
LOCATION:Radha Krishna Mandir & Cultural Centre\, 85 Boxwood Drive\, Cambridge\, Ontario\, N3E 0A5\, Canada
CATEGORIES:Events at Mandir
ATTACH;FMTTYPE=image/jpeg:https://radhakrishnamandir.ca/wp-content/uploads/2024/01/lordshiva-e1709218431374.jpg
ORGANIZER;CN="Panditji":MAILTO:rkmcc@radhakrishnamandir.ca
END:VEVENT
BEGIN:VEVENT
DTSTART;TZID=America/Toronto:20240901T100000
DTEND;TZID=America/Toronto:20240901T120000
DTSTAMP:20260421T040453
CREATED:20240830T164743Z
LAST-MODIFIED:20240830T164903Z
UID:10001707-1725184800-1725192000@radhakrishnamandir.ca
SUMMARY:Sunday Service with Acharya Ganashyam Sharma
DESCRIPTION:Welcome our beloved Acharya Ganashyam Sharma back to grace us with his presence this Sunday Service at RKMCC. Acharya Ganashyam has been a pillar of knowledge throughout the years as our first resident Pandit and the author of RKMCC’s treasured Mantra Pushpam.
URL:https://radhakrishnamandir.ca/event/sunday-service-4/
LOCATION:Radha Krishna Mandir & Cultural Centre\, 85 Boxwood Drive\, Cambridge\, Ontario\, N3E 0A5\, Canada
CATEGORIES:Events at Mandir,Special Events
ATTACH;FMTTYPE=image/png:https://radhakrishnamandir.ca/wp-content/uploads/2024/06/FINAL_Acharya-Ghanashyam-Sharma_2024.png
ORGANIZER;CN="Panditji":MAILTO:info@radhakrishnamandir.ca
END:VEVENT
BEGIN:VEVENT
DTSTART;TZID=America/Toronto:20240827T183000
DTEND;TZID=America/Toronto:20240827T193000
DTSTAMP:20260421T040453
CREATED:20240617T215646Z
LAST-MODIFIED:20240626T193930Z
UID:10000036-1724783400-1724787000@radhakrishnamandir.ca
SUMMARY:Hanuman Puja - Every Tuesday
DESCRIPTION:Hanumaan Chalisa Satsang \nJai Bajrangbali ji ki. Our humble request to all devotees to come and take advantage of Lord Hanumaan ji’s blessings..\nand celebrate together with us.
URL:https://radhakrishnamandir.ca/event/hanuman-puja-3-2-2-2/2024-08-27/
LOCATION:Radha Krishna Mandir & Cultural Centre\, 85 Boxwood Drive\, Cambridge\, Ontario\, N3E 0A5\, Canada
CATEGORIES:Events at Mandir
ATTACH;FMTTYPE=image/png:https://radhakrishnamandir.ca/wp-content/uploads/2024/02/Hanumanji_Every_tuesday.png
ORGANIZER;CN="Panditji":MAILTO:rkmcc@radhakrishnamandir.ca
END:VEVENT
BEGIN:VEVENT
DTSTART;TZID=America/Toronto:20240826T190000
DTEND;TZID=America/Toronto:20240826T200000
DTSTAMP:20260421T040453
CREATED:20240123T162004Z
LAST-MODIFIED:20240223T135133Z
UID:10000902-1724698800-1724702400@radhakrishnamandir.ca
SUMMARY:Shiva Abhishek
DESCRIPTION:
URL:https://radhakrishnamandir.ca/event/shiva-abhishek/2024-08-26/
LOCATION:Radha Krishna Mandir & Cultural Centre\, 85 Boxwood Drive\, Cambridge\, Ontario\, N3E 0A5\, Canada
CATEGORIES:Events at Mandir
ATTACH;FMTTYPE=image/jpeg:https://radhakrishnamandir.ca/wp-content/uploads/2024/01/lordshiva-e1709218431374.jpg
ORGANIZER;CN="Panditji":MAILTO:rkmcc@radhakrishnamandir.ca
END:VEVENT
BEGIN:VEVENT
DTSTART;TZID=America/Toronto:20240825T100000
DTEND;TZID=America/Toronto:20240825T120000
DTSTAMP:20260421T040453
CREATED:20240618T203824Z
LAST-MODIFIED:20240618T203825Z
UID:10001717-1724580000-1724587200@radhakrishnamandir.ca
SUMMARY:Sunday Service
DESCRIPTION:Sunday Programming starts at 10 am till noon\, followed by lunchpan
URL:https://radhakrishnamandir.ca/event/sunday-service-2/2024-08-25/
LOCATION:Radha Krishna Mandir & Cultural Centre\, 85 Boxwood Drive\, Cambridge\, Ontario\, N3E 0A5\, Canada
CATEGORIES:Events at Mandir
ATTACH;FMTTYPE=image/png:https://radhakrishnamandir.ca/wp-content/uploads/2024/06/Sunday_upasna_pt.nikhil.png
ORGANIZER;CN="Panditji":MAILTO:info@radhakrishnamandir.ca
END:VEVENT
BEGIN:VEVENT
DTSTART;VALUE=DATE:20240825
DTEND;VALUE=DATE:20240826
DTSTAMP:20260421T040453
CREATED:20240119T232657Z
LAST-MODIFIED:20240119T233206Z
UID:10000007-1724544000-1724630399@radhakrishnamandir.ca
SUMMARY:Shri Krishna Janmashtami
DESCRIPTION:Join us for the Shri Krishna Janmashtami Celebration in person at Radha Krishna Mandir. The temple will remain open throughout the day\, with additional details on the programming to be announced soon.
URL:https://radhakrishnamandir.ca/event/shri-krishna-janmashtami/
LOCATION:Radha Krishna Mandir & Cultural Centre\, 85 Boxwood Drive\, Cambridge\, Ontario\, N3E 0A5\, Canada
CATEGORIES:Events at Mandir
ATTACH;FMTTYPE=image/jpeg:https://radhakrishnamandir.ca/wp-content/uploads/2024/01/unnamed-1-e1705706966826.jpg
ORGANIZER;CN="Panditji":MAILTO:rkmcc@radhakrishnamandir.ca
END:VEVENT
BEGIN:VEVENT
DTSTART;TZID=America/Toronto:20240820T183000
DTEND;TZID=America/Toronto:20240820T193000
DTSTAMP:20260421T040453
CREATED:20240617T215646Z
LAST-MODIFIED:20240626T193930Z
UID:10000035-1724178600-1724182200@radhakrishnamandir.ca
SUMMARY:Hanuman Puja - Every Tuesday
DESCRIPTION:Hanumaan Chalisa Satsang \nJai Bajrangbali ji ki. Our humble request to all devotees to come and take advantage of Lord Hanumaan ji’s blessings..\nand celebrate together with us.
URL:https://radhakrishnamandir.ca/event/hanuman-puja-3-2-2-2/2024-08-20/
LOCATION:Radha Krishna Mandir & Cultural Centre\, 85 Boxwood Drive\, Cambridge\, Ontario\, N3E 0A5\, Canada
CATEGORIES:Events at Mandir
ATTACH;FMTTYPE=image/png:https://radhakrishnamandir.ca/wp-content/uploads/2024/02/Hanumanji_Every_tuesday.png
ORGANIZER;CN="Panditji":MAILTO:rkmcc@radhakrishnamandir.ca
END:VEVENT
BEGIN:VEVENT
DTSTART;TZID=America/Toronto:20240819T190000
DTEND;TZID=America/Toronto:20240819T200000
DTSTAMP:20260421T040453
CREATED:20240123T162004Z
LAST-MODIFIED:20240223T135133Z
UID:10000901-1724094000-1724097600@radhakrishnamandir.ca
SUMMARY:Shiva Abhishek
DESCRIPTION:
URL:https://radhakrishnamandir.ca/event/shiva-abhishek/2024-08-19/
LOCATION:Radha Krishna Mandir & Cultural Centre\, 85 Boxwood Drive\, Cambridge\, Ontario\, N3E 0A5\, Canada
CATEGORIES:Events at Mandir
ATTACH;FMTTYPE=image/jpeg:https://radhakrishnamandir.ca/wp-content/uploads/2024/01/lordshiva-e1709218431374.jpg
ORGANIZER;CN="Panditji":MAILTO:rkmcc@radhakrishnamandir.ca
END:VEVENT
BEGIN:VEVENT
DTSTART;TZID=America/Toronto:20240818T100000
DTEND;TZID=America/Toronto:20240818T120000
DTSTAMP:20260421T040453
CREATED:20240618T203824Z
LAST-MODIFIED:20240618T203825Z
UID:10001716-1723975200-1723982400@radhakrishnamandir.ca
SUMMARY:Sunday Service
DESCRIPTION:Sunday Programming starts at 10 am till noon\, followed by lunchpan
URL:https://radhakrishnamandir.ca/event/sunday-service-2/2024-08-18/
LOCATION:Radha Krishna Mandir & Cultural Centre\, 85 Boxwood Drive\, Cambridge\, Ontario\, N3E 0A5\, Canada
CATEGORIES:Events at Mandir
ATTACH;FMTTYPE=image/png:https://radhakrishnamandir.ca/wp-content/uploads/2024/06/Sunday_upasna_pt.nikhil.png
ORGANIZER;CN="Panditji":MAILTO:info@radhakrishnamandir.ca
END:VEVENT
BEGIN:VEVENT
DTSTART;TZID=America/Toronto:20240813T183000
DTEND;TZID=America/Toronto:20240813T193000
DTSTAMP:20260421T040453
CREATED:20240626T193540Z
LAST-MODIFIED:20240626T194028Z
UID:10000034-1723573800-1723577400@radhakrishnamandir.ca
SUMMARY:Hanuman Puja - Every Tuesday
DESCRIPTION:Hanumaan Chalisa Satsang \nJai Bajrangbali ji ki. Our humble request to all devotees to come and take advantage of Lord Hanumaan ji’s blessings..\nand celebrate together with us..
URL:https://radhakrishnamandir.ca/event/hanuman-puja-3-2-2-2-3/
LOCATION:Radha Krishna Mandir & Cultural Centre\, 85 Boxwood Drive\, Cambridge\, Ontario\, N3E 0A5\, Canada
CATEGORIES:Events at Mandir
ATTACH;FMTTYPE=image/png:https://radhakrishnamandir.ca/wp-content/uploads/2024/06/Hanuman-poja-time-change-for-shravan-month.png
ORGANIZER;CN="Panditji":MAILTO:rkmcc@radhakrishnamandir.ca
END:VEVENT
BEGIN:VEVENT
DTSTART;TZID=America/Toronto:20240812T190000
DTEND;TZID=America/Toronto:20240812T200000
DTSTAMP:20260421T040453
CREATED:20240123T162004Z
LAST-MODIFIED:20240223T135133Z
UID:10000900-1723489200-1723492800@radhakrishnamandir.ca
SUMMARY:Shiva Abhishek
DESCRIPTION:
URL:https://radhakrishnamandir.ca/event/shiva-abhishek/2024-08-12/
LOCATION:Radha Krishna Mandir & Cultural Centre\, 85 Boxwood Drive\, Cambridge\, Ontario\, N3E 0A5\, Canada
CATEGORIES:Events at Mandir
ATTACH;FMTTYPE=image/jpeg:https://radhakrishnamandir.ca/wp-content/uploads/2024/01/lordshiva-e1709218431374.jpg
ORGANIZER;CN="Panditji":MAILTO:rkmcc@radhakrishnamandir.ca
END:VEVENT
END:VCALENDAR