BEGIN:VCALENDAR
VERSION:2.0
PRODID:-//Radha Krishna Mandir &amp; Cultural Centre, Cambridge Ontario - ECPv6.15.20//NONSGML v1.0//EN
CALSCALE:GREGORIAN
METHOD:PUBLISH
X-WR-CALNAME:Radha Krishna Mandir &amp; Cultural Centre, Cambridge Ontario
X-ORIGINAL-URL:https://radhakrishnamandir.ca
X-WR-CALDESC:Events for Radha Krishna Mandir &amp; Cultural Centre, Cambridge Ontario
REFRESH-INTERVAL;VALUE=DURATION:PT1H
X-Robots-Tag:noindex
X-PUBLISHED-TTL:PT1H
BEGIN:VTIMEZONE
TZID:America/Toronto
BEGIN:DAYLIGHT
TZOFFSETFROM:-0500
TZOFFSETTO:-0400
TZNAME:EDT
DTSTART:20230312T070000
END:DAYLIGHT
BEGIN:STANDARD
TZOFFSETFROM:-0400
TZOFFSETTO:-0500
TZNAME:EST
DTSTART:20231105T060000
END:STANDARD
BEGIN:DAYLIGHT
TZOFFSETFROM:-0500
TZOFFSETTO:-0400
TZNAME:EDT
DTSTART:20240310T070000
END:DAYLIGHT
BEGIN:STANDARD
TZOFFSETFROM:-0400
TZOFFSETTO:-0500
TZNAME:EST
DTSTART:20241103T060000
END:STANDARD
BEGIN:DAYLIGHT
TZOFFSETFROM:-0500
TZOFFSETTO:-0400
TZNAME:EDT
DTSTART:20250309T070000
END:DAYLIGHT
BEGIN:STANDARD
TZOFFSETFROM:-0400
TZOFFSETTO:-0500
TZNAME:EST
DTSTART:20251102T060000
END:STANDARD
END:VTIMEZONE
BEGIN:VEVENT
DTSTART;TZID=America/Toronto:20240206T183000
DTEND;TZID=America/Toronto:20240206T193000
DTSTAMP:20260422T224927
CREATED:20240201T133625Z
LAST-MODIFIED:20240614T221933Z
UID:10000005-1707244200-1707247800@radhakrishnamandir.ca
SUMMARY:Hanuman Puja
DESCRIPTION:Hanumaan Chalisa Satsang \nJai Bajrangbali ji ki. Our humble request to all devotees to come and take advantage of Lord Hanumaan ji’s blessings..\nand celebrate together with us..
URL:https://radhakrishnamandir.ca/event/hanuman-puja-3-2/2024-02-06/
LOCATION:Radha Krishna Mandir & Cultural Centre\, 85 Boxwood Drive\, Cambridge\, Ontario\, N3E 0A5\, Canada
CATEGORIES:Events at Mandir
ATTACH;FMTTYPE=image/jpeg:https://radhakrishnamandir.ca/wp-content/uploads/2024/01/unnamed.jpg
ORGANIZER;CN="Panditji":MAILTO:rkmcc@radhakrishnamandir.ca
END:VEVENT
BEGIN:VEVENT
DTSTART;TZID=America/Toronto:20240204T100000
DTEND;TZID=America/Toronto:20240204T110000
DTSTAMP:20260422T224927
CREATED:20240123T151331Z
LAST-MODIFIED:20240229T143509Z
UID:10000325-1707040800-1707044400@radhakrishnamandir.ca
SUMMARY:Bal Vihar (by Registration only)
DESCRIPTION:RKM Bal Vihar runs from September 2023  to JUne 2024 at Radha Krishna Mandir – 67 Old Mill Rd.\, Cambridge\, ON \nfees are $150 per child 
URL:https://radhakrishnamandir.ca/event/bal-vihar-by-registration-only/2024-02-04/
LOCATION:Radha Krishna Mandir & Cultural Centre\, 85 Boxwood Drive\, Cambridge\, Ontario\, N3E 0A5\, Canada
CATEGORIES:Community Outreach,Events at Mandir
ATTACH;FMTTYPE=image/jpeg:https://radhakrishnamandir.ca/wp-content/uploads/2024/01/Balvihr.jpg
ORGANIZER;CN="Bhawna Lakhanpal":MAILTO:balvihar@radhakrishnamandir.ca
END:VEVENT
BEGIN:VEVENT
DTSTART;TZID=America/Toronto:20240204T093000
DTEND;TZID=America/Toronto:20240204T120000
DTSTAMP:20260422T224927
CREATED:20240123T124409Z
LAST-MODIFIED:20240402T190855Z
UID:10000074-1707039000-1707048000@radhakrishnamandir.ca
SUMMARY:Sunday Service
DESCRIPTION:Sunday Programming  starts at 10am ends at noon\, followed by lunch
URL:https://radhakrishnamandir.ca/event/sunday-services/2024-02-04/
LOCATION:Radha Krishna Mandir & Cultural Centre\, 85 Boxwood Drive\, Cambridge\, Ontario\, N3E 0A5\, Canada
CATEGORIES:Events at Mandir
ORGANIZER;CN="Panditji":MAILTO:rkmcc@radhakrishnamandir.ca
END:VEVENT
BEGIN:VEVENT
DTSTART;TZID=America/Toronto:20240131T190000
DTEND;TZID=America/Toronto:20240131T200000
DTSTAMP:20260422T224927
CREATED:20240123T161719Z
LAST-MODIFIED:20240123T161719Z
UID:10000350-1706727600-1706731200@radhakrishnamandir.ca
SUMMARY:Shri Radha Krishna Puja
DESCRIPTION:  \n 
URL:https://radhakrishnamandir.ca/event/shri-radha-krishna-puja/2024-01-31/
LOCATION:Radha Krishna Mandir & Cultural Centre\, 85 Boxwood Drive\, Cambridge\, Ontario\, N3E 0A5\, Canada
ATTACH;FMTTYPE=image/jpeg:https://radhakrishnamandir.ca/wp-content/uploads/2024/01/cropped-unnamed-1-1.jpg
ORGANIZER;CN="Panditji":MAILTO:rkmcc@radhakrishnamandir.ca
END:VEVENT
BEGIN:VEVENT
DTSTART;TZID=America/Toronto:20240130T183000
DTEND;TZID=America/Toronto:20240130T193000
DTSTAMP:20260422T224927
CREATED:20240115T073601Z
LAST-MODIFIED:20240202T190040Z
UID:10000323-1706639400-1706643000@radhakrishnamandir.ca
SUMMARY:Hanuman Puja
DESCRIPTION:Please enable JavaScript in your browser to complete this form.Please enable JavaScript in your browser to complete this form.Name *FirstLastPhoneEmail *Date / TimeDateTimeWould you like to sponsor Preeti Bhog?YesNoSponsorshipPrice: $101.00 Credit Card *Credit Card field is disabled\, Stripe payments are not enabled in the form settings.Please elaborate let us know if there's anything else you'd like to tell us. Hope to see you soon *Submit  \nJai Bajrangbali ji ki. Our humble request to all devotees to come and take advantage of Lord Hanumaan ji’s blessings..\nand celebrate together with us.. \n \n 
URL:https://radhakrishnamandir.ca/event/hanuman-puja-3/2024-01-30/
LOCATION:Radha Krishna Mandir & Cultural Centre\, 85 Boxwood Drive\, Cambridge\, Ontario\, N3E 0A5\, Canada
CATEGORIES:Events at Mandir
ATTACH;FMTTYPE=image/jpeg:https://radhakrishnamandir.ca/wp-content/uploads/2024/01/unnamed.jpg
ORGANIZER;CN="Panditji":MAILTO:rkmcc@radhakrishnamandir.ca
END:VEVENT
BEGIN:VEVENT
DTSTART;TZID=America/Toronto:20240128T100000
DTEND;TZID=America/Toronto:20240128T110000
DTSTAMP:20260422T224927
CREATED:20240123T151331Z
LAST-MODIFIED:20240229T143509Z
UID:10000324-1706436000-1706439600@radhakrishnamandir.ca
SUMMARY:Bal Vihar (by Registration only)
DESCRIPTION:RKM Bal Vihar runs from September 2023  to JUne 2024 at Radha Krishna Mandir – 67 Old Mill Rd.\, Cambridge\, ON \nfees are $150 per child 
URL:https://radhakrishnamandir.ca/event/bal-vihar-by-registration-only/2024-01-28/
LOCATION:Radha Krishna Mandir & Cultural Centre\, 85 Boxwood Drive\, Cambridge\, Ontario\, N3E 0A5\, Canada
CATEGORIES:Community Outreach,Events at Mandir
ATTACH;FMTTYPE=image/jpeg:https://radhakrishnamandir.ca/wp-content/uploads/2024/01/Balvihr.jpg
ORGANIZER;CN="Bhawna Lakhanpal":MAILTO:balvihar@radhakrishnamandir.ca
END:VEVENT
BEGIN:VEVENT
DTSTART;TZID=America/Toronto:20240128T093000
DTEND;TZID=America/Toronto:20240128T120000
DTSTAMP:20260422T224927
CREATED:20240123T124409Z
LAST-MODIFIED:20240402T190855Z
UID:10000073-1706434200-1706443200@radhakrishnamandir.ca
SUMMARY:Sunday Service
DESCRIPTION:Sunday Programming  starts at 10am ends at noon\, followed by lunch
URL:https://radhakrishnamandir.ca/event/sunday-services/2024-01-28/
LOCATION:Radha Krishna Mandir & Cultural Centre\, 85 Boxwood Drive\, Cambridge\, Ontario\, N3E 0A5\, Canada
CATEGORIES:Events at Mandir
ORGANIZER;CN="Panditji":MAILTO:rkmcc@radhakrishnamandir.ca
END:VEVENT
BEGIN:VEVENT
DTSTART;TZID=America/Toronto:20240124T190000
DTEND;TZID=America/Toronto:20240124T200000
DTSTAMP:20260422T224927
CREATED:20240123T161719Z
LAST-MODIFIED:20240123T161719Z
UID:10000349-1706122800-1706126400@radhakrishnamandir.ca
SUMMARY:Shri Radha Krishna Puja
DESCRIPTION:  \n 
URL:https://radhakrishnamandir.ca/event/shri-radha-krishna-puja/2024-01-24/
LOCATION:Radha Krishna Mandir & Cultural Centre\, 85 Boxwood Drive\, Cambridge\, Ontario\, N3E 0A5\, Canada
ATTACH;FMTTYPE=image/jpeg:https://radhakrishnamandir.ca/wp-content/uploads/2024/01/cropped-unnamed-1-1.jpg
ORGANIZER;CN="Panditji":MAILTO:rkmcc@radhakrishnamandir.ca
END:VEVENT
BEGIN:VEVENT
DTSTART;TZID=America/Toronto:20240123T183000
DTEND;TZID=America/Toronto:20240123T193000
DTSTAMP:20260422T224927
CREATED:20240115T073601Z
LAST-MODIFIED:20240202T190040Z
UID:10000322-1706034600-1706038200@radhakrishnamandir.ca
SUMMARY:Hanuman Puja
DESCRIPTION:Please enable JavaScript in your browser to complete this form.Please enable JavaScript in your browser to complete this form.Name *FirstLastPhoneEmail *Date / TimeDateTimeWould you like to sponsor Preeti Bhog?YesNoSponsorshipPrice: $101.00 Credit Card *Credit Card field is disabled\, Stripe payments are not enabled in the form settings.Please elaborate let us know if there's anything else you'd like to tell us. Hope to see you soon *Submit  \nJai Bajrangbali ji ki. Our humble request to all devotees to come and take advantage of Lord Hanumaan ji’s blessings..\nand celebrate together with us.. \n \n 
URL:https://radhakrishnamandir.ca/event/hanuman-puja-3/2024-01-23/
LOCATION:Radha Krishna Mandir & Cultural Centre\, 85 Boxwood Drive\, Cambridge\, Ontario\, N3E 0A5\, Canada
CATEGORIES:Events at Mandir
ATTACH;FMTTYPE=image/jpeg:https://radhakrishnamandir.ca/wp-content/uploads/2024/01/unnamed.jpg
ORGANIZER;CN="Panditji":MAILTO:rkmcc@radhakrishnamandir.ca
END:VEVENT
END:VCALENDAR