BEGIN:VCALENDAR
VERSION:2.0
PRODID:-//Radha Krishna Mandir &amp; Cultural Centre, Cambridge Ontario - ECPv6.15.20//NONSGML v1.0//EN
CALSCALE:GREGORIAN
METHOD:PUBLISH
X-WR-CALNAME:Radha Krishna Mandir &amp; Cultural Centre, Cambridge Ontario
X-ORIGINAL-URL:https://radhakrishnamandir.ca
X-WR-CALDESC:Events for Radha Krishna Mandir &amp; Cultural Centre, Cambridge Ontario
REFRESH-INTERVAL;VALUE=DURATION:PT1H
X-Robots-Tag:noindex
X-PUBLISHED-TTL:PT1H
BEGIN:VTIMEZONE
TZID:America/Toronto
BEGIN:DAYLIGHT
TZOFFSETFROM:-0500
TZOFFSETTO:-0400
TZNAME:EDT
DTSTART:20270314T070000
END:DAYLIGHT
BEGIN:STANDARD
TZOFFSETFROM:-0400
TZOFFSETTO:-0500
TZNAME:EST
DTSTART:20271107T060000
END:STANDARD
BEGIN:DAYLIGHT
TZOFFSETFROM:-0500
TZOFFSETTO:-0400
TZNAME:EDT
DTSTART:20280312T070000
END:DAYLIGHT
BEGIN:STANDARD
TZOFFSETFROM:-0400
TZOFFSETTO:-0500
TZNAME:EST
DTSTART:20281105T060000
END:STANDARD
BEGIN:DAYLIGHT
TZOFFSETFROM:-0500
TZOFFSETTO:-0400
TZNAME:EDT
DTSTART:20290311T070000
END:DAYLIGHT
BEGIN:STANDARD
TZOFFSETFROM:-0400
TZOFFSETTO:-0500
TZNAME:EST
DTSTART:20291104T060000
END:STANDARD
END:VTIMEZONE
BEGIN:VEVENT
DTSTART;TZID=America/Toronto:20280618T100000
DTEND;TZID=America/Toronto:20280618T120000
DTSTAMP:20260419T223951
CREATED:20260405T211126Z
LAST-MODIFIED:20260405T211130Z
UID:10001916-1844935200-1844942400@radhakrishnamandir.ca
SUMMARY:Sunday Service
DESCRIPTION:Sunday Program\nJoin us on Sunday! Programming begins at 10:00 AM and continues until noon\, followed by a  lunch. If you would like to sit for puja or sponsor/provide lunch for attendees\, please give us a call or email us.
URL:https://radhakrishnamandir.ca/event/sunday-service-6-2-2-2/2028-06-18/
LOCATION:Radha Krishna Mandir & Cultural Centre\, 85 Boxwood Drive\, Cambridge\, Ontario\, N3E 0A5\, Canada
CATEGORIES:Events at Mandir
ATTACH;FMTTYPE=image/png:https://radhakrishnamandir.ca/wp-content/uploads/2025/10/Sunday_Service_2026-1.png
ORGANIZER;CN="Panditji":MAILTO:info@radhakrishnamandir.ca
END:VEVENT
BEGIN:VEVENT
DTSTART;TZID=America/Toronto:20280618T170000
DTEND;TZID=America/Toronto:20280618T190000
DTSTAMP:20260419T223951
CREATED:20260327T124953Z
LAST-MODIFIED:20260406T020646Z
UID:10004087-1844960400-1844967600@radhakrishnamandir.ca
SUMMARY:Satsangh
DESCRIPTION: 
URL:https://radhakrishnamandir.ca/event/monthly-satsangh-2-2-2-3/2028-06-18/
LOCATION:Radha Krishna Mandir & Cultural Centre\, 85 Boxwood Drive\, Cambridge\, Ontario\, N3E 0A5\, Canada
CATEGORIES:Culture,Events at Mandir
ATTACH;FMTTYPE=image/png:https://radhakrishnamandir.ca/wp-content/uploads/2026/03/Monthly_-Sunday_Puja_-2025-4.png
END:VEVENT
BEGIN:VEVENT
DTSTART;TZID=America/Toronto:20280619T183000
DTEND;TZID=America/Toronto:20280619T200000
DTSTAMP:20260419T223951
CREATED:20260405T210609Z
LAST-MODIFIED:20260405T210612Z
UID:10003582-1845052200-1845057600@radhakrishnamandir.ca
SUMMARY:Lord Shiva (Rudra) Abhishek
DESCRIPTION:
URL:https://radhakrishnamandir.ca/event/shiva-abhishek-3-2-2-2/2028-06-19/
LOCATION:Radha Krishna Mandir & Cultural Centre\, 85 Boxwood Drive\, Cambridge\, Ontario\, N3E 0A5\, Canada
CATEGORIES:Events at Mandir
ATTACH;FMTTYPE=image/png:https://radhakrishnamandir.ca/wp-content/uploads/2025/10/Mondays-lord-shiva_2026-1.png
ORGANIZER;CN="Panditji":MAILTO:rkmcc@radhakrishnamandir.ca
END:VEVENT
BEGIN:VEVENT
DTSTART;TZID=America/Toronto:20280625T100000
DTEND;TZID=America/Toronto:20280625T120000
DTSTAMP:20260419T223951
CREATED:20260405T211126Z
LAST-MODIFIED:20260405T211130Z
UID:10001917-1845540000-1845547200@radhakrishnamandir.ca
SUMMARY:Sunday Service
DESCRIPTION:Sunday Program\nJoin us on Sunday! Programming begins at 10:00 AM and continues until noon\, followed by a  lunch. If you would like to sit for puja or sponsor/provide lunch for attendees\, please give us a call or email us.
URL:https://radhakrishnamandir.ca/event/sunday-service-6-2-2-2/2028-06-25/
LOCATION:Radha Krishna Mandir & Cultural Centre\, 85 Boxwood Drive\, Cambridge\, Ontario\, N3E 0A5\, Canada
CATEGORIES:Events at Mandir
ATTACH;FMTTYPE=image/png:https://radhakrishnamandir.ca/wp-content/uploads/2025/10/Sunday_Service_2026-1.png
ORGANIZER;CN="Panditji":MAILTO:info@radhakrishnamandir.ca
END:VEVENT
BEGIN:VEVENT
DTSTART;TZID=America/Toronto:20280626T183000
DTEND;TZID=America/Toronto:20280626T200000
DTSTAMP:20260419T223951
CREATED:20260405T210609Z
LAST-MODIFIED:20260405T210612Z
UID:10003583-1845657000-1845662400@radhakrishnamandir.ca
SUMMARY:Lord Shiva (Rudra) Abhishek
DESCRIPTION:
URL:https://radhakrishnamandir.ca/event/shiva-abhishek-3-2-2-2/2028-06-26/
LOCATION:Radha Krishna Mandir & Cultural Centre\, 85 Boxwood Drive\, Cambridge\, Ontario\, N3E 0A5\, Canada
CATEGORIES:Events at Mandir
ATTACH;FMTTYPE=image/png:https://radhakrishnamandir.ca/wp-content/uploads/2025/10/Mondays-lord-shiva_2026-1.png
ORGANIZER;CN="Panditji":MAILTO:rkmcc@radhakrishnamandir.ca
END:VEVENT
BEGIN:VEVENT
DTSTART;TZID=America/Toronto:20280702T100000
DTEND;TZID=America/Toronto:20280702T120000
DTSTAMP:20260419T223951
CREATED:20260405T211126Z
LAST-MODIFIED:20260405T211130Z
UID:10001918-1846144800-1846152000@radhakrishnamandir.ca
SUMMARY:Sunday Service
DESCRIPTION:Sunday Program\nJoin us on Sunday! Programming begins at 10:00 AM and continues until noon\, followed by a  lunch. If you would like to sit for puja or sponsor/provide lunch for attendees\, please give us a call or email us.
URL:https://radhakrishnamandir.ca/event/sunday-service-6-2-2-2/2028-07-02/
LOCATION:Radha Krishna Mandir & Cultural Centre\, 85 Boxwood Drive\, Cambridge\, Ontario\, N3E 0A5\, Canada
CATEGORIES:Events at Mandir
ATTACH;FMTTYPE=image/png:https://radhakrishnamandir.ca/wp-content/uploads/2025/10/Sunday_Service_2026-1.png
ORGANIZER;CN="Panditji":MAILTO:info@radhakrishnamandir.ca
END:VEVENT
BEGIN:VEVENT
DTSTART;TZID=America/Toronto:20280703T183000
DTEND;TZID=America/Toronto:20280703T200000
DTSTAMP:20260419T223951
CREATED:20260405T210609Z
LAST-MODIFIED:20260405T210612Z
UID:10003584-1846261800-1846267200@radhakrishnamandir.ca
SUMMARY:Lord Shiva (Rudra) Abhishek
DESCRIPTION:
URL:https://radhakrishnamandir.ca/event/shiva-abhishek-3-2-2-2/2028-07-03/
LOCATION:Radha Krishna Mandir & Cultural Centre\, 85 Boxwood Drive\, Cambridge\, Ontario\, N3E 0A5\, Canada
CATEGORIES:Events at Mandir
ATTACH;FMTTYPE=image/png:https://radhakrishnamandir.ca/wp-content/uploads/2025/10/Mondays-lord-shiva_2026-1.png
ORGANIZER;CN="Panditji":MAILTO:rkmcc@radhakrishnamandir.ca
END:VEVENT
BEGIN:VEVENT
DTSTART;TZID=America/Toronto:20280709T100000
DTEND;TZID=America/Toronto:20280709T120000
DTSTAMP:20260419T223951
CREATED:20260405T211126Z
LAST-MODIFIED:20260405T211130Z
UID:10003771-1846749600-1846756800@radhakrishnamandir.ca
SUMMARY:Sunday Service
DESCRIPTION:Sunday Program\nJoin us on Sunday! Programming begins at 10:00 AM and continues until noon\, followed by a  lunch. If you would like to sit for puja or sponsor/provide lunch for attendees\, please give us a call or email us.
URL:https://radhakrishnamandir.ca/event/sunday-service-6-2-2-2/2028-07-09/
LOCATION:Radha Krishna Mandir & Cultural Centre\, 85 Boxwood Drive\, Cambridge\, Ontario\, N3E 0A5\, Canada
CATEGORIES:Events at Mandir
ATTACH;FMTTYPE=image/png:https://radhakrishnamandir.ca/wp-content/uploads/2025/10/Sunday_Service_2026-1.png
ORGANIZER;CN="Panditji":MAILTO:info@radhakrishnamandir.ca
END:VEVENT
BEGIN:VEVENT
DTSTART;TZID=America/Toronto:20280710T183000
DTEND;TZID=America/Toronto:20280710T200000
DTSTAMP:20260419T223951
CREATED:20260405T210609Z
LAST-MODIFIED:20260405T210612Z
UID:10003585-1846866600-1846872000@radhakrishnamandir.ca
SUMMARY:Lord Shiva (Rudra) Abhishek
DESCRIPTION:
URL:https://radhakrishnamandir.ca/event/shiva-abhishek-3-2-2-2/2028-07-10/
LOCATION:Radha Krishna Mandir & Cultural Centre\, 85 Boxwood Drive\, Cambridge\, Ontario\, N3E 0A5\, Canada
CATEGORIES:Events at Mandir
ATTACH;FMTTYPE=image/png:https://radhakrishnamandir.ca/wp-content/uploads/2025/10/Mondays-lord-shiva_2026-1.png
ORGANIZER;CN="Panditji":MAILTO:rkmcc@radhakrishnamandir.ca
END:VEVENT
BEGIN:VEVENT
DTSTART;TZID=America/Toronto:20280716T100000
DTEND;TZID=America/Toronto:20280716T120000
DTSTAMP:20260419T223951
CREATED:20260405T211126Z
LAST-MODIFIED:20260405T211130Z
UID:10001920-1847354400-1847361600@radhakrishnamandir.ca
SUMMARY:Sunday Service
DESCRIPTION:Sunday Program\nJoin us on Sunday! Programming begins at 10:00 AM and continues until noon\, followed by a  lunch. If you would like to sit for puja or sponsor/provide lunch for attendees\, please give us a call or email us.
URL:https://radhakrishnamandir.ca/event/sunday-service-6-2-2-2/2028-07-16/
LOCATION:Radha Krishna Mandir & Cultural Centre\, 85 Boxwood Drive\, Cambridge\, Ontario\, N3E 0A5\, Canada
CATEGORIES:Events at Mandir
ATTACH;FMTTYPE=image/png:https://radhakrishnamandir.ca/wp-content/uploads/2025/10/Sunday_Service_2026-1.png
ORGANIZER;CN="Panditji":MAILTO:info@radhakrishnamandir.ca
END:VEVENT
BEGIN:VEVENT
DTSTART;TZID=America/Toronto:20280716T170000
DTEND;TZID=America/Toronto:20280716T190000
DTSTAMP:20260419T223951
CREATED:20260327T124953Z
LAST-MODIFIED:20260406T020646Z
UID:10004088-1847379600-1847386800@radhakrishnamandir.ca
SUMMARY:Satsangh
DESCRIPTION: 
URL:https://radhakrishnamandir.ca/event/monthly-satsangh-2-2-2-3/2028-07-16/
LOCATION:Radha Krishna Mandir & Cultural Centre\, 85 Boxwood Drive\, Cambridge\, Ontario\, N3E 0A5\, Canada
CATEGORIES:Culture,Events at Mandir
ATTACH;FMTTYPE=image/png:https://radhakrishnamandir.ca/wp-content/uploads/2026/03/Monthly_-Sunday_Puja_-2025-4.png
END:VEVENT
BEGIN:VEVENT
DTSTART;TZID=America/Toronto:20280717T183000
DTEND;TZID=America/Toronto:20280717T200000
DTSTAMP:20260419T223951
CREATED:20260405T210609Z
LAST-MODIFIED:20260405T210612Z
UID:10003586-1847471400-1847476800@radhakrishnamandir.ca
SUMMARY:Lord Shiva (Rudra) Abhishek
DESCRIPTION:
URL:https://radhakrishnamandir.ca/event/shiva-abhishek-3-2-2-2/2028-07-17/
LOCATION:Radha Krishna Mandir & Cultural Centre\, 85 Boxwood Drive\, Cambridge\, Ontario\, N3E 0A5\, Canada
CATEGORIES:Events at Mandir
ATTACH;FMTTYPE=image/png:https://radhakrishnamandir.ca/wp-content/uploads/2025/10/Mondays-lord-shiva_2026-1.png
ORGANIZER;CN="Panditji":MAILTO:rkmcc@radhakrishnamandir.ca
END:VEVENT
BEGIN:VEVENT
DTSTART;TZID=America/Toronto:20280723T100000
DTEND;TZID=America/Toronto:20280723T120000
DTSTAMP:20260419T223951
CREATED:20260405T211126Z
LAST-MODIFIED:20260405T211130Z
UID:10001921-1847959200-1847966400@radhakrishnamandir.ca
SUMMARY:Sunday Service
DESCRIPTION:Sunday Program\nJoin us on Sunday! Programming begins at 10:00 AM and continues until noon\, followed by a  lunch. If you would like to sit for puja or sponsor/provide lunch for attendees\, please give us a call or email us.
URL:https://radhakrishnamandir.ca/event/sunday-service-6-2-2-2/2028-07-23/
LOCATION:Radha Krishna Mandir & Cultural Centre\, 85 Boxwood Drive\, Cambridge\, Ontario\, N3E 0A5\, Canada
CATEGORIES:Events at Mandir
ATTACH;FMTTYPE=image/png:https://radhakrishnamandir.ca/wp-content/uploads/2025/10/Sunday_Service_2026-1.png
ORGANIZER;CN="Panditji":MAILTO:info@radhakrishnamandir.ca
END:VEVENT
BEGIN:VEVENT
DTSTART;TZID=America/Toronto:20280724T183000
DTEND;TZID=America/Toronto:20280724T200000
DTSTAMP:20260419T223951
CREATED:20260405T210609Z
LAST-MODIFIED:20260405T210612Z
UID:10003587-1848076200-1848081600@radhakrishnamandir.ca
SUMMARY:Lord Shiva (Rudra) Abhishek
DESCRIPTION:
URL:https://radhakrishnamandir.ca/event/shiva-abhishek-3-2-2-2/2028-07-24/
LOCATION:Radha Krishna Mandir & Cultural Centre\, 85 Boxwood Drive\, Cambridge\, Ontario\, N3E 0A5\, Canada
CATEGORIES:Events at Mandir
ATTACH;FMTTYPE=image/png:https://radhakrishnamandir.ca/wp-content/uploads/2025/10/Mondays-lord-shiva_2026-1.png
ORGANIZER;CN="Panditji":MAILTO:rkmcc@radhakrishnamandir.ca
END:VEVENT
BEGIN:VEVENT
DTSTART;TZID=America/Toronto:20280730T100000
DTEND;TZID=America/Toronto:20280730T120000
DTSTAMP:20260419T223951
CREATED:20260405T211126Z
LAST-MODIFIED:20260405T211130Z
UID:10001922-1848564000-1848571200@radhakrishnamandir.ca
SUMMARY:Sunday Service
DESCRIPTION:Sunday Program\nJoin us on Sunday! Programming begins at 10:00 AM and continues until noon\, followed by a  lunch. If you would like to sit for puja or sponsor/provide lunch for attendees\, please give us a call or email us.
URL:https://radhakrishnamandir.ca/event/sunday-service-6-2-2-2/2028-07-30/
LOCATION:Radha Krishna Mandir & Cultural Centre\, 85 Boxwood Drive\, Cambridge\, Ontario\, N3E 0A5\, Canada
CATEGORIES:Events at Mandir
ATTACH;FMTTYPE=image/png:https://radhakrishnamandir.ca/wp-content/uploads/2025/10/Sunday_Service_2026-1.png
ORGANIZER;CN="Panditji":MAILTO:info@radhakrishnamandir.ca
END:VEVENT
BEGIN:VEVENT
DTSTART;TZID=America/Toronto:20280731T183000
DTEND;TZID=America/Toronto:20280731T200000
DTSTAMP:20260419T223951
CREATED:20260405T210609Z
LAST-MODIFIED:20260405T210612Z
UID:10003588-1848681000-1848686400@radhakrishnamandir.ca
SUMMARY:Lord Shiva (Rudra) Abhishek
DESCRIPTION:
URL:https://radhakrishnamandir.ca/event/shiva-abhishek-3-2-2-2/2028-07-31/
LOCATION:Radha Krishna Mandir & Cultural Centre\, 85 Boxwood Drive\, Cambridge\, Ontario\, N3E 0A5\, Canada
CATEGORIES:Events at Mandir
ATTACH;FMTTYPE=image/png:https://radhakrishnamandir.ca/wp-content/uploads/2025/10/Mondays-lord-shiva_2026-1.png
ORGANIZER;CN="Panditji":MAILTO:rkmcc@radhakrishnamandir.ca
END:VEVENT
BEGIN:VEVENT
DTSTART;TZID=America/Toronto:20280806T100000
DTEND;TZID=America/Toronto:20280806T120000
DTSTAMP:20260419T223951
CREATED:20260405T211126Z
LAST-MODIFIED:20260405T211130Z
UID:10001923-1849168800-1849176000@radhakrishnamandir.ca
SUMMARY:Sunday Service
DESCRIPTION:Sunday Program\nJoin us on Sunday! Programming begins at 10:00 AM and continues until noon\, followed by a  lunch. If you would like to sit for puja or sponsor/provide lunch for attendees\, please give us a call or email us.
URL:https://radhakrishnamandir.ca/event/sunday-service-6-2-2-2/2028-08-06/
LOCATION:Radha Krishna Mandir & Cultural Centre\, 85 Boxwood Drive\, Cambridge\, Ontario\, N3E 0A5\, Canada
CATEGORIES:Events at Mandir
ATTACH;FMTTYPE=image/png:https://radhakrishnamandir.ca/wp-content/uploads/2025/10/Sunday_Service_2026-1.png
ORGANIZER;CN="Panditji":MAILTO:info@radhakrishnamandir.ca
END:VEVENT
BEGIN:VEVENT
DTSTART;TZID=America/Toronto:20280807T183000
DTEND;TZID=America/Toronto:20280807T200000
DTSTAMP:20260419T223951
CREATED:20260405T210609Z
LAST-MODIFIED:20260405T210612Z
UID:10003589-1849285800-1849291200@radhakrishnamandir.ca
SUMMARY:Lord Shiva (Rudra) Abhishek
DESCRIPTION:
URL:https://radhakrishnamandir.ca/event/shiva-abhishek-3-2-2-2/2028-08-07/
LOCATION:Radha Krishna Mandir & Cultural Centre\, 85 Boxwood Drive\, Cambridge\, Ontario\, N3E 0A5\, Canada
CATEGORIES:Events at Mandir
ATTACH;FMTTYPE=image/png:https://radhakrishnamandir.ca/wp-content/uploads/2025/10/Mondays-lord-shiva_2026-1.png
ORGANIZER;CN="Panditji":MAILTO:rkmcc@radhakrishnamandir.ca
END:VEVENT
BEGIN:VEVENT
DTSTART;TZID=America/Toronto:20280813T100000
DTEND;TZID=America/Toronto:20280813T120000
DTSTAMP:20260419T223951
CREATED:20260405T211126Z
LAST-MODIFIED:20260405T211130Z
UID:10003772-1849773600-1849780800@radhakrishnamandir.ca
SUMMARY:Sunday Service
DESCRIPTION:Sunday Program\nJoin us on Sunday! Programming begins at 10:00 AM and continues until noon\, followed by a  lunch. If you would like to sit for puja or sponsor/provide lunch for attendees\, please give us a call or email us.
URL:https://radhakrishnamandir.ca/event/sunday-service-6-2-2-2/2028-08-13/
LOCATION:Radha Krishna Mandir & Cultural Centre\, 85 Boxwood Drive\, Cambridge\, Ontario\, N3E 0A5\, Canada
CATEGORIES:Events at Mandir
ATTACH;FMTTYPE=image/png:https://radhakrishnamandir.ca/wp-content/uploads/2025/10/Sunday_Service_2026-1.png
ORGANIZER;CN="Panditji":MAILTO:info@radhakrishnamandir.ca
END:VEVENT
BEGIN:VEVENT
DTSTART;TZID=America/Toronto:20280814T183000
DTEND;TZID=America/Toronto:20280814T200000
DTSTAMP:20260419T223951
CREATED:20260405T210609Z
LAST-MODIFIED:20260405T210612Z
UID:10003590-1849890600-1849896000@radhakrishnamandir.ca
SUMMARY:Lord Shiva (Rudra) Abhishek
DESCRIPTION:
URL:https://radhakrishnamandir.ca/event/shiva-abhishek-3-2-2-2/2028-08-14/
LOCATION:Radha Krishna Mandir & Cultural Centre\, 85 Boxwood Drive\, Cambridge\, Ontario\, N3E 0A5\, Canada
CATEGORIES:Events at Mandir
ATTACH;FMTTYPE=image/png:https://radhakrishnamandir.ca/wp-content/uploads/2025/10/Mondays-lord-shiva_2026-1.png
ORGANIZER;CN="Panditji":MAILTO:rkmcc@radhakrishnamandir.ca
END:VEVENT
BEGIN:VEVENT
DTSTART;TZID=America/Toronto:20280820T100000
DTEND;TZID=America/Toronto:20280820T120000
DTSTAMP:20260419T223951
CREATED:20260405T211126Z
LAST-MODIFIED:20260405T211130Z
UID:10001925-1850378400-1850385600@radhakrishnamandir.ca
SUMMARY:Sunday Service
DESCRIPTION:Sunday Program\nJoin us on Sunday! Programming begins at 10:00 AM and continues until noon\, followed by a  lunch. If you would like to sit for puja or sponsor/provide lunch for attendees\, please give us a call or email us.
URL:https://radhakrishnamandir.ca/event/sunday-service-6-2-2-2/2028-08-20/
LOCATION:Radha Krishna Mandir & Cultural Centre\, 85 Boxwood Drive\, Cambridge\, Ontario\, N3E 0A5\, Canada
CATEGORIES:Events at Mandir
ATTACH;FMTTYPE=image/png:https://radhakrishnamandir.ca/wp-content/uploads/2025/10/Sunday_Service_2026-1.png
ORGANIZER;CN="Panditji":MAILTO:info@radhakrishnamandir.ca
END:VEVENT
BEGIN:VEVENT
DTSTART;TZID=America/Toronto:20280820T170000
DTEND;TZID=America/Toronto:20280820T190000
DTSTAMP:20260419T223951
CREATED:20260327T124953Z
LAST-MODIFIED:20260406T020646Z
UID:10004089-1850403600-1850410800@radhakrishnamandir.ca
SUMMARY:Satsangh
DESCRIPTION: 
URL:https://radhakrishnamandir.ca/event/monthly-satsangh-2-2-2-3/2028-08-20/
LOCATION:Radha Krishna Mandir & Cultural Centre\, 85 Boxwood Drive\, Cambridge\, Ontario\, N3E 0A5\, Canada
CATEGORIES:Culture,Events at Mandir
ATTACH;FMTTYPE=image/png:https://radhakrishnamandir.ca/wp-content/uploads/2026/03/Monthly_-Sunday_Puja_-2025-4.png
END:VEVENT
BEGIN:VEVENT
DTSTART;TZID=America/Toronto:20280821T183000
DTEND;TZID=America/Toronto:20280821T200000
DTSTAMP:20260419T223951
CREATED:20260405T210609Z
LAST-MODIFIED:20260405T210612Z
UID:10003591-1850495400-1850500800@radhakrishnamandir.ca
SUMMARY:Lord Shiva (Rudra) Abhishek
DESCRIPTION:
URL:https://radhakrishnamandir.ca/event/shiva-abhishek-3-2-2-2/2028-08-21/
LOCATION:Radha Krishna Mandir & Cultural Centre\, 85 Boxwood Drive\, Cambridge\, Ontario\, N3E 0A5\, Canada
CATEGORIES:Events at Mandir
ATTACH;FMTTYPE=image/png:https://radhakrishnamandir.ca/wp-content/uploads/2025/10/Mondays-lord-shiva_2026-1.png
ORGANIZER;CN="Panditji":MAILTO:rkmcc@radhakrishnamandir.ca
END:VEVENT
BEGIN:VEVENT
DTSTART;TZID=America/Toronto:20280827T100000
DTEND;TZID=America/Toronto:20280827T120000
DTSTAMP:20260419T223951
CREATED:20260405T211126Z
LAST-MODIFIED:20260405T211130Z
UID:10001926-1850983200-1850990400@radhakrishnamandir.ca
SUMMARY:Sunday Service
DESCRIPTION:Sunday Program\nJoin us on Sunday! Programming begins at 10:00 AM and continues until noon\, followed by a  lunch. If you would like to sit for puja or sponsor/provide lunch for attendees\, please give us a call or email us.
URL:https://radhakrishnamandir.ca/event/sunday-service-6-2-2-2/2028-08-27/
LOCATION:Radha Krishna Mandir & Cultural Centre\, 85 Boxwood Drive\, Cambridge\, Ontario\, N3E 0A5\, Canada
CATEGORIES:Events at Mandir
ATTACH;FMTTYPE=image/png:https://radhakrishnamandir.ca/wp-content/uploads/2025/10/Sunday_Service_2026-1.png
ORGANIZER;CN="Panditji":MAILTO:info@radhakrishnamandir.ca
END:VEVENT
BEGIN:VEVENT
DTSTART;TZID=America/Toronto:20280828T183000
DTEND;TZID=America/Toronto:20280828T200000
DTSTAMP:20260419T223951
CREATED:20260405T210609Z
LAST-MODIFIED:20260405T210612Z
UID:10003592-1851100200-1851105600@radhakrishnamandir.ca
SUMMARY:Lord Shiva (Rudra) Abhishek
DESCRIPTION:
URL:https://radhakrishnamandir.ca/event/shiva-abhishek-3-2-2-2/2028-08-28/
LOCATION:Radha Krishna Mandir & Cultural Centre\, 85 Boxwood Drive\, Cambridge\, Ontario\, N3E 0A5\, Canada
CATEGORIES:Events at Mandir
ATTACH;FMTTYPE=image/png:https://radhakrishnamandir.ca/wp-content/uploads/2025/10/Mondays-lord-shiva_2026-1.png
ORGANIZER;CN="Panditji":MAILTO:rkmcc@radhakrishnamandir.ca
END:VEVENT
BEGIN:VEVENT
DTSTART;TZID=America/Toronto:20280903T100000
DTEND;TZID=America/Toronto:20280903T120000
DTSTAMP:20260419T223951
CREATED:20260405T211126Z
LAST-MODIFIED:20260405T211130Z
UID:10001927-1851588000-1851595200@radhakrishnamandir.ca
SUMMARY:Sunday Service
DESCRIPTION:Sunday Program\nJoin us on Sunday! Programming begins at 10:00 AM and continues until noon\, followed by a  lunch. If you would like to sit for puja or sponsor/provide lunch for attendees\, please give us a call or email us.
URL:https://radhakrishnamandir.ca/event/sunday-service-6-2-2-2/2028-09-03/
LOCATION:Radha Krishna Mandir & Cultural Centre\, 85 Boxwood Drive\, Cambridge\, Ontario\, N3E 0A5\, Canada
CATEGORIES:Events at Mandir
ATTACH;FMTTYPE=image/png:https://radhakrishnamandir.ca/wp-content/uploads/2025/10/Sunday_Service_2026-1.png
ORGANIZER;CN="Panditji":MAILTO:info@radhakrishnamandir.ca
END:VEVENT
BEGIN:VEVENT
DTSTART;TZID=America/Toronto:20280904T183000
DTEND;TZID=America/Toronto:20280904T200000
DTSTAMP:20260419T223951
CREATED:20260405T210609Z
LAST-MODIFIED:20260405T210612Z
UID:10003593-1851705000-1851710400@radhakrishnamandir.ca
SUMMARY:Lord Shiva (Rudra) Abhishek
DESCRIPTION:
URL:https://radhakrishnamandir.ca/event/shiva-abhishek-3-2-2-2/2028-09-04/
LOCATION:Radha Krishna Mandir & Cultural Centre\, 85 Boxwood Drive\, Cambridge\, Ontario\, N3E 0A5\, Canada
CATEGORIES:Events at Mandir
ATTACH;FMTTYPE=image/png:https://radhakrishnamandir.ca/wp-content/uploads/2025/10/Mondays-lord-shiva_2026-1.png
ORGANIZER;CN="Panditji":MAILTO:rkmcc@radhakrishnamandir.ca
END:VEVENT
BEGIN:VEVENT
DTSTART;TZID=America/Toronto:20280910T100000
DTEND;TZID=America/Toronto:20280910T120000
DTSTAMP:20260419T223951
CREATED:20260405T211126Z
LAST-MODIFIED:20260405T211130Z
UID:10003773-1852192800-1852200000@radhakrishnamandir.ca
SUMMARY:Sunday Service
DESCRIPTION:Sunday Program\nJoin us on Sunday! Programming begins at 10:00 AM and continues until noon\, followed by a  lunch. If you would like to sit for puja or sponsor/provide lunch for attendees\, please give us a call or email us.
URL:https://radhakrishnamandir.ca/event/sunday-service-6-2-2-2/2028-09-10/
LOCATION:Radha Krishna Mandir & Cultural Centre\, 85 Boxwood Drive\, Cambridge\, Ontario\, N3E 0A5\, Canada
CATEGORIES:Events at Mandir
ATTACH;FMTTYPE=image/png:https://radhakrishnamandir.ca/wp-content/uploads/2025/10/Sunday_Service_2026-1.png
ORGANIZER;CN="Panditji":MAILTO:info@radhakrishnamandir.ca
END:VEVENT
BEGIN:VEVENT
DTSTART;TZID=America/Toronto:20280911T183000
DTEND;TZID=America/Toronto:20280911T200000
DTSTAMP:20260419T223951
CREATED:20260405T210609Z
LAST-MODIFIED:20260405T210612Z
UID:10003594-1852309800-1852315200@radhakrishnamandir.ca
SUMMARY:Lord Shiva (Rudra) Abhishek
DESCRIPTION:
URL:https://radhakrishnamandir.ca/event/shiva-abhishek-3-2-2-2/2028-09-11/
LOCATION:Radha Krishna Mandir & Cultural Centre\, 85 Boxwood Drive\, Cambridge\, Ontario\, N3E 0A5\, Canada
CATEGORIES:Events at Mandir
ATTACH;FMTTYPE=image/png:https://radhakrishnamandir.ca/wp-content/uploads/2025/10/Mondays-lord-shiva_2026-1.png
ORGANIZER;CN="Panditji":MAILTO:rkmcc@radhakrishnamandir.ca
END:VEVENT
BEGIN:VEVENT
DTSTART;TZID=America/Toronto:20280917T100000
DTEND;TZID=America/Toronto:20280917T120000
DTSTAMP:20260419T223952
CREATED:20260405T211126Z
LAST-MODIFIED:20260405T211130Z
UID:10001929-1852797600-1852804800@radhakrishnamandir.ca
SUMMARY:Sunday Service
DESCRIPTION:Sunday Program\nJoin us on Sunday! Programming begins at 10:00 AM and continues until noon\, followed by a  lunch. If you would like to sit for puja or sponsor/provide lunch for attendees\, please give us a call or email us.
URL:https://radhakrishnamandir.ca/event/sunday-service-6-2-2-2/2028-09-17/
LOCATION:Radha Krishna Mandir & Cultural Centre\, 85 Boxwood Drive\, Cambridge\, Ontario\, N3E 0A5\, Canada
CATEGORIES:Events at Mandir
ATTACH;FMTTYPE=image/png:https://radhakrishnamandir.ca/wp-content/uploads/2025/10/Sunday_Service_2026-1.png
ORGANIZER;CN="Panditji":MAILTO:info@radhakrishnamandir.ca
END:VEVENT
END:VCALENDAR