BEGIN:VCALENDAR
VERSION:2.0
PRODID:-//Radha Krishna Mandir &amp; Cultural Centre, Cambridge Ontario - ECPv6.15.20//NONSGML v1.0//EN
CALSCALE:GREGORIAN
METHOD:PUBLISH
X-WR-CALNAME:Radha Krishna Mandir &amp; Cultural Centre, Cambridge Ontario
X-ORIGINAL-URL:https://radhakrishnamandir.ca
X-WR-CALDESC:Events for Radha Krishna Mandir &amp; Cultural Centre, Cambridge Ontario
REFRESH-INTERVAL;VALUE=DURATION:PT1H
X-Robots-Tag:noindex
X-PUBLISHED-TTL:PT1H
BEGIN:VTIMEZONE
TZID:America/Toronto
BEGIN:DAYLIGHT
TZOFFSETFROM:-0500
TZOFFSETTO:-0400
TZNAME:EDT
DTSTART:20240310T070000
END:DAYLIGHT
BEGIN:STANDARD
TZOFFSETFROM:-0400
TZOFFSETTO:-0500
TZNAME:EST
DTSTART:20241103T060000
END:STANDARD
BEGIN:DAYLIGHT
TZOFFSETFROM:-0500
TZOFFSETTO:-0400
TZNAME:EDT
DTSTART:20250309T070000
END:DAYLIGHT
BEGIN:STANDARD
TZOFFSETFROM:-0400
TZOFFSETTO:-0500
TZNAME:EST
DTSTART:20251102T060000
END:STANDARD
BEGIN:DAYLIGHT
TZOFFSETFROM:-0500
TZOFFSETTO:-0400
TZNAME:EDT
DTSTART:20260308T070000
END:DAYLIGHT
BEGIN:STANDARD
TZOFFSETFROM:-0400
TZOFFSETTO:-0500
TZNAME:EST
DTSTART:20261101T060000
END:STANDARD
END:VTIMEZONE
BEGIN:VEVENT
DTSTART;TZID=America/Toronto:20250105T100000
DTEND;TZID=America/Toronto:20250105T120000
DTSTAMP:20260423T193419
CREATED:20241229T041041Z
LAST-MODIFIED:20241229T041100Z
UID:10001736-1736071200-1736078400@radhakrishnamandir.ca
SUMMARY:Sunday Service
DESCRIPTION:
URL:https://radhakrishnamandir.ca/event/sunday-service-3-2-2/2025-01-05/
LOCATION:Radha Krishna Mandir & Cultural Centre\, 85 Boxwood Drive\, Cambridge\, Ontario\, N3E 0A5\, Canada
CATEGORIES:Events at Mandir
ATTACH;FMTTYPE=image/png:https://radhakrishnamandir.ca/wp-content/uploads/2024/06/Sunday_upasna_pt.nikhil-1.png
ORGANIZER;CN="Panditji":MAILTO:info@radhakrishnamandir.ca
END:VEVENT
BEGIN:VEVENT
DTSTART;TZID=America/Toronto:20250105T100000
DTEND;TZID=America/Toronto:20250105T230000
DTSTAMP:20260423T193419
CREATED:20240731T190136Z
LAST-MODIFIED:20241010T125918Z
UID:10002362-1736071200-1736118000@radhakrishnamandir.ca
SUMMARY:Bal Vihar (by Registration only)
DESCRIPTION:
URL:https://radhakrishnamandir.ca/event/bal-vihar-by-registration-only-2/2025-01-05/
LOCATION:Radha Krishna Mandir & Cultural Centre\, 85 Boxwood Drive\, Cambridge\, Ontario\, N3E 0A5\, Canada
CATEGORIES:Community Outreach,Culture,Events at Mandir
ATTACH;FMTTYPE=image/png:https://radhakrishnamandir.ca/wp-content/uploads/2024/01/Bal_vihar_2024.png
ORGANIZER;CN="Bhawna Lakhanpal":MAILTO:balvihar@radhakrishnamandir.ca
END:VEVENT
BEGIN:VEVENT
DTSTART;TZID=America/Toronto:20250105T180000
DTEND;TZID=America/Toronto:20250105T203000
DTSTAMP:20260423T193419
CREATED:20241203T131647Z
LAST-MODIFIED:20241230T193629Z
UID:10002446-1736100000-1736109000@radhakrishnamandir.ca
SUMMARY:Chowki: An Evening of Devotion
DESCRIPTION:
URL:https://radhakrishnamandir.ca/event/chowki/
LOCATION:Radha Krishna Mandir & Cultural Centre\, 85 Boxwood Drive\, Cambridge\, Ontario\, N3E 0A5\, Canada
CATEGORIES:Culture,Events at Mandir,Special Events
ATTACH;FMTTYPE=image/jpeg:https://radhakrishnamandir.ca/wp-content/uploads/2024/12/Chowki_Jan_2025-1.jpg
END:VEVENT
BEGIN:VEVENT
DTSTART;TZID=America/Toronto:20250106T190000
DTEND;TZID=America/Toronto:20250106T200000
DTSTAMP:20260423T193419
CREATED:20240123T162004Z
LAST-MODIFIED:20240223T135133Z
UID:10000921-1736190000-1736193600@radhakrishnamandir.ca
SUMMARY:Shiva Abhishek
DESCRIPTION:
URL:https://radhakrishnamandir.ca/event/shiva-abhishek/2025-01-06/
LOCATION:Radha Krishna Mandir & Cultural Centre\, 85 Boxwood Drive\, Cambridge\, Ontario\, N3E 0A5\, Canada
CATEGORIES:Events at Mandir
ATTACH;FMTTYPE=image/jpeg:https://radhakrishnamandir.ca/wp-content/uploads/2024/01/lordshiva-e1709218431374.jpg
ORGANIZER;CN="Panditji":MAILTO:rkmcc@radhakrishnamandir.ca
END:VEVENT
BEGIN:VEVENT
DTSTART;TZID=America/Toronto:20250107T183000
DTEND;TZID=America/Toronto:20250107T203000
DTSTAMP:20260423T193419
CREATED:20241031T092339Z
LAST-MODIFIED:20241101T132740Z
UID:10000055-1736274600-1736281800@radhakrishnamandir.ca
SUMMARY:Hanuman Chalisa Satsang
DESCRIPTION:
URL:https://radhakrishnamandir.ca/event/hanuman-chalisa-2/2025-01-07/
LOCATION:Radha Krishna Mandir & Cultural Centre\, 85 Boxwood Drive\, Cambridge\, Ontario\, N3E 0A5\, Canada
CATEGORIES:Events at Mandir
ATTACH;FMTTYPE=image/png:https://radhakrishnamandir.ca/wp-content/uploads/2024/02/Hanumanji_Every_tuesday.png
ORGANIZER;CN="Panditji":MAILTO:rkmcc@radhakrishnamandir.ca
END:VEVENT
BEGIN:VEVENT
DTSTART;TZID=America/Toronto:20250112T100000
DTEND;TZID=America/Toronto:20250112T120000
DTSTAMP:20260423T193419
CREATED:20240914T222233Z
LAST-MODIFIED:20240914T222326Z
UID:10000071-1736676000-1736683200@radhakrishnamandir.ca
SUMMARY:Sunday Upasana
DESCRIPTION:
URL:https://radhakrishnamandir.ca/event/sunday-upasana-4-3/2025-01-12/
LOCATION:Radha Krishna Mandir & Cultural Centre\, 85 Boxwood Drive\, Cambridge\, Ontario\, N3E 0A5\, Canada
CATEGORIES:Events at Mandir
ATTACH;FMTTYPE=image/jpeg:https://radhakrishnamandir.ca/wp-content/uploads/2024/05/Upasana.jpg
ORGANIZER;CN="Dwarka Persaud":MAILTO:president@radhakrishnamandir.ca
END:VEVENT
BEGIN:VEVENT
DTSTART;TZID=America/Toronto:20250112T100000
DTEND;TZID=America/Toronto:20250112T230000
DTSTAMP:20260423T193419
CREATED:20240731T190136Z
LAST-MODIFIED:20241010T125918Z
UID:10002363-1736676000-1736722800@radhakrishnamandir.ca
SUMMARY:Bal Vihar (by Registration only)
DESCRIPTION:
URL:https://radhakrishnamandir.ca/event/bal-vihar-by-registration-only-2/2025-01-12/
LOCATION:Radha Krishna Mandir & Cultural Centre\, 85 Boxwood Drive\, Cambridge\, Ontario\, N3E 0A5\, Canada
CATEGORIES:Community Outreach,Culture,Events at Mandir
ATTACH;FMTTYPE=image/png:https://radhakrishnamandir.ca/wp-content/uploads/2024/01/Bal_vihar_2024.png
ORGANIZER;CN="Bhawna Lakhanpal":MAILTO:balvihar@radhakrishnamandir.ca
END:VEVENT
BEGIN:VEVENT
DTSTART;TZID=America/Toronto:20250113T190000
DTEND;TZID=America/Toronto:20250113T200000
DTSTAMP:20260423T193419
CREATED:20240123T162004Z
LAST-MODIFIED:20240223T135133Z
UID:10000922-1736794800-1736798400@radhakrishnamandir.ca
SUMMARY:Shiva Abhishek
DESCRIPTION:
URL:https://radhakrishnamandir.ca/event/shiva-abhishek/2025-01-13/
LOCATION:Radha Krishna Mandir & Cultural Centre\, 85 Boxwood Drive\, Cambridge\, Ontario\, N3E 0A5\, Canada
CATEGORIES:Events at Mandir
ATTACH;FMTTYPE=image/jpeg:https://radhakrishnamandir.ca/wp-content/uploads/2024/01/lordshiva-e1709218431374.jpg
ORGANIZER;CN="Panditji":MAILTO:rkmcc@radhakrishnamandir.ca
END:VEVENT
BEGIN:VEVENT
DTSTART;TZID=America/Toronto:20250114T183000
DTEND;TZID=America/Toronto:20250114T203000
DTSTAMP:20260423T193419
CREATED:20241031T092339Z
LAST-MODIFIED:20241101T132740Z
UID:10000056-1736879400-1736886600@radhakrishnamandir.ca
SUMMARY:Hanuman Chalisa Satsang
DESCRIPTION:
URL:https://radhakrishnamandir.ca/event/hanuman-chalisa-2/2025-01-14/
LOCATION:Radha Krishna Mandir & Cultural Centre\, 85 Boxwood Drive\, Cambridge\, Ontario\, N3E 0A5\, Canada
CATEGORIES:Events at Mandir
ATTACH;FMTTYPE=image/png:https://radhakrishnamandir.ca/wp-content/uploads/2024/02/Hanumanji_Every_tuesday.png
ORGANIZER;CN="Panditji":MAILTO:rkmcc@radhakrishnamandir.ca
END:VEVENT
BEGIN:VEVENT
DTSTART;TZID=America/Toronto:20250114T193000
DTEND;TZID=America/Toronto:20250114T220000
DTSTAMP:20260423T193419
CREATED:20241104T010705Z
LAST-MODIFIED:20241229T042601Z
UID:10002435-1736883000-1736892000@radhakrishnamandir.ca
SUMMARY:Makar Sankranti
DESCRIPTION:
URL:https://radhakrishnamandir.ca/event/makar-sankranti/
LOCATION:Radha Krishna Mandir & Cultural Centre\, 85 Boxwood Drive\, Cambridge\, Ontario\, N3E 0A5\, Canada
CATEGORIES:Culture,Events at Mandir
ATTACH;FMTTYPE=image/jpeg:https://radhakrishnamandir.ca/wp-content/uploads/2024/11/Final_Makar-Sankranti_2025-Presentation.jpg
ORGANIZER;CN="Panditji":MAILTO:info@radhakrishnamandir.ca
END:VEVENT
BEGIN:VEVENT
DTSTART;TZID=America/Toronto:20250119T100000
DTEND;TZID=America/Toronto:20250119T120000
DTSTAMP:20260423T193419
CREATED:20241229T041041Z
LAST-MODIFIED:20241229T041100Z
UID:10001738-1737280800-1737288000@radhakrishnamandir.ca
SUMMARY:Sunday Service
DESCRIPTION:
URL:https://radhakrishnamandir.ca/event/sunday-service-3-2-2/2025-01-19/
LOCATION:Radha Krishna Mandir & Cultural Centre\, 85 Boxwood Drive\, Cambridge\, Ontario\, N3E 0A5\, Canada
CATEGORIES:Events at Mandir
ATTACH;FMTTYPE=image/png:https://radhakrishnamandir.ca/wp-content/uploads/2024/06/Sunday_upasna_pt.nikhil-1.png
ORGANIZER;CN="Panditji":MAILTO:info@radhakrishnamandir.ca
END:VEVENT
BEGIN:VEVENT
DTSTART;TZID=America/Toronto:20250119T100000
DTEND;TZID=America/Toronto:20250119T230000
DTSTAMP:20260423T193419
CREATED:20240731T190136Z
LAST-MODIFIED:20241010T125918Z
UID:10002364-1737280800-1737327600@radhakrishnamandir.ca
SUMMARY:Bal Vihar (by Registration only)
DESCRIPTION:
URL:https://radhakrishnamandir.ca/event/bal-vihar-by-registration-only-2/2025-01-19/
LOCATION:Radha Krishna Mandir & Cultural Centre\, 85 Boxwood Drive\, Cambridge\, Ontario\, N3E 0A5\, Canada
CATEGORIES:Community Outreach,Culture,Events at Mandir
ATTACH;FMTTYPE=image/png:https://radhakrishnamandir.ca/wp-content/uploads/2024/01/Bal_vihar_2024.png
ORGANIZER;CN="Bhawna Lakhanpal":MAILTO:balvihar@radhakrishnamandir.ca
END:VEVENT
BEGIN:VEVENT
DTSTART;TZID=America/Toronto:20250120T190000
DTEND;TZID=America/Toronto:20250120T200000
DTSTAMP:20260423T193419
CREATED:20240123T162004Z
LAST-MODIFIED:20240223T135133Z
UID:10000923-1737399600-1737403200@radhakrishnamandir.ca
SUMMARY:Shiva Abhishek
DESCRIPTION:
URL:https://radhakrishnamandir.ca/event/shiva-abhishek/2025-01-20/
LOCATION:Radha Krishna Mandir & Cultural Centre\, 85 Boxwood Drive\, Cambridge\, Ontario\, N3E 0A5\, Canada
CATEGORIES:Events at Mandir
ATTACH;FMTTYPE=image/jpeg:https://radhakrishnamandir.ca/wp-content/uploads/2024/01/lordshiva-e1709218431374.jpg
ORGANIZER;CN="Panditji":MAILTO:rkmcc@radhakrishnamandir.ca
END:VEVENT
BEGIN:VEVENT
DTSTART;TZID=America/Toronto:20250121T183000
DTEND;TZID=America/Toronto:20250121T203000
DTSTAMP:20260423T193419
CREATED:20241031T092339Z
LAST-MODIFIED:20241101T132740Z
UID:10000057-1737484200-1737491400@radhakrishnamandir.ca
SUMMARY:Hanuman Chalisa Satsang
DESCRIPTION:
URL:https://radhakrishnamandir.ca/event/hanuman-chalisa-2/2025-01-21/
LOCATION:Radha Krishna Mandir & Cultural Centre\, 85 Boxwood Drive\, Cambridge\, Ontario\, N3E 0A5\, Canada
CATEGORIES:Events at Mandir
ATTACH;FMTTYPE=image/png:https://radhakrishnamandir.ca/wp-content/uploads/2024/02/Hanumanji_Every_tuesday.png
ORGANIZER;CN="Panditji":MAILTO:rkmcc@radhakrishnamandir.ca
END:VEVENT
BEGIN:VEVENT
DTSTART;TZID=America/Toronto:20250126T100000
DTEND;TZID=America/Toronto:20250126T230000
DTSTAMP:20260423T193419
CREATED:20240731T190136Z
LAST-MODIFIED:20241010T125918Z
UID:10002365-1737885600-1737932400@radhakrishnamandir.ca
SUMMARY:Bal Vihar (by Registration only)
DESCRIPTION:
URL:https://radhakrishnamandir.ca/event/bal-vihar-by-registration-only-2/2025-01-26/
LOCATION:Radha Krishna Mandir & Cultural Centre\, 85 Boxwood Drive\, Cambridge\, Ontario\, N3E 0A5\, Canada
CATEGORIES:Community Outreach,Culture,Events at Mandir
ATTACH;FMTTYPE=image/png:https://radhakrishnamandir.ca/wp-content/uploads/2024/01/Bal_vihar_2024.png
ORGANIZER;CN="Bhawna Lakhanpal":MAILTO:balvihar@radhakrishnamandir.ca
END:VEVENT
BEGIN:VEVENT
DTSTART;TZID=America/Toronto:20250127T190000
DTEND;TZID=America/Toronto:20250127T200000
DTSTAMP:20260423T193419
CREATED:20240123T162004Z
LAST-MODIFIED:20240223T135133Z
UID:10000924-1738004400-1738008000@radhakrishnamandir.ca
SUMMARY:Shiva Abhishek
DESCRIPTION:
URL:https://radhakrishnamandir.ca/event/shiva-abhishek/2025-01-27/
LOCATION:Radha Krishna Mandir & Cultural Centre\, 85 Boxwood Drive\, Cambridge\, Ontario\, N3E 0A5\, Canada
CATEGORIES:Events at Mandir
ATTACH;FMTTYPE=image/jpeg:https://radhakrishnamandir.ca/wp-content/uploads/2024/01/lordshiva-e1709218431374.jpg
ORGANIZER;CN="Panditji":MAILTO:rkmcc@radhakrishnamandir.ca
END:VEVENT
BEGIN:VEVENT
DTSTART;TZID=America/Toronto:20250128T170000
DTEND;TZID=America/Toronto:20250128T200000
DTSTAMP:20260423T193419
CREATED:20250124T123911Z
LAST-MODIFIED:20250308T190116Z
UID:10003143-1738083600-1738094400@radhakrishnamandir.ca
SUMMARY:Hanuman Chalisa Satsang
DESCRIPTION:
URL:https://radhakrishnamandir.ca/event/hanuman-chalisa-2-2/2025-01-28/
LOCATION:Radha Krishna Mandir & Cultural Centre\, 85 Boxwood Drive\, Cambridge\, Ontario\, N3E 0A5\, Canada
CATEGORIES:Events at Mandir
ATTACH;FMTTYPE=image/png:https://radhakrishnamandir.ca/wp-content/uploads/2025/01/RKMCC-Event-Network-4.png
ORGANIZER;CN="Panditji":MAILTO:rkmcc@radhakrishnamandir.ca
END:VEVENT
BEGIN:VEVENT
DTSTART;TZID=America/Toronto:20250129T180000
DTEND;TZID=America/Toronto:20250129T200000
DTSTAMP:20260423T193419
CREATED:20250125T003906Z
LAST-MODIFIED:20250830T141303Z
UID:10002710-1738173600-1738180800@radhakrishnamandir.ca
SUMMARY:Shri Krishna Puja
DESCRIPTION:
URL:https://radhakrishnamandir.ca/event/shri-krishna-puja/2025-01-29/
LOCATION:Radha Krishna Mandir & Cultural Centre\, 85 Boxwood Drive\, Cambridge\, Ontario\, N3E 0A5\, Canada
CATEGORIES:Culture,Events at Mandir,Special Events
ATTACH;FMTTYPE=image/png:https://radhakrishnamandir.ca/wp-content/uploads/2025/01/Weekly_Lord_Krishna_Puja_-2025-2.png
END:VEVENT
END:VCALENDAR