BEGIN:VCALENDAR
VERSION:2.0
PRODID:-//Radha Krishna Mandir &amp; Cultural Centre, Cambridge Ontario - ECPv6.15.20//NONSGML v1.0//EN
CALSCALE:GREGORIAN
METHOD:PUBLISH
X-WR-CALNAME:Radha Krishna Mandir &amp; Cultural Centre, Cambridge Ontario
X-ORIGINAL-URL:https://radhakrishnamandir.ca
X-WR-CALDESC:Events for Radha Krishna Mandir &amp; Cultural Centre, Cambridge Ontario
REFRESH-INTERVAL;VALUE=DURATION:PT1H
X-Robots-Tag:noindex
X-PUBLISHED-TTL:PT1H
BEGIN:VTIMEZONE
TZID:America/Toronto
BEGIN:DAYLIGHT
TZOFFSETFROM:-0500
TZOFFSETTO:-0400
TZNAME:EDT
DTSTART:20270314T070000
END:DAYLIGHT
BEGIN:STANDARD
TZOFFSETFROM:-0400
TZOFFSETTO:-0500
TZNAME:EST
DTSTART:20271107T060000
END:STANDARD
BEGIN:DAYLIGHT
TZOFFSETFROM:-0500
TZOFFSETTO:-0400
TZNAME:EDT
DTSTART:20280312T070000
END:DAYLIGHT
BEGIN:STANDARD
TZOFFSETFROM:-0400
TZOFFSETTO:-0500
TZNAME:EST
DTSTART:20281105T060000
END:STANDARD
BEGIN:DAYLIGHT
TZOFFSETFROM:-0500
TZOFFSETTO:-0400
TZNAME:EDT
DTSTART:20290311T070000
END:DAYLIGHT
BEGIN:STANDARD
TZOFFSETFROM:-0400
TZOFFSETTO:-0500
TZNAME:EST
DTSTART:20291104T060000
END:STANDARD
END:VTIMEZONE
BEGIN:VEVENT
DTSTART;TZID=America/Toronto:20280402T100000
DTEND;TZID=America/Toronto:20280402T120000
DTSTAMP:20260421T191001
CREATED:20260405T211126Z
LAST-MODIFIED:20260405T211130Z
UID:10001905-1838282400-1838289600@radhakrishnamandir.ca
SUMMARY:Sunday Service
DESCRIPTION:
URL:https://radhakrishnamandir.ca/event/sunday-service-6-2-2-2/2028-04-02/
LOCATION:Radha Krishna Mandir & Cultural Centre\, 85 Boxwood Drive\, Cambridge\, Ontario\, N3E 0A5\, Canada
CATEGORIES:Events at Mandir
ATTACH;FMTTYPE=image/png:https://radhakrishnamandir.ca/wp-content/uploads/2025/10/Sunday_Service_2026-1.png
ORGANIZER;CN="Panditji":MAILTO:info@radhakrishnamandir.ca
END:VEVENT
BEGIN:VEVENT
DTSTART;TZID=America/Toronto:20280403T183000
DTEND;TZID=America/Toronto:20280403T200000
DTSTAMP:20260421T191001
CREATED:20260405T210609Z
LAST-MODIFIED:20260405T210612Z
UID:10003571-1838399400-1838404800@radhakrishnamandir.ca
SUMMARY:Lord Shiva (Rudra) Abhishek
DESCRIPTION:
URL:https://radhakrishnamandir.ca/event/shiva-abhishek-3-2-2-2/2028-04-03/
LOCATION:Radha Krishna Mandir & Cultural Centre\, 85 Boxwood Drive\, Cambridge\, Ontario\, N3E 0A5\, Canada
CATEGORIES:Events at Mandir
ATTACH;FMTTYPE=image/png:https://radhakrishnamandir.ca/wp-content/uploads/2025/10/Mondays-lord-shiva_2026-1.png
ORGANIZER;CN="Panditji":MAILTO:rkmcc@radhakrishnamandir.ca
END:VEVENT
BEGIN:VEVENT
DTSTART;TZID=America/Toronto:20280409T100000
DTEND;TZID=America/Toronto:20280409T120000
DTSTAMP:20260421T191001
CREATED:20260405T211126Z
LAST-MODIFIED:20260405T211130Z
UID:10003768-1838887200-1838894400@radhakrishnamandir.ca
SUMMARY:Sunday Service
DESCRIPTION:
URL:https://radhakrishnamandir.ca/event/sunday-service-6-2-2-2/2028-04-09/
LOCATION:Radha Krishna Mandir & Cultural Centre\, 85 Boxwood Drive\, Cambridge\, Ontario\, N3E 0A5\, Canada
CATEGORIES:Events at Mandir
ATTACH;FMTTYPE=image/png:https://radhakrishnamandir.ca/wp-content/uploads/2025/10/Sunday_Service_2026-1.png
ORGANIZER;CN="Panditji":MAILTO:info@radhakrishnamandir.ca
END:VEVENT
BEGIN:VEVENT
DTSTART;TZID=America/Toronto:20280410T183000
DTEND;TZID=America/Toronto:20280410T200000
DTSTAMP:20260421T191001
CREATED:20260405T210609Z
LAST-MODIFIED:20260405T210612Z
UID:10003572-1839004200-1839009600@radhakrishnamandir.ca
SUMMARY:Lord Shiva (Rudra) Abhishek
DESCRIPTION:
URL:https://radhakrishnamandir.ca/event/shiva-abhishek-3-2-2-2/2028-04-10/
LOCATION:Radha Krishna Mandir & Cultural Centre\, 85 Boxwood Drive\, Cambridge\, Ontario\, N3E 0A5\, Canada
CATEGORIES:Events at Mandir
ATTACH;FMTTYPE=image/png:https://radhakrishnamandir.ca/wp-content/uploads/2025/10/Mondays-lord-shiva_2026-1.png
ORGANIZER;CN="Panditji":MAILTO:rkmcc@radhakrishnamandir.ca
END:VEVENT
BEGIN:VEVENT
DTSTART;TZID=America/Toronto:20280416T100000
DTEND;TZID=America/Toronto:20280416T120000
DTSTAMP:20260421T191001
CREATED:20260405T211126Z
LAST-MODIFIED:20260405T211130Z
UID:10001907-1839492000-1839499200@radhakrishnamandir.ca
SUMMARY:Sunday Service
DESCRIPTION:
URL:https://radhakrishnamandir.ca/event/sunday-service-6-2-2-2/2028-04-16/
LOCATION:Radha Krishna Mandir & Cultural Centre\, 85 Boxwood Drive\, Cambridge\, Ontario\, N3E 0A5\, Canada
CATEGORIES:Events at Mandir
ATTACH;FMTTYPE=image/png:https://radhakrishnamandir.ca/wp-content/uploads/2025/10/Sunday_Service_2026-1.png
ORGANIZER;CN="Panditji":MAILTO:info@radhakrishnamandir.ca
END:VEVENT
BEGIN:VEVENT
DTSTART;TZID=America/Toronto:20280416T170000
DTEND;TZID=America/Toronto:20280416T190000
DTSTAMP:20260421T191001
CREATED:20260327T124953Z
LAST-MODIFIED:20260406T020646Z
UID:10004085-1839517200-1839524400@radhakrishnamandir.ca
SUMMARY:Satsangh
DESCRIPTION:
URL:https://radhakrishnamandir.ca/event/monthly-satsangh-2-2-2-3/2028-04-16/
LOCATION:Radha Krishna Mandir & Cultural Centre\, 85 Boxwood Drive\, Cambridge\, Ontario\, N3E 0A5\, Canada
CATEGORIES:Culture,Events at Mandir
ATTACH;FMTTYPE=image/png:https://radhakrishnamandir.ca/wp-content/uploads/2026/03/Monthly_-Sunday_Puja_-2025-4.png
END:VEVENT
BEGIN:VEVENT
DTSTART;TZID=America/Toronto:20280417T183000
DTEND;TZID=America/Toronto:20280417T200000
DTSTAMP:20260421T191001
CREATED:20260405T210609Z
LAST-MODIFIED:20260405T210612Z
UID:10003573-1839609000-1839614400@radhakrishnamandir.ca
SUMMARY:Lord Shiva (Rudra) Abhishek
DESCRIPTION:
URL:https://radhakrishnamandir.ca/event/shiva-abhishek-3-2-2-2/2028-04-17/
LOCATION:Radha Krishna Mandir & Cultural Centre\, 85 Boxwood Drive\, Cambridge\, Ontario\, N3E 0A5\, Canada
CATEGORIES:Events at Mandir
ATTACH;FMTTYPE=image/png:https://radhakrishnamandir.ca/wp-content/uploads/2025/10/Mondays-lord-shiva_2026-1.png
ORGANIZER;CN="Panditji":MAILTO:rkmcc@radhakrishnamandir.ca
END:VEVENT
BEGIN:VEVENT
DTSTART;TZID=America/Toronto:20280423T100000
DTEND;TZID=America/Toronto:20280423T120000
DTSTAMP:20260421T191001
CREATED:20260405T211126Z
LAST-MODIFIED:20260405T211130Z
UID:10001908-1840096800-1840104000@radhakrishnamandir.ca
SUMMARY:Sunday Service
DESCRIPTION:
URL:https://radhakrishnamandir.ca/event/sunday-service-6-2-2-2/2028-04-23/
LOCATION:Radha Krishna Mandir & Cultural Centre\, 85 Boxwood Drive\, Cambridge\, Ontario\, N3E 0A5\, Canada
CATEGORIES:Events at Mandir
ATTACH;FMTTYPE=image/png:https://radhakrishnamandir.ca/wp-content/uploads/2025/10/Sunday_Service_2026-1.png
ORGANIZER;CN="Panditji":MAILTO:info@radhakrishnamandir.ca
END:VEVENT
BEGIN:VEVENT
DTSTART;TZID=America/Toronto:20280424T183000
DTEND;TZID=America/Toronto:20280424T200000
DTSTAMP:20260421T191001
CREATED:20260405T210609Z
LAST-MODIFIED:20260405T210612Z
UID:10003574-1840213800-1840219200@radhakrishnamandir.ca
SUMMARY:Lord Shiva (Rudra) Abhishek
DESCRIPTION:
URL:https://radhakrishnamandir.ca/event/shiva-abhishek-3-2-2-2/2028-04-24/
LOCATION:Radha Krishna Mandir & Cultural Centre\, 85 Boxwood Drive\, Cambridge\, Ontario\, N3E 0A5\, Canada
CATEGORIES:Events at Mandir
ATTACH;FMTTYPE=image/png:https://radhakrishnamandir.ca/wp-content/uploads/2025/10/Mondays-lord-shiva_2026-1.png
ORGANIZER;CN="Panditji":MAILTO:rkmcc@radhakrishnamandir.ca
END:VEVENT
BEGIN:VEVENT
DTSTART;TZID=America/Toronto:20280430T100000
DTEND;TZID=America/Toronto:20280430T120000
DTSTAMP:20260421T191001
CREATED:20260405T211126Z
LAST-MODIFIED:20260405T211130Z
UID:10001909-1840701600-1840708800@radhakrishnamandir.ca
SUMMARY:Sunday Service
DESCRIPTION:
URL:https://radhakrishnamandir.ca/event/sunday-service-6-2-2-2/2028-04-30/
LOCATION:Radha Krishna Mandir & Cultural Centre\, 85 Boxwood Drive\, Cambridge\, Ontario\, N3E 0A5\, Canada
CATEGORIES:Events at Mandir
ATTACH;FMTTYPE=image/png:https://radhakrishnamandir.ca/wp-content/uploads/2025/10/Sunday_Service_2026-1.png
ORGANIZER;CN="Panditji":MAILTO:info@radhakrishnamandir.ca
END:VEVENT
END:VCALENDAR