BEGIN:VCALENDAR
VERSION:2.0
PRODID:-//Radha Krishna Mandir &amp; Cultural Centre, Cambridge Ontario - ECPv6.15.20//NONSGML v1.0//EN
CALSCALE:GREGORIAN
METHOD:PUBLISH
X-WR-CALNAME:Radha Krishna Mandir &amp; Cultural Centre, Cambridge Ontario
X-ORIGINAL-URL:https://radhakrishnamandir.ca
X-WR-CALDESC:Events for Radha Krishna Mandir &amp; Cultural Centre, Cambridge Ontario
REFRESH-INTERVAL;VALUE=DURATION:PT1H
X-Robots-Tag:noindex
X-PUBLISHED-TTL:PT1H
BEGIN:VTIMEZONE
TZID:America/Toronto
BEGIN:DAYLIGHT
TZOFFSETFROM:-0500
TZOFFSETTO:-0400
TZNAME:EDT
DTSTART:20240310T070000
END:DAYLIGHT
BEGIN:STANDARD
TZOFFSETFROM:-0400
TZOFFSETTO:-0500
TZNAME:EST
DTSTART:20241103T060000
END:STANDARD
BEGIN:DAYLIGHT
TZOFFSETFROM:-0500
TZOFFSETTO:-0400
TZNAME:EDT
DTSTART:20250309T070000
END:DAYLIGHT
BEGIN:STANDARD
TZOFFSETFROM:-0400
TZOFFSETTO:-0500
TZNAME:EST
DTSTART:20251102T060000
END:STANDARD
BEGIN:DAYLIGHT
TZOFFSETFROM:-0500
TZOFFSETTO:-0400
TZNAME:EDT
DTSTART:20260308T070000
END:DAYLIGHT
BEGIN:STANDARD
TZOFFSETFROM:-0400
TZOFFSETTO:-0500
TZNAME:EST
DTSTART:20261101T060000
END:STANDARD
END:VTIMEZONE
BEGIN:VEVENT
DTSTART;TZID=America/Toronto:20250528T180000
DTEND;TZID=America/Toronto:20250528T200000
DTSTAMP:20260423T064718
CREATED:20250125T003906Z
LAST-MODIFIED:20250830T141303Z
UID:10002726-1748455200-1748462400@radhakrishnamandir.ca
SUMMARY:Shri Krishna Puja
DESCRIPTION:
URL:https://radhakrishnamandir.ca/event/shri-krishna-puja/2025-05-28/
LOCATION:Radha Krishna Mandir & Cultural Centre\, 85 Boxwood Drive\, Cambridge\, Ontario\, N3E 0A5\, Canada
CATEGORIES:Culture,Events at Mandir,Special Events
ATTACH;FMTTYPE=image/png:https://radhakrishnamandir.ca/wp-content/uploads/2025/01/Weekly_Lord_Krishna_Puja_-2025-2.png
END:VEVENT
BEGIN:VEVENT
DTSTART;TZID=America/Toronto:20250527T180000
DTEND;TZID=America/Toronto:20250527T200000
DTSTAMP:20260423T064718
CREATED:20250508T160210Z
LAST-MODIFIED:20251124T045349Z
UID:10003824-1748368800-1748376000@radhakrishnamandir.ca
SUMMARY:Hanuman ji Chalisa Satsang
DESCRIPTION:
URL:https://radhakrishnamandir.ca/event/hanuman-chalisa-3/2025-05-27/
LOCATION:Radha Krishna Mandir & Cultural Centre\, 85 Boxwood Drive\, Cambridge\, Ontario\, N3E 0A5\, Canada
CATEGORIES:Events at Mandir,Special Events
ORGANIZER;CN="Panditji":MAILTO:rkmcc@radhakrishnamandir.ca
END:VEVENT
BEGIN:VEVENT
DTSTART;TZID=America/Toronto:20250526T190000
DTEND;TZID=America/Toronto:20250526T200000
DTSTAMP:20260423T064718
CREATED:20240123T162004Z
LAST-MODIFIED:20240223T135133Z
UID:10000941-1748286000-1748289600@radhakrishnamandir.ca
SUMMARY:Shiva Abhishek
DESCRIPTION:
URL:https://radhakrishnamandir.ca/event/shiva-abhishek/2025-05-26/
LOCATION:Radha Krishna Mandir & Cultural Centre\, 85 Boxwood Drive\, Cambridge\, Ontario\, N3E 0A5\, Canada
CATEGORIES:Events at Mandir
ATTACH;FMTTYPE=image/jpeg:https://radhakrishnamandir.ca/wp-content/uploads/2024/01/lordshiva-e1709218431374.jpg
ORGANIZER;CN="Panditji":MAILTO:rkmcc@radhakrishnamandir.ca
END:VEVENT
BEGIN:VEVENT
DTSTART;TZID=America/Toronto:20250525T100000
DTEND;TZID=America/Toronto:20250525T230000
DTSTAMP:20260423T064718
CREATED:20240731T190136Z
LAST-MODIFIED:20241010T125918Z
UID:10002382-1748167200-1748214000@radhakrishnamandir.ca
SUMMARY:Bal Vihar (by Registration only)
DESCRIPTION:
URL:https://radhakrishnamandir.ca/event/bal-vihar-by-registration-only-2/2025-05-25/
LOCATION:Radha Krishna Mandir & Cultural Centre\, 85 Boxwood Drive\, Cambridge\, Ontario\, N3E 0A5\, Canada
CATEGORIES:Community Outreach,Culture,Events at Mandir
ATTACH;FMTTYPE=image/png:https://radhakrishnamandir.ca/wp-content/uploads/2024/01/Bal_vihar_2024.png
ORGANIZER;CN="Bhawna Lakhanpal":MAILTO:balvihar@radhakrishnamandir.ca
END:VEVENT
BEGIN:VEVENT
DTSTART;TZID=America/Toronto:20250525T100000
DTEND;TZID=America/Toronto:20250525T120000
DTSTAMP:20260423T064718
CREATED:20241229T041041Z
LAST-MODIFIED:20241229T041100Z
UID:10001756-1748167200-1748174400@radhakrishnamandir.ca
SUMMARY:Sunday Service
DESCRIPTION:
URL:https://radhakrishnamandir.ca/event/sunday-service-3-2-2/2025-05-25/
LOCATION:Radha Krishna Mandir & Cultural Centre\, 85 Boxwood Drive\, Cambridge\, Ontario\, N3E 0A5\, Canada
CATEGORIES:Events at Mandir
ATTACH;FMTTYPE=image/png:https://radhakrishnamandir.ca/wp-content/uploads/2024/06/Sunday_upasna_pt.nikhil-1.png
ORGANIZER;CN="Panditji":MAILTO:info@radhakrishnamandir.ca
END:VEVENT
BEGIN:VEVENT
DTSTART;TZID=America/Toronto:20250521T180000
DTEND;TZID=America/Toronto:20250521T200000
DTSTAMP:20260423T064718
CREATED:20250125T003906Z
LAST-MODIFIED:20250830T141303Z
UID:10002725-1747850400-1747857600@radhakrishnamandir.ca
SUMMARY:Shri Krishna Puja
DESCRIPTION:
URL:https://radhakrishnamandir.ca/event/shri-krishna-puja/2025-05-21/
LOCATION:Radha Krishna Mandir & Cultural Centre\, 85 Boxwood Drive\, Cambridge\, Ontario\, N3E 0A5\, Canada
CATEGORIES:Culture,Events at Mandir,Special Events
ATTACH;FMTTYPE=image/png:https://radhakrishnamandir.ca/wp-content/uploads/2025/01/Weekly_Lord_Krishna_Puja_-2025-2.png
END:VEVENT
BEGIN:VEVENT
DTSTART;TZID=America/Toronto:20250520T180000
DTEND;TZID=America/Toronto:20250520T200000
DTSTAMP:20260423T064718
CREATED:20250508T160210Z
LAST-MODIFIED:20251124T045349Z
UID:10003823-1747764000-1747771200@radhakrishnamandir.ca
SUMMARY:Hanuman ji Chalisa Satsang
DESCRIPTION:
URL:https://radhakrishnamandir.ca/event/hanuman-chalisa-3/2025-05-20/
LOCATION:Radha Krishna Mandir & Cultural Centre\, 85 Boxwood Drive\, Cambridge\, Ontario\, N3E 0A5\, Canada
CATEGORIES:Events at Mandir,Special Events
ORGANIZER;CN="Panditji":MAILTO:rkmcc@radhakrishnamandir.ca
END:VEVENT
BEGIN:VEVENT
DTSTART;TZID=America/Toronto:20250519T190000
DTEND;TZID=America/Toronto:20250519T200000
DTSTAMP:20260423T064718
CREATED:20240123T162004Z
LAST-MODIFIED:20240223T135133Z
UID:10000940-1747681200-1747684800@radhakrishnamandir.ca
SUMMARY:Shiva Abhishek
DESCRIPTION:
URL:https://radhakrishnamandir.ca/event/shiva-abhishek/2025-05-19/
LOCATION:Radha Krishna Mandir & Cultural Centre\, 85 Boxwood Drive\, Cambridge\, Ontario\, N3E 0A5\, Canada
CATEGORIES:Events at Mandir
ATTACH;FMTTYPE=image/jpeg:https://radhakrishnamandir.ca/wp-content/uploads/2024/01/lordshiva-e1709218431374.jpg
ORGANIZER;CN="Panditji":MAILTO:rkmcc@radhakrishnamandir.ca
END:VEVENT
BEGIN:VEVENT
DTSTART;TZID=America/Toronto:20250518T170000
DTEND;TZID=America/Toronto:20250518T190000
DTSTAMP:20260423T064718
CREATED:20250508T120717Z
LAST-MODIFIED:20250508T120718Z
UID:10003077-1747587600-1747594800@radhakrishnamandir.ca
SUMMARY:Satsangh
DESCRIPTION:
URL:https://radhakrishnamandir.ca/event/monthly-satsangh-2/
LOCATION:Radha Krishna Mandir & Cultural Centre\, 85 Boxwood Drive\, Cambridge\, Ontario\, N3E 0A5\, Canada
CATEGORIES:Culture,Events at Mandir
END:VEVENT
BEGIN:VEVENT
DTSTART;TZID=America/Toronto:20250518T100000
DTEND;TZID=America/Toronto:20250518T230000
DTSTAMP:20260423T064718
CREATED:20240731T190136Z
LAST-MODIFIED:20241010T125918Z
UID:10002381-1747562400-1747609200@radhakrishnamandir.ca
SUMMARY:Bal Vihar (by Registration only)
DESCRIPTION:
URL:https://radhakrishnamandir.ca/event/bal-vihar-by-registration-only-2/2025-05-18/
LOCATION:Radha Krishna Mandir & Cultural Centre\, 85 Boxwood Drive\, Cambridge\, Ontario\, N3E 0A5\, Canada
CATEGORIES:Community Outreach,Culture,Events at Mandir
ATTACH;FMTTYPE=image/png:https://radhakrishnamandir.ca/wp-content/uploads/2024/01/Bal_vihar_2024.png
ORGANIZER;CN="Bhawna Lakhanpal":MAILTO:balvihar@radhakrishnamandir.ca
END:VEVENT
BEGIN:VEVENT
DTSTART;TZID=America/Toronto:20250518T100000
DTEND;TZID=America/Toronto:20250518T120000
DTSTAMP:20260423T064719
CREATED:20241229T041041Z
LAST-MODIFIED:20241229T041100Z
UID:10001755-1747562400-1747569600@radhakrishnamandir.ca
SUMMARY:Sunday Service
DESCRIPTION:
URL:https://radhakrishnamandir.ca/event/sunday-service-3-2-2/2025-05-18/
LOCATION:Radha Krishna Mandir & Cultural Centre\, 85 Boxwood Drive\, Cambridge\, Ontario\, N3E 0A5\, Canada
CATEGORIES:Events at Mandir
ATTACH;FMTTYPE=image/png:https://radhakrishnamandir.ca/wp-content/uploads/2024/06/Sunday_upasna_pt.nikhil-1.png
ORGANIZER;CN="Panditji":MAILTO:info@radhakrishnamandir.ca
END:VEVENT
BEGIN:VEVENT
DTSTART;TZID=America/Toronto:20250514T180000
DTEND;TZID=America/Toronto:20250514T200000
DTSTAMP:20260423T064719
CREATED:20250125T003906Z
LAST-MODIFIED:20250830T141303Z
UID:10002724-1747245600-1747252800@radhakrishnamandir.ca
SUMMARY:Shri Krishna Puja
DESCRIPTION:
URL:https://radhakrishnamandir.ca/event/shri-krishna-puja/2025-05-14/
LOCATION:Radha Krishna Mandir & Cultural Centre\, 85 Boxwood Drive\, Cambridge\, Ontario\, N3E 0A5\, Canada
CATEGORIES:Culture,Events at Mandir,Special Events
ATTACH;FMTTYPE=image/png:https://radhakrishnamandir.ca/wp-content/uploads/2025/01/Weekly_Lord_Krishna_Puja_-2025-2.png
END:VEVENT
BEGIN:VEVENT
DTSTART;TZID=America/Toronto:20250513T180000
DTEND;TZID=America/Toronto:20250513T200000
DTSTAMP:20260423T064719
CREATED:20250508T160210Z
LAST-MODIFIED:20251124T045349Z
UID:10003822-1747159200-1747166400@radhakrishnamandir.ca
SUMMARY:Hanuman ji Chalisa Satsang
DESCRIPTION:
URL:https://radhakrishnamandir.ca/event/hanuman-chalisa-3/2025-05-13/
LOCATION:Radha Krishna Mandir & Cultural Centre\, 85 Boxwood Drive\, Cambridge\, Ontario\, N3E 0A5\, Canada
CATEGORIES:Events at Mandir,Special Events
ORGANIZER;CN="Panditji":MAILTO:rkmcc@radhakrishnamandir.ca
END:VEVENT
BEGIN:VEVENT
DTSTART;TZID=America/Toronto:20250512T190000
DTEND;TZID=America/Toronto:20250512T200000
DTSTAMP:20260423T064719
CREATED:20240123T162004Z
LAST-MODIFIED:20240223T135133Z
UID:10000939-1747076400-1747080000@radhakrishnamandir.ca
SUMMARY:Shiva Abhishek
DESCRIPTION:
URL:https://radhakrishnamandir.ca/event/shiva-abhishek/2025-05-12/
LOCATION:Radha Krishna Mandir & Cultural Centre\, 85 Boxwood Drive\, Cambridge\, Ontario\, N3E 0A5\, Canada
CATEGORIES:Events at Mandir
ATTACH;FMTTYPE=image/jpeg:https://radhakrishnamandir.ca/wp-content/uploads/2024/01/lordshiva-e1709218431374.jpg
ORGANIZER;CN="Panditji":MAILTO:rkmcc@radhakrishnamandir.ca
END:VEVENT
BEGIN:VEVENT
DTSTART;TZID=America/Toronto:20250511T100000
DTEND;TZID=America/Toronto:20250511T230000
DTSTAMP:20260423T064719
CREATED:20240731T190136Z
LAST-MODIFIED:20241010T125918Z
UID:10002380-1746957600-1747004400@radhakrishnamandir.ca
SUMMARY:Bal Vihar (by Registration only)
DESCRIPTION:
URL:https://radhakrishnamandir.ca/event/bal-vihar-by-registration-only-2/2025-05-11/
LOCATION:Radha Krishna Mandir & Cultural Centre\, 85 Boxwood Drive\, Cambridge\, Ontario\, N3E 0A5\, Canada
CATEGORIES:Community Outreach,Culture,Events at Mandir
ATTACH;FMTTYPE=image/png:https://radhakrishnamandir.ca/wp-content/uploads/2024/01/Bal_vihar_2024.png
ORGANIZER;CN="Bhawna Lakhanpal":MAILTO:balvihar@radhakrishnamandir.ca
END:VEVENT
BEGIN:VEVENT
DTSTART;TZID=America/Toronto:20250511T100000
DTEND;TZID=America/Toronto:20250511T120000
DTSTAMP:20260423T064719
CREATED:20250506T192522Z
LAST-MODIFIED:20250506T192617Z
UID:10003017-1746957600-1746964800@radhakrishnamandir.ca
SUMMARY:Sunday Upasana with Pt. Deo Doobay
DESCRIPTION:
URL:https://radhakrishnamandir.ca/event/sunday-upasana-6-2-2/
LOCATION:Radha Krishna Mandir & Cultural Centre\, 85 Boxwood Drive\, Cambridge\, Ontario\, N3E 0A5\, Canada
CATEGORIES:Events at Mandir,Special Events
ATTACH;FMTTYPE=image/jpeg:https://radhakrishnamandir.ca/wp-content/uploads/2025/04/doobay1.jpg
ORGANIZER;CN="Dwarka Persaud":MAILTO:president@radhakrishnamandir.ca
END:VEVENT
BEGIN:VEVENT
DTSTART;TZID=America/Toronto:20250510T170000
DTEND;TZID=America/Toronto:20250510T210000
DTSTAMP:20260423T064719
CREATED:20250403T200128Z
LAST-MODIFIED:20250410T210102Z
UID:10003186-1746896400-1746910800@radhakrishnamandir.ca
SUMMARY:Mothers Day Fundraising Dinner
DESCRIPTION:
URL:https://radhakrishnamandir.ca/event/mothers-day-fundraising-dinner/
LOCATION:Brampton Triveni Mandir and Community Centre\, 20 Daviselm Drive\, Brampton\,\, Ontario\, L6X 0E6\, Canada
CATEGORIES:Community Outreach,Fundraising,Special Events
ATTACH;FMTTYPE=image/jpeg:https://radhakrishnamandir.ca/wp-content/uploads/2025/04/mother-day-flyer-updated-1.jpg
ORGANIZER;CN="Dwarka Persaud":MAILTO:president@radhakrishnamandir.ca
END:VEVENT
BEGIN:VEVENT
DTSTART;TZID=America/Toronto:20250507T180000
DTEND;TZID=America/Toronto:20250507T200000
DTSTAMP:20260423T064719
CREATED:20250125T003906Z
LAST-MODIFIED:20250830T141303Z
UID:10002723-1746640800-1746648000@radhakrishnamandir.ca
SUMMARY:Shri Krishna Puja
DESCRIPTION:
URL:https://radhakrishnamandir.ca/event/shri-krishna-puja/2025-05-07/
LOCATION:Radha Krishna Mandir & Cultural Centre\, 85 Boxwood Drive\, Cambridge\, Ontario\, N3E 0A5\, Canada
CATEGORIES:Culture,Events at Mandir,Special Events
ATTACH;FMTTYPE=image/png:https://radhakrishnamandir.ca/wp-content/uploads/2025/01/Weekly_Lord_Krishna_Puja_-2025-2.png
END:VEVENT
BEGIN:VEVENT
DTSTART;TZID=America/Toronto:20250505T190000
DTEND;TZID=America/Toronto:20250505T200000
DTSTAMP:20260423T064719
CREATED:20240123T162004Z
LAST-MODIFIED:20240223T135133Z
UID:10000938-1746471600-1746475200@radhakrishnamandir.ca
SUMMARY:Shiva Abhishek
DESCRIPTION:
URL:https://radhakrishnamandir.ca/event/shiva-abhishek/2025-05-05/
LOCATION:Radha Krishna Mandir & Cultural Centre\, 85 Boxwood Drive\, Cambridge\, Ontario\, N3E 0A5\, Canada
CATEGORIES:Events at Mandir
ATTACH;FMTTYPE=image/jpeg:https://radhakrishnamandir.ca/wp-content/uploads/2024/01/lordshiva-e1709218431374.jpg
ORGANIZER;CN="Panditji":MAILTO:rkmcc@radhakrishnamandir.ca
END:VEVENT
BEGIN:VEVENT
DTSTART;TZID=America/Toronto:20250504T100000
DTEND;TZID=America/Toronto:20250504T230000
DTSTAMP:20260423T064719
CREATED:20240731T190136Z
LAST-MODIFIED:20241010T125918Z
UID:10002379-1746352800-1746399600@radhakrishnamandir.ca
SUMMARY:Bal Vihar (by Registration only)
DESCRIPTION:
URL:https://radhakrishnamandir.ca/event/bal-vihar-by-registration-only-2/2025-05-04/
LOCATION:Radha Krishna Mandir & Cultural Centre\, 85 Boxwood Drive\, Cambridge\, Ontario\, N3E 0A5\, Canada
CATEGORIES:Community Outreach,Culture,Events at Mandir
ATTACH;FMTTYPE=image/png:https://radhakrishnamandir.ca/wp-content/uploads/2024/01/Bal_vihar_2024.png
ORGANIZER;CN="Bhawna Lakhanpal":MAILTO:balvihar@radhakrishnamandir.ca
END:VEVENT
BEGIN:VEVENT
DTSTART;TZID=America/Toronto:20250504T100000
DTEND;TZID=America/Toronto:20250504T120000
DTSTAMP:20260423T064719
CREATED:20241229T041041Z
LAST-MODIFIED:20241229T041100Z
UID:10001753-1746352800-1746360000@radhakrishnamandir.ca
SUMMARY:Sunday Service
DESCRIPTION:
URL:https://radhakrishnamandir.ca/event/sunday-service-3-2-2/2025-05-04/
LOCATION:Radha Krishna Mandir & Cultural Centre\, 85 Boxwood Drive\, Cambridge\, Ontario\, N3E 0A5\, Canada
CATEGORIES:Events at Mandir
ATTACH;FMTTYPE=image/png:https://radhakrishnamandir.ca/wp-content/uploads/2024/06/Sunday_upasna_pt.nikhil-1.png
ORGANIZER;CN="Panditji":MAILTO:info@radhakrishnamandir.ca
END:VEVENT
BEGIN:VEVENT
DTSTART;TZID=America/Toronto:20250430T180000
DTEND;TZID=America/Toronto:20250430T200000
DTSTAMP:20260423T064719
CREATED:20250125T003906Z
LAST-MODIFIED:20250830T141303Z
UID:10002722-1746036000-1746043200@radhakrishnamandir.ca
SUMMARY:Shri Krishna Puja
DESCRIPTION:
URL:https://radhakrishnamandir.ca/event/shri-krishna-puja/2025-04-30/
LOCATION:Radha Krishna Mandir & Cultural Centre\, 85 Boxwood Drive\, Cambridge\, Ontario\, N3E 0A5\, Canada
CATEGORIES:Culture,Events at Mandir,Special Events
ATTACH;FMTTYPE=image/png:https://radhakrishnamandir.ca/wp-content/uploads/2025/01/Weekly_Lord_Krishna_Puja_-2025-2.png
END:VEVENT
BEGIN:VEVENT
DTSTART;TZID=America/Toronto:20250429T180000
DTEND;TZID=America/Toronto:20250429T210000
DTSTAMP:20260423T064719
CREATED:20250426T134818Z
LAST-MODIFIED:20250426T134818Z
UID:10003200-1745949600-1745960400@radhakrishnamandir.ca
SUMMARY:Sri Hanuman ji Satsangh with Pt. Rajin Balgobind
DESCRIPTION:
URL:https://radhakrishnamandir.ca/event/shrihanumanji/
LOCATION:Radha Krishna Mandir & Cultural Centre\, 85 Boxwood Drive\, Cambridge\, Ontario\, N3E 0A5\, Canada
CATEGORIES:Culture,Events at Mandir,Special Events
ATTACH;FMTTYPE=image/jpeg:https://radhakrishnamandir.ca/wp-content/uploads/2025/04/tuesday.jpg
ORGANIZER;CN="Dwarka Persaud":MAILTO:president@radhakrishnamandir.ca
END:VEVENT
BEGIN:VEVENT
DTSTART;TZID=America/Toronto:20250428T180000
DTEND;TZID=America/Toronto:20250428T210000
DTSTAMP:20260423T064719
CREATED:20250426T134801Z
LAST-MODIFIED:20250426T134801Z
UID:10003199-1745863200-1745874000@radhakrishnamandir.ca
SUMMARY:Lord Shiva Satsangh with Pandit Rajin Balgobind
DESCRIPTION:
URL:https://radhakrishnamandir.ca/event/shivaji/
LOCATION:Radha Krishna Mandir & Cultural Centre\, 85 Boxwood Drive\, Cambridge\, Ontario\, N3E 0A5\, Canada
CATEGORIES:Culture,Events at Mandir,Special Events
ATTACH;FMTTYPE=image/jpeg:https://radhakrishnamandir.ca/wp-content/uploads/2025/04/monday.jpg
ORGANIZER;CN="Dwarka Persaud":MAILTO:president@radhakrishnamandir.ca
END:VEVENT
BEGIN:VEVENT
DTSTART;TZID=America/Toronto:20250428T173000
DTEND;TZID=America/Toronto:20250428T183000
DTSTAMP:20260423T064719
CREATED:20250428T124102Z
LAST-MODIFIED:20250428T124104Z
UID:10000937-1745861400-1745865000@radhakrishnamandir.ca
SUMMARY:Shiva Abhishek
DESCRIPTION:
URL:https://radhakrishnamandir.ca/event/shiva-abhishek-2/
LOCATION:Radha Krishna Mandir & Cultural Centre\, 85 Boxwood Drive\, Cambridge\, Ontario\, N3E 0A5\, Canada
CATEGORIES:Events at Mandir
ATTACH;FMTTYPE=image/jpeg:https://radhakrishnamandir.ca/wp-content/uploads/2024/01/lordshiva-e1709218431374.jpg
ORGANIZER;CN="Panditji":MAILTO:rkmcc@radhakrishnamandir.ca
END:VEVENT
BEGIN:VEVENT
DTSTART;TZID=America/Toronto:20250427T100000
DTEND;TZID=America/Toronto:20250427T230000
DTSTAMP:20260423T064719
CREATED:20240731T190136Z
LAST-MODIFIED:20241010T125918Z
UID:10002378-1745748000-1745794800@radhakrishnamandir.ca
SUMMARY:Bal Vihar (by Registration only)
DESCRIPTION:
URL:https://radhakrishnamandir.ca/event/bal-vihar-by-registration-only-2/2025-04-27/
LOCATION:Radha Krishna Mandir & Cultural Centre\, 85 Boxwood Drive\, Cambridge\, Ontario\, N3E 0A5\, Canada
CATEGORIES:Community Outreach,Culture,Events at Mandir
ATTACH;FMTTYPE=image/png:https://radhakrishnamandir.ca/wp-content/uploads/2024/01/Bal_vihar_2024.png
ORGANIZER;CN="Bhawna Lakhanpal":MAILTO:balvihar@radhakrishnamandir.ca
END:VEVENT
BEGIN:VEVENT
DTSTART;TZID=America/Toronto:20250427T100000
DTEND;TZID=America/Toronto:20250427T120000
DTSTAMP:20260423T064719
CREATED:20241229T041041Z
LAST-MODIFIED:20241229T041100Z
UID:10001752-1745748000-1745755200@radhakrishnamandir.ca
SUMMARY:Sunday Service
DESCRIPTION:
URL:https://radhakrishnamandir.ca/event/sunday-service-3-2-2/2025-04-27/
LOCATION:Radha Krishna Mandir & Cultural Centre\, 85 Boxwood Drive\, Cambridge\, Ontario\, N3E 0A5\, Canada
CATEGORIES:Events at Mandir
ATTACH;FMTTYPE=image/png:https://radhakrishnamandir.ca/wp-content/uploads/2024/06/Sunday_upasna_pt.nikhil-1.png
ORGANIZER;CN="Panditji":MAILTO:info@radhakrishnamandir.ca
END:VEVENT
BEGIN:VEVENT
DTSTART;TZID=America/Toronto:20250423T180000
DTEND;TZID=America/Toronto:20250423T200000
DTSTAMP:20260423T064719
CREATED:20250125T003906Z
LAST-MODIFIED:20250830T141303Z
UID:10002721-1745431200-1745438400@radhakrishnamandir.ca
SUMMARY:Shri Krishna Puja
DESCRIPTION:
URL:https://radhakrishnamandir.ca/event/shri-krishna-puja/2025-04-23/
LOCATION:Radha Krishna Mandir & Cultural Centre\, 85 Boxwood Drive\, Cambridge\, Ontario\, N3E 0A5\, Canada
CATEGORIES:Culture,Events at Mandir,Special Events
ATTACH;FMTTYPE=image/png:https://radhakrishnamandir.ca/wp-content/uploads/2025/01/Weekly_Lord_Krishna_Puja_-2025-2.png
END:VEVENT
BEGIN:VEVENT
DTSTART;TZID=America/Toronto:20250422T170000
DTEND;TZID=America/Toronto:20250422T200000
DTSTAMP:20260423T064719
CREATED:20250403T202612Z
LAST-MODIFIED:20250403T202722Z
UID:10003153-1745341200-1745352000@radhakrishnamandir.ca
SUMMARY:Hanuman Chalisa Satsang
DESCRIPTION:
URL:https://radhakrishnamandir.ca/event/hanuman-chalisa-2-2-2/2025-04-22/
LOCATION:Radha Krishna Mandir & Cultural Centre\, 85 Boxwood Drive\, Cambridge\, Ontario\, N3E 0A5\, Canada
CATEGORIES:Events at Mandir
ORGANIZER;CN="Panditji":MAILTO:rkmcc@radhakrishnamandir.ca
END:VEVENT
BEGIN:VEVENT
DTSTART;TZID=America/Toronto:20250421T190000
DTEND;TZID=America/Toronto:20250421T200000
DTSTAMP:20260423T064719
CREATED:20240123T162004Z
LAST-MODIFIED:20240223T135133Z
UID:10000936-1745262000-1745265600@radhakrishnamandir.ca
SUMMARY:Shiva Abhishek
DESCRIPTION:
URL:https://radhakrishnamandir.ca/event/shiva-abhishek/2025-04-21/
LOCATION:Radha Krishna Mandir & Cultural Centre\, 85 Boxwood Drive\, Cambridge\, Ontario\, N3E 0A5\, Canada
CATEGORIES:Events at Mandir
ATTACH;FMTTYPE=image/jpeg:https://radhakrishnamandir.ca/wp-content/uploads/2024/01/lordshiva-e1709218431374.jpg
ORGANIZER;CN="Panditji":MAILTO:rkmcc@radhakrishnamandir.ca
END:VEVENT
END:VCALENDAR