BEGIN:VCALENDAR
VERSION:2.0
PRODID:-//Radha Krishna Mandir &amp; Cultural Centre, Cambridge Ontario - ECPv6.15.20//NONSGML v1.0//EN
CALSCALE:GREGORIAN
METHOD:PUBLISH
X-ORIGINAL-URL:https://radhakrishnamandir.ca
X-WR-CALDESC:Events for Radha Krishna Mandir &amp; Cultural Centre, Cambridge Ontario
REFRESH-INTERVAL;VALUE=DURATION:PT1H
X-Robots-Tag:noindex
X-PUBLISHED-TTL:PT1H
BEGIN:VTIMEZONE
TZID:America/Toronto
BEGIN:DAYLIGHT
TZOFFSETFROM:-0500
TZOFFSETTO:-0400
TZNAME:EDT
DTSTART:20270314T070000
END:DAYLIGHT
BEGIN:STANDARD
TZOFFSETFROM:-0400
TZOFFSETTO:-0500
TZNAME:EST
DTSTART:20271107T060000
END:STANDARD
BEGIN:DAYLIGHT
TZOFFSETFROM:-0500
TZOFFSETTO:-0400
TZNAME:EDT
DTSTART:20280312T070000
END:DAYLIGHT
BEGIN:STANDARD
TZOFFSETFROM:-0400
TZOFFSETTO:-0500
TZNAME:EST
DTSTART:20281105T060000
END:STANDARD
BEGIN:DAYLIGHT
TZOFFSETFROM:-0500
TZOFFSETTO:-0400
TZNAME:EDT
DTSTART:20290311T070000
END:DAYLIGHT
BEGIN:STANDARD
TZOFFSETFROM:-0400
TZOFFSETTO:-0500
TZNAME:EST
DTSTART:20291104T060000
END:STANDARD
BEGIN:DAYLIGHT
TZOFFSETFROM:-0500
TZOFFSETTO:-0400
TZNAME:EDT
DTSTART:20300310T070000
END:DAYLIGHT
BEGIN:STANDARD
TZOFFSETFROM:-0400
TZOFFSETTO:-0500
TZNAME:EST
DTSTART:20301103T060000
END:STANDARD
END:VTIMEZONE
BEGIN:VEVENT
DTSTART;TZID=America/Toronto:20281204T183000
DTEND;TZID=America/Toronto:20281204T200000
DTSTAMP:20260420T032605
CREATED:20260405T210609Z
LAST-MODIFIED:20260405T210612Z
UID:10003606-1859567400-1859572800@radhakrishnamandir.ca
SUMMARY:Lord Shiva (Rudra) Abhishek
DESCRIPTION:
URL:https://radhakrishnamandir.ca/event/shiva-abhishek-3-2-2-2/2028-12-04/
LOCATION:Radha Krishna Mandir & Cultural Centre\, 85 Boxwood Drive\, Cambridge\, Ontario\, N3E 0A5\, Canada
CATEGORIES:Events at Mandir
ATTACH;FMTTYPE=image/png:https://radhakrishnamandir.ca/wp-content/uploads/2025/10/Mondays-lord-shiva_2026-1.png
ORGANIZER;CN="Panditji":MAILTO:rkmcc@radhakrishnamandir.ca
END:VEVENT
BEGIN:VEVENT
DTSTART;TZID=America/Toronto:20281210T100000
DTEND;TZID=America/Toronto:20281210T120000
DTSTAMP:20260420T032605
CREATED:20260405T211126Z
LAST-MODIFIED:20260405T211130Z
UID:10003776-1860055200-1860062400@radhakrishnamandir.ca
SUMMARY:Sunday Service
DESCRIPTION:Sunday Program\nJoin us on Sunday! Programming begins at 10:00 AM and continues until noon\, followed by a  lunch. If you would like to sit for puja or sponsor/provide lunch for attendees\, please give us a call or email us.
URL:https://radhakrishnamandir.ca/event/sunday-service-6-2-2-2/2028-12-10/
LOCATION:Radha Krishna Mandir & Cultural Centre\, 85 Boxwood Drive\, Cambridge\, Ontario\, N3E 0A5\, Canada
CATEGORIES:Events at Mandir
ATTACH;FMTTYPE=image/png:https://radhakrishnamandir.ca/wp-content/uploads/2025/10/Sunday_Service_2026-1.png
ORGANIZER;CN="Panditji":MAILTO:info@radhakrishnamandir.ca
END:VEVENT
BEGIN:VEVENT
DTSTART;TZID=America/Toronto:20281211T183000
DTEND;TZID=America/Toronto:20281211T200000
DTSTAMP:20260420T032605
CREATED:20260405T210609Z
LAST-MODIFIED:20260405T210612Z
UID:10003607-1860172200-1860177600@radhakrishnamandir.ca
SUMMARY:Lord Shiva (Rudra) Abhishek
DESCRIPTION:
URL:https://radhakrishnamandir.ca/event/shiva-abhishek-3-2-2-2/2028-12-11/
LOCATION:Radha Krishna Mandir & Cultural Centre\, 85 Boxwood Drive\, Cambridge\, Ontario\, N3E 0A5\, Canada
CATEGORIES:Events at Mandir
ATTACH;FMTTYPE=image/png:https://radhakrishnamandir.ca/wp-content/uploads/2025/10/Mondays-lord-shiva_2026-1.png
ORGANIZER;CN="Panditji":MAILTO:rkmcc@radhakrishnamandir.ca
END:VEVENT
BEGIN:VEVENT
DTSTART;TZID=America/Toronto:20281217T100000
DTEND;TZID=America/Toronto:20281217T120000
DTSTAMP:20260420T032605
CREATED:20260405T211126Z
LAST-MODIFIED:20260405T211130Z
UID:10001942-1860660000-1860667200@radhakrishnamandir.ca
SUMMARY:Sunday Service
DESCRIPTION:Sunday Program\nJoin us on Sunday! Programming begins at 10:00 AM and continues until noon\, followed by a  lunch. If you would like to sit for puja or sponsor/provide lunch for attendees\, please give us a call or email us.
URL:https://radhakrishnamandir.ca/event/sunday-service-6-2-2-2/2028-12-17/
LOCATION:Radha Krishna Mandir & Cultural Centre\, 85 Boxwood Drive\, Cambridge\, Ontario\, N3E 0A5\, Canada
CATEGORIES:Events at Mandir
ATTACH;FMTTYPE=image/png:https://radhakrishnamandir.ca/wp-content/uploads/2025/10/Sunday_Service_2026-1.png
ORGANIZER;CN="Panditji":MAILTO:info@radhakrishnamandir.ca
END:VEVENT
BEGIN:VEVENT
DTSTART;TZID=America/Toronto:20281217T170000
DTEND;TZID=America/Toronto:20281217T190000
DTSTAMP:20260420T032605
CREATED:20260327T124953Z
LAST-MODIFIED:20260406T020646Z
UID:10004093-1860685200-1860692400@radhakrishnamandir.ca
SUMMARY:Satsangh
DESCRIPTION: 
URL:https://radhakrishnamandir.ca/event/monthly-satsangh-2-2-2-3/2028-12-17/
LOCATION:Radha Krishna Mandir & Cultural Centre\, 85 Boxwood Drive\, Cambridge\, Ontario\, N3E 0A5\, Canada
CATEGORIES:Culture,Events at Mandir
ATTACH;FMTTYPE=image/png:https://radhakrishnamandir.ca/wp-content/uploads/2026/03/Monthly_-Sunday_Puja_-2025-4.png
END:VEVENT
BEGIN:VEVENT
DTSTART;TZID=America/Toronto:20281218T183000
DTEND;TZID=America/Toronto:20281218T200000
DTSTAMP:20260420T032605
CREATED:20260405T210609Z
LAST-MODIFIED:20260405T210612Z
UID:10003608-1860777000-1860782400@radhakrishnamandir.ca
SUMMARY:Lord Shiva (Rudra) Abhishek
DESCRIPTION:
URL:https://radhakrishnamandir.ca/event/shiva-abhishek-3-2-2-2/2028-12-18/
LOCATION:Radha Krishna Mandir & Cultural Centre\, 85 Boxwood Drive\, Cambridge\, Ontario\, N3E 0A5\, Canada
CATEGORIES:Events at Mandir
ATTACH;FMTTYPE=image/png:https://radhakrishnamandir.ca/wp-content/uploads/2025/10/Mondays-lord-shiva_2026-1.png
ORGANIZER;CN="Panditji":MAILTO:rkmcc@radhakrishnamandir.ca
END:VEVENT
BEGIN:VEVENT
DTSTART;TZID=America/Toronto:20281224T100000
DTEND;TZID=America/Toronto:20281224T120000
DTSTAMP:20260420T032605
CREATED:20260405T211126Z
LAST-MODIFIED:20260405T211130Z
UID:10001943-1861264800-1861272000@radhakrishnamandir.ca
SUMMARY:Sunday Service
DESCRIPTION:Sunday Program\nJoin us on Sunday! Programming begins at 10:00 AM and continues until noon\, followed by a  lunch. If you would like to sit for puja or sponsor/provide lunch for attendees\, please give us a call or email us.
URL:https://radhakrishnamandir.ca/event/sunday-service-6-2-2-2/2028-12-24/
LOCATION:Radha Krishna Mandir & Cultural Centre\, 85 Boxwood Drive\, Cambridge\, Ontario\, N3E 0A5\, Canada
CATEGORIES:Events at Mandir
ATTACH;FMTTYPE=image/png:https://radhakrishnamandir.ca/wp-content/uploads/2025/10/Sunday_Service_2026-1.png
ORGANIZER;CN="Panditji":MAILTO:info@radhakrishnamandir.ca
END:VEVENT
BEGIN:VEVENT
DTSTART;TZID=America/Toronto:20281225T183000
DTEND;TZID=America/Toronto:20281225T200000
DTSTAMP:20260420T032605
CREATED:20260405T210609Z
LAST-MODIFIED:20260405T210612Z
UID:10003609-1861381800-1861387200@radhakrishnamandir.ca
SUMMARY:Lord Shiva (Rudra) Abhishek
DESCRIPTION:
URL:https://radhakrishnamandir.ca/event/shiva-abhishek-3-2-2-2/2028-12-25/
LOCATION:Radha Krishna Mandir & Cultural Centre\, 85 Boxwood Drive\, Cambridge\, Ontario\, N3E 0A5\, Canada
CATEGORIES:Events at Mandir
ATTACH;FMTTYPE=image/png:https://radhakrishnamandir.ca/wp-content/uploads/2025/10/Mondays-lord-shiva_2026-1.png
ORGANIZER;CN="Panditji":MAILTO:rkmcc@radhakrishnamandir.ca
END:VEVENT
BEGIN:VEVENT
DTSTART;TZID=America/Toronto:20281231T100000
DTEND;TZID=America/Toronto:20281231T120000
DTSTAMP:20260420T032605
CREATED:20260405T211126Z
LAST-MODIFIED:20260405T211130Z
UID:10001944-1861869600-1861876800@radhakrishnamandir.ca
SUMMARY:Sunday Service
DESCRIPTION:Sunday Program\nJoin us on Sunday! Programming begins at 10:00 AM and continues until noon\, followed by a  lunch. If you would like to sit for puja or sponsor/provide lunch for attendees\, please give us a call or email us.
URL:https://radhakrishnamandir.ca/event/sunday-service-6-2-2-2/2028-12-31/
LOCATION:Radha Krishna Mandir & Cultural Centre\, 85 Boxwood Drive\, Cambridge\, Ontario\, N3E 0A5\, Canada
CATEGORIES:Events at Mandir
ATTACH;FMTTYPE=image/png:https://radhakrishnamandir.ca/wp-content/uploads/2025/10/Sunday_Service_2026-1.png
ORGANIZER;CN="Panditji":MAILTO:info@radhakrishnamandir.ca
END:VEVENT
BEGIN:VEVENT
DTSTART;TZID=America/Toronto:20290101T183000
DTEND;TZID=America/Toronto:20290101T200000
DTSTAMP:20260420T032605
CREATED:20260405T210609Z
LAST-MODIFIED:20260405T210612Z
UID:10003610-1861986600-1861992000@radhakrishnamandir.ca
SUMMARY:Lord Shiva (Rudra) Abhishek
DESCRIPTION:
URL:https://radhakrishnamandir.ca/event/shiva-abhishek-3-2-2-2/2029-01-01/
LOCATION:Radha Krishna Mandir & Cultural Centre\, 85 Boxwood Drive\, Cambridge\, Ontario\, N3E 0A5\, Canada
CATEGORIES:Events at Mandir
ATTACH;FMTTYPE=image/png:https://radhakrishnamandir.ca/wp-content/uploads/2025/10/Mondays-lord-shiva_2026-1.png
ORGANIZER;CN="Panditji":MAILTO:rkmcc@radhakrishnamandir.ca
END:VEVENT
BEGIN:VEVENT
DTSTART;TZID=America/Toronto:20290107T100000
DTEND;TZID=America/Toronto:20290107T120000
DTSTAMP:20260420T032605
CREATED:20260405T211126Z
LAST-MODIFIED:20260405T211130Z
UID:10001945-1862474400-1862481600@radhakrishnamandir.ca
SUMMARY:Sunday Service
DESCRIPTION:Sunday Program\nJoin us on Sunday! Programming begins at 10:00 AM and continues until noon\, followed by a  lunch. If you would like to sit for puja or sponsor/provide lunch for attendees\, please give us a call or email us.
URL:https://radhakrishnamandir.ca/event/sunday-service-6-2-2-2/2029-01-07/
LOCATION:Radha Krishna Mandir & Cultural Centre\, 85 Boxwood Drive\, Cambridge\, Ontario\, N3E 0A5\, Canada
CATEGORIES:Events at Mandir
ATTACH;FMTTYPE=image/png:https://radhakrishnamandir.ca/wp-content/uploads/2025/10/Sunday_Service_2026-1.png
ORGANIZER;CN="Panditji":MAILTO:info@radhakrishnamandir.ca
END:VEVENT
BEGIN:VEVENT
DTSTART;TZID=America/Toronto:20290108T183000
DTEND;TZID=America/Toronto:20290108T200000
DTSTAMP:20260420T032605
CREATED:20260405T210609Z
LAST-MODIFIED:20260405T210612Z
UID:10003611-1862591400-1862596800@radhakrishnamandir.ca
SUMMARY:Lord Shiva (Rudra) Abhishek
DESCRIPTION:
URL:https://radhakrishnamandir.ca/event/shiva-abhishek-3-2-2-2/2029-01-08/
LOCATION:Radha Krishna Mandir & Cultural Centre\, 85 Boxwood Drive\, Cambridge\, Ontario\, N3E 0A5\, Canada
CATEGORIES:Events at Mandir
ATTACH;FMTTYPE=image/png:https://radhakrishnamandir.ca/wp-content/uploads/2025/10/Mondays-lord-shiva_2026-1.png
ORGANIZER;CN="Panditji":MAILTO:rkmcc@radhakrishnamandir.ca
END:VEVENT
BEGIN:VEVENT
DTSTART;TZID=America/Toronto:20290114T100000
DTEND;TZID=America/Toronto:20290114T120000
DTSTAMP:20260420T032605
CREATED:20260405T211126Z
LAST-MODIFIED:20260405T211130Z
UID:10003777-1863079200-1863086400@radhakrishnamandir.ca
SUMMARY:Sunday Service
DESCRIPTION:Sunday Program\nJoin us on Sunday! Programming begins at 10:00 AM and continues until noon\, followed by a  lunch. If you would like to sit for puja or sponsor/provide lunch for attendees\, please give us a call or email us.
URL:https://radhakrishnamandir.ca/event/sunday-service-6-2-2-2/2029-01-14/
LOCATION:Radha Krishna Mandir & Cultural Centre\, 85 Boxwood Drive\, Cambridge\, Ontario\, N3E 0A5\, Canada
CATEGORIES:Events at Mandir
ATTACH;FMTTYPE=image/png:https://radhakrishnamandir.ca/wp-content/uploads/2025/10/Sunday_Service_2026-1.png
ORGANIZER;CN="Panditji":MAILTO:info@radhakrishnamandir.ca
END:VEVENT
BEGIN:VEVENT
DTSTART;TZID=America/Toronto:20290115T183000
DTEND;TZID=America/Toronto:20290115T200000
DTSTAMP:20260420T032605
CREATED:20260405T210609Z
LAST-MODIFIED:20260405T210612Z
UID:10003612-1863196200-1863201600@radhakrishnamandir.ca
SUMMARY:Lord Shiva (Rudra) Abhishek
DESCRIPTION:
URL:https://radhakrishnamandir.ca/event/shiva-abhishek-3-2-2-2/2029-01-15/
LOCATION:Radha Krishna Mandir & Cultural Centre\, 85 Boxwood Drive\, Cambridge\, Ontario\, N3E 0A5\, Canada
CATEGORIES:Events at Mandir
ATTACH;FMTTYPE=image/png:https://radhakrishnamandir.ca/wp-content/uploads/2025/10/Mondays-lord-shiva_2026-1.png
ORGANIZER;CN="Panditji":MAILTO:rkmcc@radhakrishnamandir.ca
END:VEVENT
BEGIN:VEVENT
DTSTART;TZID=America/Toronto:20290121T100000
DTEND;TZID=America/Toronto:20290121T120000
DTSTAMP:20260420T032605
CREATED:20260405T211126Z
LAST-MODIFIED:20260405T211130Z
UID:10001947-1863684000-1863691200@radhakrishnamandir.ca
SUMMARY:Sunday Service
DESCRIPTION:Sunday Program\nJoin us on Sunday! Programming begins at 10:00 AM and continues until noon\, followed by a  lunch. If you would like to sit for puja or sponsor/provide lunch for attendees\, please give us a call or email us.
URL:https://radhakrishnamandir.ca/event/sunday-service-6-2-2-2/2029-01-21/
LOCATION:Radha Krishna Mandir & Cultural Centre\, 85 Boxwood Drive\, Cambridge\, Ontario\, N3E 0A5\, Canada
CATEGORIES:Events at Mandir
ATTACH;FMTTYPE=image/png:https://radhakrishnamandir.ca/wp-content/uploads/2025/10/Sunday_Service_2026-1.png
ORGANIZER;CN="Panditji":MAILTO:info@radhakrishnamandir.ca
END:VEVENT
BEGIN:VEVENT
DTSTART;TZID=America/Toronto:20290121T170000
DTEND;TZID=America/Toronto:20290121T190000
DTSTAMP:20260420T032605
CREATED:20260327T124953Z
LAST-MODIFIED:20260406T020646Z
UID:10004094-1863709200-1863716400@radhakrishnamandir.ca
SUMMARY:Satsangh
DESCRIPTION: 
URL:https://radhakrishnamandir.ca/event/monthly-satsangh-2-2-2-3/2029-01-21/
LOCATION:Radha Krishna Mandir & Cultural Centre\, 85 Boxwood Drive\, Cambridge\, Ontario\, N3E 0A5\, Canada
CATEGORIES:Culture,Events at Mandir
ATTACH;FMTTYPE=image/png:https://radhakrishnamandir.ca/wp-content/uploads/2026/03/Monthly_-Sunday_Puja_-2025-4.png
END:VEVENT
BEGIN:VEVENT
DTSTART;TZID=America/Toronto:20290122T183000
DTEND;TZID=America/Toronto:20290122T200000
DTSTAMP:20260420T032605
CREATED:20260405T210609Z
LAST-MODIFIED:20260405T210612Z
UID:10003613-1863801000-1863806400@radhakrishnamandir.ca
SUMMARY:Lord Shiva (Rudra) Abhishek
DESCRIPTION:
URL:https://radhakrishnamandir.ca/event/shiva-abhishek-3-2-2-2/2029-01-22/
LOCATION:Radha Krishna Mandir & Cultural Centre\, 85 Boxwood Drive\, Cambridge\, Ontario\, N3E 0A5\, Canada
CATEGORIES:Events at Mandir
ATTACH;FMTTYPE=image/png:https://radhakrishnamandir.ca/wp-content/uploads/2025/10/Mondays-lord-shiva_2026-1.png
ORGANIZER;CN="Panditji":MAILTO:rkmcc@radhakrishnamandir.ca
END:VEVENT
BEGIN:VEVENT
DTSTART;TZID=America/Toronto:20290128T100000
DTEND;TZID=America/Toronto:20290128T120000
DTSTAMP:20260420T032605
CREATED:20260405T211126Z
LAST-MODIFIED:20260405T211130Z
UID:10001948-1864288800-1864296000@radhakrishnamandir.ca
SUMMARY:Sunday Service
DESCRIPTION:Sunday Program\nJoin us on Sunday! Programming begins at 10:00 AM and continues until noon\, followed by a  lunch. If you would like to sit for puja or sponsor/provide lunch for attendees\, please give us a call or email us.
URL:https://radhakrishnamandir.ca/event/sunday-service-6-2-2-2/2029-01-28/
LOCATION:Radha Krishna Mandir & Cultural Centre\, 85 Boxwood Drive\, Cambridge\, Ontario\, N3E 0A5\, Canada
CATEGORIES:Events at Mandir
ATTACH;FMTTYPE=image/png:https://radhakrishnamandir.ca/wp-content/uploads/2025/10/Sunday_Service_2026-1.png
ORGANIZER;CN="Panditji":MAILTO:info@radhakrishnamandir.ca
END:VEVENT
BEGIN:VEVENT
DTSTART;TZID=America/Toronto:20290129T183000
DTEND;TZID=America/Toronto:20290129T200000
DTSTAMP:20260420T032605
CREATED:20260405T210609Z
LAST-MODIFIED:20260405T210612Z
UID:10003614-1864405800-1864411200@radhakrishnamandir.ca
SUMMARY:Lord Shiva (Rudra) Abhishek
DESCRIPTION:
URL:https://radhakrishnamandir.ca/event/shiva-abhishek-3-2-2-2/2029-01-29/
LOCATION:Radha Krishna Mandir & Cultural Centre\, 85 Boxwood Drive\, Cambridge\, Ontario\, N3E 0A5\, Canada
CATEGORIES:Events at Mandir
ATTACH;FMTTYPE=image/png:https://radhakrishnamandir.ca/wp-content/uploads/2025/10/Mondays-lord-shiva_2026-1.png
ORGANIZER;CN="Panditji":MAILTO:rkmcc@radhakrishnamandir.ca
END:VEVENT
BEGIN:VEVENT
DTSTART;TZID=America/Toronto:20290204T100000
DTEND;TZID=America/Toronto:20290204T120000
DTSTAMP:20260420T032605
CREATED:20260405T211126Z
LAST-MODIFIED:20260405T211130Z
UID:10001949-1864893600-1864900800@radhakrishnamandir.ca
SUMMARY:Sunday Service
DESCRIPTION:Sunday Program\nJoin us on Sunday! Programming begins at 10:00 AM and continues until noon\, followed by a  lunch. If you would like to sit for puja or sponsor/provide lunch for attendees\, please give us a call or email us.
URL:https://radhakrishnamandir.ca/event/sunday-service-6-2-2-2/2029-02-04/
LOCATION:Radha Krishna Mandir & Cultural Centre\, 85 Boxwood Drive\, Cambridge\, Ontario\, N3E 0A5\, Canada
CATEGORIES:Events at Mandir
ATTACH;FMTTYPE=image/png:https://radhakrishnamandir.ca/wp-content/uploads/2025/10/Sunday_Service_2026-1.png
ORGANIZER;CN="Panditji":MAILTO:info@radhakrishnamandir.ca
END:VEVENT
BEGIN:VEVENT
DTSTART;TZID=America/Toronto:20290205T183000
DTEND;TZID=America/Toronto:20290205T200000
DTSTAMP:20260420T032605
CREATED:20260405T210609Z
LAST-MODIFIED:20260405T210612Z
UID:10003615-1865010600-1865016000@radhakrishnamandir.ca
SUMMARY:Lord Shiva (Rudra) Abhishek
DESCRIPTION:
URL:https://radhakrishnamandir.ca/event/shiva-abhishek-3-2-2-2/2029-02-05/
LOCATION:Radha Krishna Mandir & Cultural Centre\, 85 Boxwood Drive\, Cambridge\, Ontario\, N3E 0A5\, Canada
CATEGORIES:Events at Mandir
ATTACH;FMTTYPE=image/png:https://radhakrishnamandir.ca/wp-content/uploads/2025/10/Mondays-lord-shiva_2026-1.png
ORGANIZER;CN="Panditji":MAILTO:rkmcc@radhakrishnamandir.ca
END:VEVENT
BEGIN:VEVENT
DTSTART;TZID=America/Toronto:20290211T100000
DTEND;TZID=America/Toronto:20290211T120000
DTSTAMP:20260420T032605
CREATED:20260405T211126Z
LAST-MODIFIED:20260405T211130Z
UID:10003778-1865498400-1865505600@radhakrishnamandir.ca
SUMMARY:Sunday Service
DESCRIPTION:Sunday Program\nJoin us on Sunday! Programming begins at 10:00 AM and continues until noon\, followed by a  lunch. If you would like to sit for puja or sponsor/provide lunch for attendees\, please give us a call or email us.
URL:https://radhakrishnamandir.ca/event/sunday-service-6-2-2-2/2029-02-11/
LOCATION:Radha Krishna Mandir & Cultural Centre\, 85 Boxwood Drive\, Cambridge\, Ontario\, N3E 0A5\, Canada
CATEGORIES:Events at Mandir
ATTACH;FMTTYPE=image/png:https://radhakrishnamandir.ca/wp-content/uploads/2025/10/Sunday_Service_2026-1.png
ORGANIZER;CN="Panditji":MAILTO:info@radhakrishnamandir.ca
END:VEVENT
BEGIN:VEVENT
DTSTART;TZID=America/Toronto:20290212T183000
DTEND;TZID=America/Toronto:20290212T200000
DTSTAMP:20260420T032605
CREATED:20260405T210609Z
LAST-MODIFIED:20260405T210612Z
UID:10003616-1865615400-1865620800@radhakrishnamandir.ca
SUMMARY:Lord Shiva (Rudra) Abhishek
DESCRIPTION:
URL:https://radhakrishnamandir.ca/event/shiva-abhishek-3-2-2-2/2029-02-12/
LOCATION:Radha Krishna Mandir & Cultural Centre\, 85 Boxwood Drive\, Cambridge\, Ontario\, N3E 0A5\, Canada
CATEGORIES:Events at Mandir
ATTACH;FMTTYPE=image/png:https://radhakrishnamandir.ca/wp-content/uploads/2025/10/Mondays-lord-shiva_2026-1.png
ORGANIZER;CN="Panditji":MAILTO:rkmcc@radhakrishnamandir.ca
END:VEVENT
BEGIN:VEVENT
DTSTART;TZID=America/Toronto:20290218T100000
DTEND;TZID=America/Toronto:20290218T120000
DTSTAMP:20260420T032605
CREATED:20260405T211126Z
LAST-MODIFIED:20260405T211130Z
UID:10001951-1866103200-1866110400@radhakrishnamandir.ca
SUMMARY:Sunday Service
DESCRIPTION:Sunday Program\nJoin us on Sunday! Programming begins at 10:00 AM and continues until noon\, followed by a  lunch. If you would like to sit for puja or sponsor/provide lunch for attendees\, please give us a call or email us.
URL:https://radhakrishnamandir.ca/event/sunday-service-6-2-2-2/2029-02-18/
LOCATION:Radha Krishna Mandir & Cultural Centre\, 85 Boxwood Drive\, Cambridge\, Ontario\, N3E 0A5\, Canada
CATEGORIES:Events at Mandir
ATTACH;FMTTYPE=image/png:https://radhakrishnamandir.ca/wp-content/uploads/2025/10/Sunday_Service_2026-1.png
ORGANIZER;CN="Panditji":MAILTO:info@radhakrishnamandir.ca
END:VEVENT
BEGIN:VEVENT
DTSTART;TZID=America/Toronto:20290218T170000
DTEND;TZID=America/Toronto:20290218T190000
DTSTAMP:20260420T032605
CREATED:20260327T124953Z
LAST-MODIFIED:20260406T020646Z
UID:10004095-1866128400-1866135600@radhakrishnamandir.ca
SUMMARY:Satsangh
DESCRIPTION: 
URL:https://radhakrishnamandir.ca/event/monthly-satsangh-2-2-2-3/2029-02-18/
LOCATION:Radha Krishna Mandir & Cultural Centre\, 85 Boxwood Drive\, Cambridge\, Ontario\, N3E 0A5\, Canada
CATEGORIES:Culture,Events at Mandir
ATTACH;FMTTYPE=image/png:https://radhakrishnamandir.ca/wp-content/uploads/2026/03/Monthly_-Sunday_Puja_-2025-4.png
END:VEVENT
BEGIN:VEVENT
DTSTART;TZID=America/Toronto:20290219T183000
DTEND;TZID=America/Toronto:20290219T200000
DTSTAMP:20260420T032605
CREATED:20260405T210609Z
LAST-MODIFIED:20260405T210612Z
UID:10003617-1866220200-1866225600@radhakrishnamandir.ca
SUMMARY:Lord Shiva (Rudra) Abhishek
DESCRIPTION:
URL:https://radhakrishnamandir.ca/event/shiva-abhishek-3-2-2-2/2029-02-19/
LOCATION:Radha Krishna Mandir & Cultural Centre\, 85 Boxwood Drive\, Cambridge\, Ontario\, N3E 0A5\, Canada
CATEGORIES:Events at Mandir
ATTACH;FMTTYPE=image/png:https://radhakrishnamandir.ca/wp-content/uploads/2025/10/Mondays-lord-shiva_2026-1.png
ORGANIZER;CN="Panditji":MAILTO:rkmcc@radhakrishnamandir.ca
END:VEVENT
BEGIN:VEVENT
DTSTART;TZID=America/Toronto:20290225T100000
DTEND;TZID=America/Toronto:20290225T120000
DTSTAMP:20260420T032605
CREATED:20260405T211126Z
LAST-MODIFIED:20260405T211130Z
UID:10001952-1866708000-1866715200@radhakrishnamandir.ca
SUMMARY:Sunday Service
DESCRIPTION:Sunday Program\nJoin us on Sunday! Programming begins at 10:00 AM and continues until noon\, followed by a  lunch. If you would like to sit for puja or sponsor/provide lunch for attendees\, please give us a call or email us.
URL:https://radhakrishnamandir.ca/event/sunday-service-6-2-2-2/2029-02-25/
LOCATION:Radha Krishna Mandir & Cultural Centre\, 85 Boxwood Drive\, Cambridge\, Ontario\, N3E 0A5\, Canada
CATEGORIES:Events at Mandir
ATTACH;FMTTYPE=image/png:https://radhakrishnamandir.ca/wp-content/uploads/2025/10/Sunday_Service_2026-1.png
ORGANIZER;CN="Panditji":MAILTO:info@radhakrishnamandir.ca
END:VEVENT
BEGIN:VEVENT
DTSTART;TZID=America/Toronto:20290226T183000
DTEND;TZID=America/Toronto:20290226T200000
DTSTAMP:20260420T032605
CREATED:20260405T210609Z
LAST-MODIFIED:20260405T210612Z
UID:10003618-1866825000-1866830400@radhakrishnamandir.ca
SUMMARY:Lord Shiva (Rudra) Abhishek
DESCRIPTION:
URL:https://radhakrishnamandir.ca/event/shiva-abhishek-3-2-2-2/2029-02-26/
LOCATION:Radha Krishna Mandir & Cultural Centre\, 85 Boxwood Drive\, Cambridge\, Ontario\, N3E 0A5\, Canada
CATEGORIES:Events at Mandir
ATTACH;FMTTYPE=image/png:https://radhakrishnamandir.ca/wp-content/uploads/2025/10/Mondays-lord-shiva_2026-1.png
ORGANIZER;CN="Panditji":MAILTO:rkmcc@radhakrishnamandir.ca
END:VEVENT
BEGIN:VEVENT
DTSTART;TZID=America/Toronto:20290304T100000
DTEND;TZID=America/Toronto:20290304T120000
DTSTAMP:20260420T032605
CREATED:20260405T211126Z
LAST-MODIFIED:20260405T211130Z
UID:10001953-1867312800-1867320000@radhakrishnamandir.ca
SUMMARY:Sunday Service
DESCRIPTION:Sunday Program\nJoin us on Sunday! Programming begins at 10:00 AM and continues until noon\, followed by a  lunch. If you would like to sit for puja or sponsor/provide lunch for attendees\, please give us a call or email us.
URL:https://radhakrishnamandir.ca/event/sunday-service-6-2-2-2/2029-03-04/
LOCATION:Radha Krishna Mandir & Cultural Centre\, 85 Boxwood Drive\, Cambridge\, Ontario\, N3E 0A5\, Canada
CATEGORIES:Events at Mandir
ATTACH;FMTTYPE=image/png:https://radhakrishnamandir.ca/wp-content/uploads/2025/10/Sunday_Service_2026-1.png
ORGANIZER;CN="Panditji":MAILTO:info@radhakrishnamandir.ca
END:VEVENT
BEGIN:VEVENT
DTSTART;TZID=America/Toronto:20290305T183000
DTEND;TZID=America/Toronto:20290305T200000
DTSTAMP:20260420T032605
CREATED:20260405T210609Z
LAST-MODIFIED:20260405T210612Z
UID:10003619-1867429800-1867435200@radhakrishnamandir.ca
SUMMARY:Lord Shiva (Rudra) Abhishek
DESCRIPTION:
URL:https://radhakrishnamandir.ca/event/shiva-abhishek-3-2-2-2/2029-03-05/
LOCATION:Radha Krishna Mandir & Cultural Centre\, 85 Boxwood Drive\, Cambridge\, Ontario\, N3E 0A5\, Canada
CATEGORIES:Events at Mandir
ATTACH;FMTTYPE=image/png:https://radhakrishnamandir.ca/wp-content/uploads/2025/10/Mondays-lord-shiva_2026-1.png
ORGANIZER;CN="Panditji":MAILTO:rkmcc@radhakrishnamandir.ca
END:VEVENT
END:VCALENDAR