BEGIN:VCALENDAR
VERSION:2.0
PRODID:-//Radha Krishna Mandir &amp; Cultural Centre, Cambridge Ontario - ECPv6.15.20//NONSGML v1.0//EN
CALSCALE:GREGORIAN
METHOD:PUBLISH
X-ORIGINAL-URL:https://radhakrishnamandir.ca
X-WR-CALDESC:Events for Radha Krishna Mandir &amp; Cultural Centre, Cambridge Ontario
REFRESH-INTERVAL;VALUE=DURATION:PT1H
X-Robots-Tag:noindex
X-PUBLISHED-TTL:PT1H
BEGIN:VTIMEZONE
TZID:America/Toronto
BEGIN:DAYLIGHT
TZOFFSETFROM:-0500
TZOFFSETTO:-0400
TZNAME:EDT
DTSTART:20280312T070000
END:DAYLIGHT
BEGIN:STANDARD
TZOFFSETFROM:-0400
TZOFFSETTO:-0500
TZNAME:EST
DTSTART:20281105T060000
END:STANDARD
BEGIN:DAYLIGHT
TZOFFSETFROM:-0500
TZOFFSETTO:-0400
TZNAME:EDT
DTSTART:20290311T070000
END:DAYLIGHT
BEGIN:STANDARD
TZOFFSETFROM:-0400
TZOFFSETTO:-0500
TZNAME:EST
DTSTART:20291104T060000
END:STANDARD
BEGIN:DAYLIGHT
TZOFFSETFROM:-0500
TZOFFSETTO:-0400
TZNAME:EDT
DTSTART:20300310T070000
END:DAYLIGHT
BEGIN:STANDARD
TZOFFSETFROM:-0400
TZOFFSETTO:-0500
TZNAME:EST
DTSTART:20301103T060000
END:STANDARD
END:VTIMEZONE
BEGIN:VEVENT
DTSTART;TZID=America/Toronto:20290218T100000
DTEND;TZID=America/Toronto:20290218T120000
DTSTAMP:20260420T032436
CREATED:20260405T211126Z
LAST-MODIFIED:20260405T211130Z
UID:10001951-1866103200-1866110400@radhakrishnamandir.ca
SUMMARY:Sunday Service
DESCRIPTION:Sunday Program\nJoin us on Sunday! Programming begins at 10:00 AM and continues until noon\, followed by a  lunch. If you would like to sit for puja or sponsor/provide lunch for attendees\, please give us a call or email us.
URL:https://radhakrishnamandir.ca/event/sunday-service-6-2-2-2/2029-02-18/
LOCATION:Radha Krishna Mandir & Cultural Centre\, 85 Boxwood Drive\, Cambridge\, Ontario\, N3E 0A5\, Canada
CATEGORIES:Events at Mandir
ATTACH;FMTTYPE=image/png:https://radhakrishnamandir.ca/wp-content/uploads/2025/10/Sunday_Service_2026-1.png
ORGANIZER;CN="Panditji":MAILTO:info@radhakrishnamandir.ca
END:VEVENT
BEGIN:VEVENT
DTSTART;TZID=America/Toronto:20290218T170000
DTEND;TZID=America/Toronto:20290218T190000
DTSTAMP:20260420T032436
CREATED:20260327T124953Z
LAST-MODIFIED:20260406T020646Z
UID:10004095-1866128400-1866135600@radhakrishnamandir.ca
SUMMARY:Satsangh
DESCRIPTION: 
URL:https://radhakrishnamandir.ca/event/monthly-satsangh-2-2-2-3/2029-02-18/
LOCATION:Radha Krishna Mandir & Cultural Centre\, 85 Boxwood Drive\, Cambridge\, Ontario\, N3E 0A5\, Canada
CATEGORIES:Culture,Events at Mandir
ATTACH;FMTTYPE=image/png:https://radhakrishnamandir.ca/wp-content/uploads/2026/03/Monthly_-Sunday_Puja_-2025-4.png
END:VEVENT
BEGIN:VEVENT
DTSTART;TZID=America/Toronto:20290219T183000
DTEND;TZID=America/Toronto:20290219T200000
DTSTAMP:20260420T032436
CREATED:20260405T210609Z
LAST-MODIFIED:20260405T210612Z
UID:10003617-1866220200-1866225600@radhakrishnamandir.ca
SUMMARY:Lord Shiva (Rudra) Abhishek
DESCRIPTION:
URL:https://radhakrishnamandir.ca/event/shiva-abhishek-3-2-2-2/2029-02-19/
LOCATION:Radha Krishna Mandir & Cultural Centre\, 85 Boxwood Drive\, Cambridge\, Ontario\, N3E 0A5\, Canada
CATEGORIES:Events at Mandir
ATTACH;FMTTYPE=image/png:https://radhakrishnamandir.ca/wp-content/uploads/2025/10/Mondays-lord-shiva_2026-1.png
ORGANIZER;CN="Panditji":MAILTO:rkmcc@radhakrishnamandir.ca
END:VEVENT
BEGIN:VEVENT
DTSTART;TZID=America/Toronto:20290225T100000
DTEND;TZID=America/Toronto:20290225T120000
DTSTAMP:20260420T032436
CREATED:20260405T211126Z
LAST-MODIFIED:20260405T211130Z
UID:10001952-1866708000-1866715200@radhakrishnamandir.ca
SUMMARY:Sunday Service
DESCRIPTION:Sunday Program\nJoin us on Sunday! Programming begins at 10:00 AM and continues until noon\, followed by a  lunch. If you would like to sit for puja or sponsor/provide lunch for attendees\, please give us a call or email us.
URL:https://radhakrishnamandir.ca/event/sunday-service-6-2-2-2/2029-02-25/
LOCATION:Radha Krishna Mandir & Cultural Centre\, 85 Boxwood Drive\, Cambridge\, Ontario\, N3E 0A5\, Canada
CATEGORIES:Events at Mandir
ATTACH;FMTTYPE=image/png:https://radhakrishnamandir.ca/wp-content/uploads/2025/10/Sunday_Service_2026-1.png
ORGANIZER;CN="Panditji":MAILTO:info@radhakrishnamandir.ca
END:VEVENT
BEGIN:VEVENT
DTSTART;TZID=America/Toronto:20290226T183000
DTEND;TZID=America/Toronto:20290226T200000
DTSTAMP:20260420T032436
CREATED:20260405T210609Z
LAST-MODIFIED:20260405T210612Z
UID:10003618-1866825000-1866830400@radhakrishnamandir.ca
SUMMARY:Lord Shiva (Rudra) Abhishek
DESCRIPTION:
URL:https://radhakrishnamandir.ca/event/shiva-abhishek-3-2-2-2/2029-02-26/
LOCATION:Radha Krishna Mandir & Cultural Centre\, 85 Boxwood Drive\, Cambridge\, Ontario\, N3E 0A5\, Canada
CATEGORIES:Events at Mandir
ATTACH;FMTTYPE=image/png:https://radhakrishnamandir.ca/wp-content/uploads/2025/10/Mondays-lord-shiva_2026-1.png
ORGANIZER;CN="Panditji":MAILTO:rkmcc@radhakrishnamandir.ca
END:VEVENT
BEGIN:VEVENT
DTSTART;TZID=America/Toronto:20290304T100000
DTEND;TZID=America/Toronto:20290304T120000
DTSTAMP:20260420T032436
CREATED:20260405T211126Z
LAST-MODIFIED:20260405T211130Z
UID:10001953-1867312800-1867320000@radhakrishnamandir.ca
SUMMARY:Sunday Service
DESCRIPTION:Sunday Program\nJoin us on Sunday! Programming begins at 10:00 AM and continues until noon\, followed by a  lunch. If you would like to sit for puja or sponsor/provide lunch for attendees\, please give us a call or email us.
URL:https://radhakrishnamandir.ca/event/sunday-service-6-2-2-2/2029-03-04/
LOCATION:Radha Krishna Mandir & Cultural Centre\, 85 Boxwood Drive\, Cambridge\, Ontario\, N3E 0A5\, Canada
CATEGORIES:Events at Mandir
ATTACH;FMTTYPE=image/png:https://radhakrishnamandir.ca/wp-content/uploads/2025/10/Sunday_Service_2026-1.png
ORGANIZER;CN="Panditji":MAILTO:info@radhakrishnamandir.ca
END:VEVENT
BEGIN:VEVENT
DTSTART;TZID=America/Toronto:20290305T183000
DTEND;TZID=America/Toronto:20290305T200000
DTSTAMP:20260420T032436
CREATED:20260405T210609Z
LAST-MODIFIED:20260405T210612Z
UID:10003619-1867429800-1867435200@radhakrishnamandir.ca
SUMMARY:Lord Shiva (Rudra) Abhishek
DESCRIPTION:
URL:https://radhakrishnamandir.ca/event/shiva-abhishek-3-2-2-2/2029-03-05/
LOCATION:Radha Krishna Mandir & Cultural Centre\, 85 Boxwood Drive\, Cambridge\, Ontario\, N3E 0A5\, Canada
CATEGORIES:Events at Mandir
ATTACH;FMTTYPE=image/png:https://radhakrishnamandir.ca/wp-content/uploads/2025/10/Mondays-lord-shiva_2026-1.png
ORGANIZER;CN="Panditji":MAILTO:rkmcc@radhakrishnamandir.ca
END:VEVENT
BEGIN:VEVENT
DTSTART;TZID=America/Toronto:20290311T100000
DTEND;TZID=America/Toronto:20290311T120000
DTSTAMP:20260420T032436
CREATED:20260405T211126Z
LAST-MODIFIED:20260405T211130Z
UID:10003779-1867917600-1867924800@radhakrishnamandir.ca
SUMMARY:Sunday Service
DESCRIPTION:Sunday Program\nJoin us on Sunday! Programming begins at 10:00 AM and continues until noon\, followed by a  lunch. If you would like to sit for puja or sponsor/provide lunch for attendees\, please give us a call or email us.
URL:https://radhakrishnamandir.ca/event/sunday-service-6-2-2-2/2029-03-11/
LOCATION:Radha Krishna Mandir & Cultural Centre\, 85 Boxwood Drive\, Cambridge\, Ontario\, N3E 0A5\, Canada
CATEGORIES:Events at Mandir
ATTACH;FMTTYPE=image/png:https://radhakrishnamandir.ca/wp-content/uploads/2025/10/Sunday_Service_2026-1.png
ORGANIZER;CN="Panditji":MAILTO:info@radhakrishnamandir.ca
END:VEVENT
BEGIN:VEVENT
DTSTART;TZID=America/Toronto:20290312T183000
DTEND;TZID=America/Toronto:20290312T200000
DTSTAMP:20260420T032436
CREATED:20260405T210609Z
LAST-MODIFIED:20260405T210612Z
UID:10003620-1868034600-1868040000@radhakrishnamandir.ca
SUMMARY:Lord Shiva (Rudra) Abhishek
DESCRIPTION:
URL:https://radhakrishnamandir.ca/event/shiva-abhishek-3-2-2-2/2029-03-12/
LOCATION:Radha Krishna Mandir & Cultural Centre\, 85 Boxwood Drive\, Cambridge\, Ontario\, N3E 0A5\, Canada
CATEGORIES:Events at Mandir
ATTACH;FMTTYPE=image/png:https://radhakrishnamandir.ca/wp-content/uploads/2025/10/Mondays-lord-shiva_2026-1.png
ORGANIZER;CN="Panditji":MAILTO:rkmcc@radhakrishnamandir.ca
END:VEVENT
BEGIN:VEVENT
DTSTART;TZID=America/Toronto:20290318T100000
DTEND;TZID=America/Toronto:20290318T120000
DTSTAMP:20260420T032436
CREATED:20260405T211126Z
LAST-MODIFIED:20260405T211130Z
UID:10001955-1868522400-1868529600@radhakrishnamandir.ca
SUMMARY:Sunday Service
DESCRIPTION:Sunday Program\nJoin us on Sunday! Programming begins at 10:00 AM and continues until noon\, followed by a  lunch. If you would like to sit for puja or sponsor/provide lunch for attendees\, please give us a call or email us.
URL:https://radhakrishnamandir.ca/event/sunday-service-6-2-2-2/2029-03-18/
LOCATION:Radha Krishna Mandir & Cultural Centre\, 85 Boxwood Drive\, Cambridge\, Ontario\, N3E 0A5\, Canada
CATEGORIES:Events at Mandir
ATTACH;FMTTYPE=image/png:https://radhakrishnamandir.ca/wp-content/uploads/2025/10/Sunday_Service_2026-1.png
ORGANIZER;CN="Panditji":MAILTO:info@radhakrishnamandir.ca
END:VEVENT
BEGIN:VEVENT
DTSTART;TZID=America/Toronto:20290318T170000
DTEND;TZID=America/Toronto:20290318T190000
DTSTAMP:20260420T032436
CREATED:20260327T124953Z
LAST-MODIFIED:20260406T020646Z
UID:10004096-1868547600-1868554800@radhakrishnamandir.ca
SUMMARY:Satsangh
DESCRIPTION: 
URL:https://radhakrishnamandir.ca/event/monthly-satsangh-2-2-2-3/2029-03-18/
LOCATION:Radha Krishna Mandir & Cultural Centre\, 85 Boxwood Drive\, Cambridge\, Ontario\, N3E 0A5\, Canada
CATEGORIES:Culture,Events at Mandir
ATTACH;FMTTYPE=image/png:https://radhakrishnamandir.ca/wp-content/uploads/2026/03/Monthly_-Sunday_Puja_-2025-4.png
END:VEVENT
BEGIN:VEVENT
DTSTART;TZID=America/Toronto:20290319T183000
DTEND;TZID=America/Toronto:20290319T200000
DTSTAMP:20260420T032436
CREATED:20260405T210609Z
LAST-MODIFIED:20260405T210612Z
UID:10003621-1868639400-1868644800@radhakrishnamandir.ca
SUMMARY:Lord Shiva (Rudra) Abhishek
DESCRIPTION:
URL:https://radhakrishnamandir.ca/event/shiva-abhishek-3-2-2-2/2029-03-19/
LOCATION:Radha Krishna Mandir & Cultural Centre\, 85 Boxwood Drive\, Cambridge\, Ontario\, N3E 0A5\, Canada
CATEGORIES:Events at Mandir
ATTACH;FMTTYPE=image/png:https://radhakrishnamandir.ca/wp-content/uploads/2025/10/Mondays-lord-shiva_2026-1.png
ORGANIZER;CN="Panditji":MAILTO:rkmcc@radhakrishnamandir.ca
END:VEVENT
BEGIN:VEVENT
DTSTART;TZID=America/Toronto:20290325T100000
DTEND;TZID=America/Toronto:20290325T120000
DTSTAMP:20260420T032436
CREATED:20260405T211126Z
LAST-MODIFIED:20260405T211130Z
UID:10001956-1869127200-1869134400@radhakrishnamandir.ca
SUMMARY:Sunday Service
DESCRIPTION:Sunday Program\nJoin us on Sunday! Programming begins at 10:00 AM and continues until noon\, followed by a  lunch. If you would like to sit for puja or sponsor/provide lunch for attendees\, please give us a call or email us.
URL:https://radhakrishnamandir.ca/event/sunday-service-6-2-2-2/2029-03-25/
LOCATION:Radha Krishna Mandir & Cultural Centre\, 85 Boxwood Drive\, Cambridge\, Ontario\, N3E 0A5\, Canada
CATEGORIES:Events at Mandir
ATTACH;FMTTYPE=image/png:https://radhakrishnamandir.ca/wp-content/uploads/2025/10/Sunday_Service_2026-1.png
ORGANIZER;CN="Panditji":MAILTO:info@radhakrishnamandir.ca
END:VEVENT
BEGIN:VEVENT
DTSTART;TZID=America/Toronto:20290326T183000
DTEND;TZID=America/Toronto:20290326T200000
DTSTAMP:20260420T032436
CREATED:20260405T210609Z
LAST-MODIFIED:20260405T210612Z
UID:10003622-1869244200-1869249600@radhakrishnamandir.ca
SUMMARY:Lord Shiva (Rudra) Abhishek
DESCRIPTION:
URL:https://radhakrishnamandir.ca/event/shiva-abhishek-3-2-2-2/2029-03-26/
LOCATION:Radha Krishna Mandir & Cultural Centre\, 85 Boxwood Drive\, Cambridge\, Ontario\, N3E 0A5\, Canada
CATEGORIES:Events at Mandir
ATTACH;FMTTYPE=image/png:https://radhakrishnamandir.ca/wp-content/uploads/2025/10/Mondays-lord-shiva_2026-1.png
ORGANIZER;CN="Panditji":MAILTO:rkmcc@radhakrishnamandir.ca
END:VEVENT
BEGIN:VEVENT
DTSTART;TZID=America/Toronto:20290401T100000
DTEND;TZID=America/Toronto:20290401T120000
DTSTAMP:20260420T032436
CREATED:20260405T211126Z
LAST-MODIFIED:20260405T211130Z
UID:10001957-1869732000-1869739200@radhakrishnamandir.ca
SUMMARY:Sunday Service
DESCRIPTION:Sunday Program\nJoin us on Sunday! Programming begins at 10:00 AM and continues until noon\, followed by a  lunch. If you would like to sit for puja or sponsor/provide lunch for attendees\, please give us a call or email us.
URL:https://radhakrishnamandir.ca/event/sunday-service-6-2-2-2/2029-04-01/
LOCATION:Radha Krishna Mandir & Cultural Centre\, 85 Boxwood Drive\, Cambridge\, Ontario\, N3E 0A5\, Canada
CATEGORIES:Events at Mandir
ATTACH;FMTTYPE=image/png:https://radhakrishnamandir.ca/wp-content/uploads/2025/10/Sunday_Service_2026-1.png
ORGANIZER;CN="Panditji":MAILTO:info@radhakrishnamandir.ca
END:VEVENT
BEGIN:VEVENT
DTSTART;TZID=America/Toronto:20290402T183000
DTEND;TZID=America/Toronto:20290402T200000
DTSTAMP:20260420T032436
CREATED:20260405T210609Z
LAST-MODIFIED:20260405T210612Z
UID:10003623-1869849000-1869854400@radhakrishnamandir.ca
SUMMARY:Lord Shiva (Rudra) Abhishek
DESCRIPTION:
URL:https://radhakrishnamandir.ca/event/shiva-abhishek-3-2-2-2/2029-04-02/
LOCATION:Radha Krishna Mandir & Cultural Centre\, 85 Boxwood Drive\, Cambridge\, Ontario\, N3E 0A5\, Canada
CATEGORIES:Events at Mandir
ATTACH;FMTTYPE=image/png:https://radhakrishnamandir.ca/wp-content/uploads/2025/10/Mondays-lord-shiva_2026-1.png
ORGANIZER;CN="Panditji":MAILTO:rkmcc@radhakrishnamandir.ca
END:VEVENT
BEGIN:VEVENT
DTSTART;TZID=America/Toronto:20290408T100000
DTEND;TZID=America/Toronto:20290408T120000
DTSTAMP:20260420T032436
CREATED:20260405T211126Z
LAST-MODIFIED:20260405T211130Z
UID:10003780-1870336800-1870344000@radhakrishnamandir.ca
SUMMARY:Sunday Service
DESCRIPTION:Sunday Program\nJoin us on Sunday! Programming begins at 10:00 AM and continues until noon\, followed by a  lunch. If you would like to sit for puja or sponsor/provide lunch for attendees\, please give us a call or email us.
URL:https://radhakrishnamandir.ca/event/sunday-service-6-2-2-2/2029-04-08/
LOCATION:Radha Krishna Mandir & Cultural Centre\, 85 Boxwood Drive\, Cambridge\, Ontario\, N3E 0A5\, Canada
CATEGORIES:Events at Mandir
ATTACH;FMTTYPE=image/png:https://radhakrishnamandir.ca/wp-content/uploads/2025/10/Sunday_Service_2026-1.png
ORGANIZER;CN="Panditji":MAILTO:info@radhakrishnamandir.ca
END:VEVENT
BEGIN:VEVENT
DTSTART;TZID=America/Toronto:20290409T183000
DTEND;TZID=America/Toronto:20290409T200000
DTSTAMP:20260420T032436
CREATED:20260405T210609Z
LAST-MODIFIED:20260405T210612Z
UID:10003624-1870453800-1870459200@radhakrishnamandir.ca
SUMMARY:Lord Shiva (Rudra) Abhishek
DESCRIPTION:
URL:https://radhakrishnamandir.ca/event/shiva-abhishek-3-2-2-2/2029-04-09/
LOCATION:Radha Krishna Mandir & Cultural Centre\, 85 Boxwood Drive\, Cambridge\, Ontario\, N3E 0A5\, Canada
CATEGORIES:Events at Mandir
ATTACH;FMTTYPE=image/png:https://radhakrishnamandir.ca/wp-content/uploads/2025/10/Mondays-lord-shiva_2026-1.png
ORGANIZER;CN="Panditji":MAILTO:rkmcc@radhakrishnamandir.ca
END:VEVENT
BEGIN:VEVENT
DTSTART;TZID=America/Toronto:20290415T100000
DTEND;TZID=America/Toronto:20290415T120000
DTSTAMP:20260420T032436
CREATED:20260405T211126Z
LAST-MODIFIED:20260405T211130Z
UID:10001959-1870941600-1870948800@radhakrishnamandir.ca
SUMMARY:Sunday Service
DESCRIPTION:Sunday Program\nJoin us on Sunday! Programming begins at 10:00 AM and continues until noon\, followed by a  lunch. If you would like to sit for puja or sponsor/provide lunch for attendees\, please give us a call or email us.
URL:https://radhakrishnamandir.ca/event/sunday-service-6-2-2-2/2029-04-15/
LOCATION:Radha Krishna Mandir & Cultural Centre\, 85 Boxwood Drive\, Cambridge\, Ontario\, N3E 0A5\, Canada
CATEGORIES:Events at Mandir
ATTACH;FMTTYPE=image/png:https://radhakrishnamandir.ca/wp-content/uploads/2025/10/Sunday_Service_2026-1.png
ORGANIZER;CN="Panditji":MAILTO:info@radhakrishnamandir.ca
END:VEVENT
BEGIN:VEVENT
DTSTART;TZID=America/Toronto:20290415T170000
DTEND;TZID=America/Toronto:20290415T190000
DTSTAMP:20260420T032436
CREATED:20260327T124953Z
LAST-MODIFIED:20260406T020646Z
UID:10004097-1870966800-1870974000@radhakrishnamandir.ca
SUMMARY:Satsangh
DESCRIPTION: 
URL:https://radhakrishnamandir.ca/event/monthly-satsangh-2-2-2-3/2029-04-15/
LOCATION:Radha Krishna Mandir & Cultural Centre\, 85 Boxwood Drive\, Cambridge\, Ontario\, N3E 0A5\, Canada
CATEGORIES:Culture,Events at Mandir
ATTACH;FMTTYPE=image/png:https://radhakrishnamandir.ca/wp-content/uploads/2026/03/Monthly_-Sunday_Puja_-2025-4.png
END:VEVENT
BEGIN:VEVENT
DTSTART;TZID=America/Toronto:20290416T183000
DTEND;TZID=America/Toronto:20290416T200000
DTSTAMP:20260420T032436
CREATED:20260405T210609Z
LAST-MODIFIED:20260405T210612Z
UID:10003625-1871058600-1871064000@radhakrishnamandir.ca
SUMMARY:Lord Shiva (Rudra) Abhishek
DESCRIPTION:
URL:https://radhakrishnamandir.ca/event/shiva-abhishek-3-2-2-2/2029-04-16/
LOCATION:Radha Krishna Mandir & Cultural Centre\, 85 Boxwood Drive\, Cambridge\, Ontario\, N3E 0A5\, Canada
CATEGORIES:Events at Mandir
ATTACH;FMTTYPE=image/png:https://radhakrishnamandir.ca/wp-content/uploads/2025/10/Mondays-lord-shiva_2026-1.png
ORGANIZER;CN="Panditji":MAILTO:rkmcc@radhakrishnamandir.ca
END:VEVENT
BEGIN:VEVENT
DTSTART;TZID=America/Toronto:20290422T100000
DTEND;TZID=America/Toronto:20290422T120000
DTSTAMP:20260420T032436
CREATED:20260405T211126Z
LAST-MODIFIED:20260405T211130Z
UID:10001960-1871546400-1871553600@radhakrishnamandir.ca
SUMMARY:Sunday Service
DESCRIPTION:Sunday Program\nJoin us on Sunday! Programming begins at 10:00 AM and continues until noon\, followed by a  lunch. If you would like to sit for puja or sponsor/provide lunch for attendees\, please give us a call or email us.
URL:https://radhakrishnamandir.ca/event/sunday-service-6-2-2-2/2029-04-22/
LOCATION:Radha Krishna Mandir & Cultural Centre\, 85 Boxwood Drive\, Cambridge\, Ontario\, N3E 0A5\, Canada
CATEGORIES:Events at Mandir
ATTACH;FMTTYPE=image/png:https://radhakrishnamandir.ca/wp-content/uploads/2025/10/Sunday_Service_2026-1.png
ORGANIZER;CN="Panditji":MAILTO:info@radhakrishnamandir.ca
END:VEVENT
BEGIN:VEVENT
DTSTART;TZID=America/Toronto:20290423T183000
DTEND;TZID=America/Toronto:20290423T200000
DTSTAMP:20260420T032436
CREATED:20260405T210609Z
LAST-MODIFIED:20260405T210612Z
UID:10003626-1871663400-1871668800@radhakrishnamandir.ca
SUMMARY:Lord Shiva (Rudra) Abhishek
DESCRIPTION:
URL:https://radhakrishnamandir.ca/event/shiva-abhishek-3-2-2-2/2029-04-23/
LOCATION:Radha Krishna Mandir & Cultural Centre\, 85 Boxwood Drive\, Cambridge\, Ontario\, N3E 0A5\, Canada
CATEGORIES:Events at Mandir
ATTACH;FMTTYPE=image/png:https://radhakrishnamandir.ca/wp-content/uploads/2025/10/Mondays-lord-shiva_2026-1.png
ORGANIZER;CN="Panditji":MAILTO:rkmcc@radhakrishnamandir.ca
END:VEVENT
BEGIN:VEVENT
DTSTART;TZID=America/Toronto:20290429T100000
DTEND;TZID=America/Toronto:20290429T120000
DTSTAMP:20260420T032436
CREATED:20260405T211126Z
LAST-MODIFIED:20260405T211130Z
UID:10001961-1872151200-1872158400@radhakrishnamandir.ca
SUMMARY:Sunday Service
DESCRIPTION:Sunday Program\nJoin us on Sunday! Programming begins at 10:00 AM and continues until noon\, followed by a  lunch. If you would like to sit for puja or sponsor/provide lunch for attendees\, please give us a call or email us.
URL:https://radhakrishnamandir.ca/event/sunday-service-6-2-2-2/2029-04-29/
LOCATION:Radha Krishna Mandir & Cultural Centre\, 85 Boxwood Drive\, Cambridge\, Ontario\, N3E 0A5\, Canada
CATEGORIES:Events at Mandir
ATTACH;FMTTYPE=image/png:https://radhakrishnamandir.ca/wp-content/uploads/2025/10/Sunday_Service_2026-1.png
ORGANIZER;CN="Panditji":MAILTO:info@radhakrishnamandir.ca
END:VEVENT
BEGIN:VEVENT
DTSTART;TZID=America/Toronto:20290430T183000
DTEND;TZID=America/Toronto:20290430T200000
DTSTAMP:20260420T032436
CREATED:20260405T210609Z
LAST-MODIFIED:20260405T210612Z
UID:10003627-1872268200-1872273600@radhakrishnamandir.ca
SUMMARY:Lord Shiva (Rudra) Abhishek
DESCRIPTION:
URL:https://radhakrishnamandir.ca/event/shiva-abhishek-3-2-2-2/2029-04-30/
LOCATION:Radha Krishna Mandir & Cultural Centre\, 85 Boxwood Drive\, Cambridge\, Ontario\, N3E 0A5\, Canada
CATEGORIES:Events at Mandir
ATTACH;FMTTYPE=image/png:https://radhakrishnamandir.ca/wp-content/uploads/2025/10/Mondays-lord-shiva_2026-1.png
ORGANIZER;CN="Panditji":MAILTO:rkmcc@radhakrishnamandir.ca
END:VEVENT
BEGIN:VEVENT
DTSTART;TZID=America/Toronto:20290506T100000
DTEND;TZID=America/Toronto:20290506T120000
DTSTAMP:20260420T032436
CREATED:20260405T211126Z
LAST-MODIFIED:20260405T211130Z
UID:10001962-1872756000-1872763200@radhakrishnamandir.ca
SUMMARY:Sunday Service
DESCRIPTION:Sunday Program\nJoin us on Sunday! Programming begins at 10:00 AM and continues until noon\, followed by a  lunch. If you would like to sit for puja or sponsor/provide lunch for attendees\, please give us a call or email us.
URL:https://radhakrishnamandir.ca/event/sunday-service-6-2-2-2/2029-05-06/
LOCATION:Radha Krishna Mandir & Cultural Centre\, 85 Boxwood Drive\, Cambridge\, Ontario\, N3E 0A5\, Canada
CATEGORIES:Events at Mandir
ATTACH;FMTTYPE=image/png:https://radhakrishnamandir.ca/wp-content/uploads/2025/10/Sunday_Service_2026-1.png
ORGANIZER;CN="Panditji":MAILTO:info@radhakrishnamandir.ca
END:VEVENT
BEGIN:VEVENT
DTSTART;TZID=America/Toronto:20290507T183000
DTEND;TZID=America/Toronto:20290507T200000
DTSTAMP:20260420T032436
CREATED:20260405T210609Z
LAST-MODIFIED:20260405T210612Z
UID:10003628-1872873000-1872878400@radhakrishnamandir.ca
SUMMARY:Lord Shiva (Rudra) Abhishek
DESCRIPTION:
URL:https://radhakrishnamandir.ca/event/shiva-abhishek-3-2-2-2/2029-05-07/
LOCATION:Radha Krishna Mandir & Cultural Centre\, 85 Boxwood Drive\, Cambridge\, Ontario\, N3E 0A5\, Canada
CATEGORIES:Events at Mandir
ATTACH;FMTTYPE=image/png:https://radhakrishnamandir.ca/wp-content/uploads/2025/10/Mondays-lord-shiva_2026-1.png
ORGANIZER;CN="Panditji":MAILTO:rkmcc@radhakrishnamandir.ca
END:VEVENT
BEGIN:VEVENT
DTSTART;TZID=America/Toronto:20290513T100000
DTEND;TZID=America/Toronto:20290513T120000
DTSTAMP:20260420T032436
CREATED:20260405T211126Z
LAST-MODIFIED:20260405T211130Z
UID:10003781-1873360800-1873368000@radhakrishnamandir.ca
SUMMARY:Sunday Service
DESCRIPTION:Sunday Program\nJoin us on Sunday! Programming begins at 10:00 AM and continues until noon\, followed by a  lunch. If you would like to sit for puja or sponsor/provide lunch for attendees\, please give us a call or email us.
URL:https://radhakrishnamandir.ca/event/sunday-service-6-2-2-2/2029-05-13/
LOCATION:Radha Krishna Mandir & Cultural Centre\, 85 Boxwood Drive\, Cambridge\, Ontario\, N3E 0A5\, Canada
CATEGORIES:Events at Mandir
ATTACH;FMTTYPE=image/png:https://radhakrishnamandir.ca/wp-content/uploads/2025/10/Sunday_Service_2026-1.png
ORGANIZER;CN="Panditji":MAILTO:info@radhakrishnamandir.ca
END:VEVENT
BEGIN:VEVENT
DTSTART;TZID=America/Toronto:20290514T183000
DTEND;TZID=America/Toronto:20290514T200000
DTSTAMP:20260420T032436
CREATED:20260405T210609Z
LAST-MODIFIED:20260405T210612Z
UID:10003629-1873477800-1873483200@radhakrishnamandir.ca
SUMMARY:Lord Shiva (Rudra) Abhishek
DESCRIPTION:
URL:https://radhakrishnamandir.ca/event/shiva-abhishek-3-2-2-2/2029-05-14/
LOCATION:Radha Krishna Mandir & Cultural Centre\, 85 Boxwood Drive\, Cambridge\, Ontario\, N3E 0A5\, Canada
CATEGORIES:Events at Mandir
ATTACH;FMTTYPE=image/png:https://radhakrishnamandir.ca/wp-content/uploads/2025/10/Mondays-lord-shiva_2026-1.png
ORGANIZER;CN="Panditji":MAILTO:rkmcc@radhakrishnamandir.ca
END:VEVENT
BEGIN:VEVENT
DTSTART;TZID=America/Toronto:20290520T100000
DTEND;TZID=America/Toronto:20290520T120000
DTSTAMP:20260420T032436
CREATED:20260405T211126Z
LAST-MODIFIED:20260405T211130Z
UID:10001964-1873965600-1873972800@radhakrishnamandir.ca
SUMMARY:Sunday Service
DESCRIPTION:Sunday Program\nJoin us on Sunday! Programming begins at 10:00 AM and continues until noon\, followed by a  lunch. If you would like to sit for puja or sponsor/provide lunch for attendees\, please give us a call or email us.
URL:https://radhakrishnamandir.ca/event/sunday-service-6-2-2-2/2029-05-20/
LOCATION:Radha Krishna Mandir & Cultural Centre\, 85 Boxwood Drive\, Cambridge\, Ontario\, N3E 0A5\, Canada
CATEGORIES:Events at Mandir
ATTACH;FMTTYPE=image/png:https://radhakrishnamandir.ca/wp-content/uploads/2025/10/Sunday_Service_2026-1.png
ORGANIZER;CN="Panditji":MAILTO:info@radhakrishnamandir.ca
END:VEVENT
END:VCALENDAR