BEGIN:VCALENDAR
VERSION:2.0
PRODID:-//Radha Krishna Mandir &amp; Cultural Centre, Cambridge Ontario - ECPv6.15.20//NONSGML v1.0//EN
CALSCALE:GREGORIAN
METHOD:PUBLISH
X-ORIGINAL-URL:https://radhakrishnamandir.ca
X-WR-CALDESC:Events for Radha Krishna Mandir &amp; Cultural Centre, Cambridge Ontario
REFRESH-INTERVAL;VALUE=DURATION:PT1H
X-Robots-Tag:noindex
X-PUBLISHED-TTL:PT1H
BEGIN:VTIMEZONE
TZID:America/Toronto
BEGIN:DAYLIGHT
TZOFFSETFROM:-0500
TZOFFSETTO:-0400
TZNAME:EDT
DTSTART:20290311T070000
END:DAYLIGHT
BEGIN:STANDARD
TZOFFSETFROM:-0400
TZOFFSETTO:-0500
TZNAME:EST
DTSTART:20291104T060000
END:STANDARD
BEGIN:DAYLIGHT
TZOFFSETFROM:-0500
TZOFFSETTO:-0400
TZNAME:EDT
DTSTART:20300310T070000
END:DAYLIGHT
BEGIN:STANDARD
TZOFFSETFROM:-0400
TZOFFSETTO:-0500
TZNAME:EST
DTSTART:20301103T060000
END:STANDARD
BEGIN:DAYLIGHT
TZOFFSETFROM:-0500
TZOFFSETTO:-0400
TZNAME:EDT
DTSTART:20310309T070000
END:DAYLIGHT
BEGIN:STANDARD
TZOFFSETFROM:-0400
TZOFFSETTO:-0500
TZNAME:EST
DTSTART:20311102T060000
END:STANDARD
END:VTIMEZONE
BEGIN:VEVENT
DTSTART;TZID=America/Toronto:20300120T170000
DTEND;TZID=America/Toronto:20300120T190000
DTSTAMP:20260420T175552
CREATED:20260327T124953Z
LAST-MODIFIED:20260406T020646Z
UID:10004106-1895158800-1895166000@radhakrishnamandir.ca
SUMMARY:Satsangh
DESCRIPTION: 
URL:https://radhakrishnamandir.ca/event/monthly-satsangh-2-2-2-3/2030-01-20/
LOCATION:Radha Krishna Mandir & Cultural Centre\, 85 Boxwood Drive\, Cambridge\, Ontario\, N3E 0A5\, Canada
CATEGORIES:Culture,Events at Mandir
ATTACH;FMTTYPE=image/png:https://radhakrishnamandir.ca/wp-content/uploads/2026/03/Monthly_-Sunday_Puja_-2025-4.png
END:VEVENT
BEGIN:VEVENT
DTSTART;TZID=America/Toronto:20300121T183000
DTEND;TZID=America/Toronto:20300121T200000
DTSTAMP:20260420T175552
CREATED:20260405T210609Z
LAST-MODIFIED:20260405T210612Z
UID:10003665-1895250600-1895256000@radhakrishnamandir.ca
SUMMARY:Lord Shiva (Rudra) Abhishek
DESCRIPTION:
URL:https://radhakrishnamandir.ca/event/shiva-abhishek-3-2-2-2/2030-01-21/
LOCATION:Radha Krishna Mandir & Cultural Centre\, 85 Boxwood Drive\, Cambridge\, Ontario\, N3E 0A5\, Canada
CATEGORIES:Events at Mandir
ATTACH;FMTTYPE=image/png:https://radhakrishnamandir.ca/wp-content/uploads/2025/10/Mondays-lord-shiva_2026-1.png
ORGANIZER;CN="Panditji":MAILTO:rkmcc@radhakrishnamandir.ca
END:VEVENT
BEGIN:VEVENT
DTSTART;TZID=America/Toronto:20300127T100000
DTEND;TZID=America/Toronto:20300127T120000
DTSTAMP:20260420T175552
CREATED:20260405T211126Z
LAST-MODIFIED:20260405T211130Z
UID:10003190-1895738400-1895745600@radhakrishnamandir.ca
SUMMARY:Sunday Service
DESCRIPTION:Sunday Program\nJoin us on Sunday! Programming begins at 10:00 AM and continues until noon\, followed by a  lunch. If you would like to sit for puja or sponsor/provide lunch for attendees\, please give us a call or email us.
URL:https://radhakrishnamandir.ca/event/sunday-service-6-2-2-2/2030-01-27/
LOCATION:Radha Krishna Mandir & Cultural Centre\, 85 Boxwood Drive\, Cambridge\, Ontario\, N3E 0A5\, Canada
CATEGORIES:Events at Mandir
ATTACH;FMTTYPE=image/png:https://radhakrishnamandir.ca/wp-content/uploads/2025/10/Sunday_Service_2026-1.png
ORGANIZER;CN="Panditji":MAILTO:info@radhakrishnamandir.ca
END:VEVENT
BEGIN:VEVENT
DTSTART;TZID=America/Toronto:20300128T183000
DTEND;TZID=America/Toronto:20300128T200000
DTSTAMP:20260420T175552
CREATED:20260405T210609Z
LAST-MODIFIED:20260405T210612Z
UID:10003666-1895855400-1895860800@radhakrishnamandir.ca
SUMMARY:Lord Shiva (Rudra) Abhishek
DESCRIPTION:
URL:https://radhakrishnamandir.ca/event/shiva-abhishek-3-2-2-2/2030-01-28/
LOCATION:Radha Krishna Mandir & Cultural Centre\, 85 Boxwood Drive\, Cambridge\, Ontario\, N3E 0A5\, Canada
CATEGORIES:Events at Mandir
ATTACH;FMTTYPE=image/png:https://radhakrishnamandir.ca/wp-content/uploads/2025/10/Mondays-lord-shiva_2026-1.png
ORGANIZER;CN="Panditji":MAILTO:rkmcc@radhakrishnamandir.ca
END:VEVENT
BEGIN:VEVENT
DTSTART;TZID=America/Toronto:20300203T100000
DTEND;TZID=America/Toronto:20300203T120000
DTSTAMP:20260420T175552
CREATED:20260405T211126Z
LAST-MODIFIED:20260405T211130Z
UID:10003191-1896343200-1896350400@radhakrishnamandir.ca
SUMMARY:Sunday Service
DESCRIPTION:Sunday Program\nJoin us on Sunday! Programming begins at 10:00 AM and continues until noon\, followed by a  lunch. If you would like to sit for puja or sponsor/provide lunch for attendees\, please give us a call or email us.
URL:https://radhakrishnamandir.ca/event/sunday-service-6-2-2-2/2030-02-03/
LOCATION:Radha Krishna Mandir & Cultural Centre\, 85 Boxwood Drive\, Cambridge\, Ontario\, N3E 0A5\, Canada
CATEGORIES:Events at Mandir
ATTACH;FMTTYPE=image/png:https://radhakrishnamandir.ca/wp-content/uploads/2025/10/Sunday_Service_2026-1.png
ORGANIZER;CN="Panditji":MAILTO:info@radhakrishnamandir.ca
END:VEVENT
BEGIN:VEVENT
DTSTART;TZID=America/Toronto:20300204T183000
DTEND;TZID=America/Toronto:20300204T200000
DTSTAMP:20260420T175552
CREATED:20260405T210609Z
LAST-MODIFIED:20260405T210612Z
UID:10003667-1896460200-1896465600@radhakrishnamandir.ca
SUMMARY:Lord Shiva (Rudra) Abhishek
DESCRIPTION:
URL:https://radhakrishnamandir.ca/event/shiva-abhishek-3-2-2-2/2030-02-04/
LOCATION:Radha Krishna Mandir & Cultural Centre\, 85 Boxwood Drive\, Cambridge\, Ontario\, N3E 0A5\, Canada
CATEGORIES:Events at Mandir
ATTACH;FMTTYPE=image/png:https://radhakrishnamandir.ca/wp-content/uploads/2025/10/Mondays-lord-shiva_2026-1.png
ORGANIZER;CN="Panditji":MAILTO:rkmcc@radhakrishnamandir.ca
END:VEVENT
BEGIN:VEVENT
DTSTART;TZID=America/Toronto:20300210T100000
DTEND;TZID=America/Toronto:20300210T120000
DTSTAMP:20260420T175552
CREATED:20260405T211126Z
LAST-MODIFIED:20260405T211130Z
UID:10003790-1896948000-1896955200@radhakrishnamandir.ca
SUMMARY:Sunday Service
DESCRIPTION:Sunday Program\nJoin us on Sunday! Programming begins at 10:00 AM and continues until noon\, followed by a  lunch. If you would like to sit for puja or sponsor/provide lunch for attendees\, please give us a call or email us.
URL:https://radhakrishnamandir.ca/event/sunday-service-6-2-2-2/2030-02-10/
LOCATION:Radha Krishna Mandir & Cultural Centre\, 85 Boxwood Drive\, Cambridge\, Ontario\, N3E 0A5\, Canada
CATEGORIES:Events at Mandir
ATTACH;FMTTYPE=image/png:https://radhakrishnamandir.ca/wp-content/uploads/2025/10/Sunday_Service_2026-1.png
ORGANIZER;CN="Panditji":MAILTO:info@radhakrishnamandir.ca
END:VEVENT
BEGIN:VEVENT
DTSTART;TZID=America/Toronto:20300211T183000
DTEND;TZID=America/Toronto:20300211T200000
DTSTAMP:20260420T175552
CREATED:20260405T210609Z
LAST-MODIFIED:20260405T210612Z
UID:10003668-1897065000-1897070400@radhakrishnamandir.ca
SUMMARY:Lord Shiva (Rudra) Abhishek
DESCRIPTION:
URL:https://radhakrishnamandir.ca/event/shiva-abhishek-3-2-2-2/2030-02-11/
LOCATION:Radha Krishna Mandir & Cultural Centre\, 85 Boxwood Drive\, Cambridge\, Ontario\, N3E 0A5\, Canada
CATEGORIES:Events at Mandir
ATTACH;FMTTYPE=image/png:https://radhakrishnamandir.ca/wp-content/uploads/2025/10/Mondays-lord-shiva_2026-1.png
ORGANIZER;CN="Panditji":MAILTO:rkmcc@radhakrishnamandir.ca
END:VEVENT
BEGIN:VEVENT
DTSTART;TZID=America/Toronto:20300217T100000
DTEND;TZID=America/Toronto:20300217T120000
DTSTAMP:20260420T175552
CREATED:20260405T211126Z
LAST-MODIFIED:20260405T211130Z
UID:10003192-1897552800-1897560000@radhakrishnamandir.ca
SUMMARY:Sunday Service
DESCRIPTION:Sunday Program\nJoin us on Sunday! Programming begins at 10:00 AM and continues until noon\, followed by a  lunch. If you would like to sit for puja or sponsor/provide lunch for attendees\, please give us a call or email us.
URL:https://radhakrishnamandir.ca/event/sunday-service-6-2-2-2/2030-02-17/
LOCATION:Radha Krishna Mandir & Cultural Centre\, 85 Boxwood Drive\, Cambridge\, Ontario\, N3E 0A5\, Canada
CATEGORIES:Events at Mandir
ATTACH;FMTTYPE=image/png:https://radhakrishnamandir.ca/wp-content/uploads/2025/10/Sunday_Service_2026-1.png
ORGANIZER;CN="Panditji":MAILTO:info@radhakrishnamandir.ca
END:VEVENT
BEGIN:VEVENT
DTSTART;TZID=America/Toronto:20300217T170000
DTEND;TZID=America/Toronto:20300217T190000
DTSTAMP:20260420T175552
CREATED:20260327T124953Z
LAST-MODIFIED:20260406T020646Z
UID:10004107-1897578000-1897585200@radhakrishnamandir.ca
SUMMARY:Satsangh
DESCRIPTION: 
URL:https://radhakrishnamandir.ca/event/monthly-satsangh-2-2-2-3/2030-02-17/
LOCATION:Radha Krishna Mandir & Cultural Centre\, 85 Boxwood Drive\, Cambridge\, Ontario\, N3E 0A5\, Canada
CATEGORIES:Culture,Events at Mandir
ATTACH;FMTTYPE=image/png:https://radhakrishnamandir.ca/wp-content/uploads/2026/03/Monthly_-Sunday_Puja_-2025-4.png
END:VEVENT
BEGIN:VEVENT
DTSTART;TZID=America/Toronto:20300218T183000
DTEND;TZID=America/Toronto:20300218T200000
DTSTAMP:20260420T175552
CREATED:20260405T210609Z
LAST-MODIFIED:20260405T210612Z
UID:10003669-1897669800-1897675200@radhakrishnamandir.ca
SUMMARY:Lord Shiva (Rudra) Abhishek
DESCRIPTION:
URL:https://radhakrishnamandir.ca/event/shiva-abhishek-3-2-2-2/2030-02-18/
LOCATION:Radha Krishna Mandir & Cultural Centre\, 85 Boxwood Drive\, Cambridge\, Ontario\, N3E 0A5\, Canada
CATEGORIES:Events at Mandir
ATTACH;FMTTYPE=image/png:https://radhakrishnamandir.ca/wp-content/uploads/2025/10/Mondays-lord-shiva_2026-1.png
ORGANIZER;CN="Panditji":MAILTO:rkmcc@radhakrishnamandir.ca
END:VEVENT
BEGIN:VEVENT
DTSTART;TZID=America/Toronto:20300224T100000
DTEND;TZID=America/Toronto:20300224T120000
DTSTAMP:20260420T175552
CREATED:20260405T211126Z
LAST-MODIFIED:20260405T211130Z
UID:10003193-1898157600-1898164800@radhakrishnamandir.ca
SUMMARY:Sunday Service
DESCRIPTION:Sunday Program\nJoin us on Sunday! Programming begins at 10:00 AM and continues until noon\, followed by a  lunch. If you would like to sit for puja or sponsor/provide lunch for attendees\, please give us a call or email us.
URL:https://radhakrishnamandir.ca/event/sunday-service-6-2-2-2/2030-02-24/
LOCATION:Radha Krishna Mandir & Cultural Centre\, 85 Boxwood Drive\, Cambridge\, Ontario\, N3E 0A5\, Canada
CATEGORIES:Events at Mandir
ATTACH;FMTTYPE=image/png:https://radhakrishnamandir.ca/wp-content/uploads/2025/10/Sunday_Service_2026-1.png
ORGANIZER;CN="Panditji":MAILTO:info@radhakrishnamandir.ca
END:VEVENT
BEGIN:VEVENT
DTSTART;TZID=America/Toronto:20300225T183000
DTEND;TZID=America/Toronto:20300225T200000
DTSTAMP:20260420T175552
CREATED:20260405T210609Z
LAST-MODIFIED:20260405T210612Z
UID:10003670-1898274600-1898280000@radhakrishnamandir.ca
SUMMARY:Lord Shiva (Rudra) Abhishek
DESCRIPTION:
URL:https://radhakrishnamandir.ca/event/shiva-abhishek-3-2-2-2/2030-02-25/
LOCATION:Radha Krishna Mandir & Cultural Centre\, 85 Boxwood Drive\, Cambridge\, Ontario\, N3E 0A5\, Canada
CATEGORIES:Events at Mandir
ATTACH;FMTTYPE=image/png:https://radhakrishnamandir.ca/wp-content/uploads/2025/10/Mondays-lord-shiva_2026-1.png
ORGANIZER;CN="Panditji":MAILTO:rkmcc@radhakrishnamandir.ca
END:VEVENT
BEGIN:VEVENT
DTSTART;TZID=America/Toronto:20300303T100000
DTEND;TZID=America/Toronto:20300303T120000
DTSTAMP:20260420T175552
CREATED:20260405T211126Z
LAST-MODIFIED:20260405T211130Z
UID:10003194-1898762400-1898769600@radhakrishnamandir.ca
SUMMARY:Sunday Service
DESCRIPTION:Sunday Program\nJoin us on Sunday! Programming begins at 10:00 AM and continues until noon\, followed by a  lunch. If you would like to sit for puja or sponsor/provide lunch for attendees\, please give us a call or email us.
URL:https://radhakrishnamandir.ca/event/sunday-service-6-2-2-2/2030-03-03/
LOCATION:Radha Krishna Mandir & Cultural Centre\, 85 Boxwood Drive\, Cambridge\, Ontario\, N3E 0A5\, Canada
CATEGORIES:Events at Mandir
ATTACH;FMTTYPE=image/png:https://radhakrishnamandir.ca/wp-content/uploads/2025/10/Sunday_Service_2026-1.png
ORGANIZER;CN="Panditji":MAILTO:info@radhakrishnamandir.ca
END:VEVENT
BEGIN:VEVENT
DTSTART;TZID=America/Toronto:20300304T183000
DTEND;TZID=America/Toronto:20300304T200000
DTSTAMP:20260420T175552
CREATED:20260405T210609Z
LAST-MODIFIED:20260405T210612Z
UID:10003671-1898879400-1898884800@radhakrishnamandir.ca
SUMMARY:Lord Shiva (Rudra) Abhishek
DESCRIPTION:
URL:https://radhakrishnamandir.ca/event/shiva-abhishek-3-2-2-2/2030-03-04/
LOCATION:Radha Krishna Mandir & Cultural Centre\, 85 Boxwood Drive\, Cambridge\, Ontario\, N3E 0A5\, Canada
CATEGORIES:Events at Mandir
ATTACH;FMTTYPE=image/png:https://radhakrishnamandir.ca/wp-content/uploads/2025/10/Mondays-lord-shiva_2026-1.png
ORGANIZER;CN="Panditji":MAILTO:rkmcc@radhakrishnamandir.ca
END:VEVENT
BEGIN:VEVENT
DTSTART;TZID=America/Toronto:20300310T100000
DTEND;TZID=America/Toronto:20300310T120000
DTSTAMP:20260420T175552
CREATED:20260405T211126Z
LAST-MODIFIED:20260405T211130Z
UID:10003791-1899367200-1899374400@radhakrishnamandir.ca
SUMMARY:Sunday Service
DESCRIPTION:Sunday Program\nJoin us on Sunday! Programming begins at 10:00 AM and continues until noon\, followed by a  lunch. If you would like to sit for puja or sponsor/provide lunch for attendees\, please give us a call or email us.
URL:https://radhakrishnamandir.ca/event/sunday-service-6-2-2-2/2030-03-10/
LOCATION:Radha Krishna Mandir & Cultural Centre\, 85 Boxwood Drive\, Cambridge\, Ontario\, N3E 0A5\, Canada
CATEGORIES:Events at Mandir
ATTACH;FMTTYPE=image/png:https://radhakrishnamandir.ca/wp-content/uploads/2025/10/Sunday_Service_2026-1.png
ORGANIZER;CN="Panditji":MAILTO:info@radhakrishnamandir.ca
END:VEVENT
BEGIN:VEVENT
DTSTART;TZID=America/Toronto:20300311T183000
DTEND;TZID=America/Toronto:20300311T200000
DTSTAMP:20260420T175552
CREATED:20260405T210609Z
LAST-MODIFIED:20260405T210612Z
UID:10003672-1899484200-1899489600@radhakrishnamandir.ca
SUMMARY:Lord Shiva (Rudra) Abhishek
DESCRIPTION:
URL:https://radhakrishnamandir.ca/event/shiva-abhishek-3-2-2-2/2030-03-11/
LOCATION:Radha Krishna Mandir & Cultural Centre\, 85 Boxwood Drive\, Cambridge\, Ontario\, N3E 0A5\, Canada
CATEGORIES:Events at Mandir
ATTACH;FMTTYPE=image/png:https://radhakrishnamandir.ca/wp-content/uploads/2025/10/Mondays-lord-shiva_2026-1.png
ORGANIZER;CN="Panditji":MAILTO:rkmcc@radhakrishnamandir.ca
END:VEVENT
BEGIN:VEVENT
DTSTART;TZID=America/Toronto:20300317T100000
DTEND;TZID=America/Toronto:20300317T120000
DTSTAMP:20260420T175552
CREATED:20260405T211126Z
LAST-MODIFIED:20260405T211130Z
UID:10003195-1899972000-1899979200@radhakrishnamandir.ca
SUMMARY:Sunday Service
DESCRIPTION:Sunday Program\nJoin us on Sunday! Programming begins at 10:00 AM and continues until noon\, followed by a  lunch. If you would like to sit for puja or sponsor/provide lunch for attendees\, please give us a call or email us.
URL:https://radhakrishnamandir.ca/event/sunday-service-6-2-2-2/2030-03-17/
LOCATION:Radha Krishna Mandir & Cultural Centre\, 85 Boxwood Drive\, Cambridge\, Ontario\, N3E 0A5\, Canada
CATEGORIES:Events at Mandir
ATTACH;FMTTYPE=image/png:https://radhakrishnamandir.ca/wp-content/uploads/2025/10/Sunday_Service_2026-1.png
ORGANIZER;CN="Panditji":MAILTO:info@radhakrishnamandir.ca
END:VEVENT
BEGIN:VEVENT
DTSTART;TZID=America/Toronto:20300317T170000
DTEND;TZID=America/Toronto:20300317T190000
DTSTAMP:20260420T175552
CREATED:20260327T124953Z
LAST-MODIFIED:20260406T020646Z
UID:10004108-1899997200-1900004400@radhakrishnamandir.ca
SUMMARY:Satsangh
DESCRIPTION: 
URL:https://radhakrishnamandir.ca/event/monthly-satsangh-2-2-2-3/2030-03-17/
LOCATION:Radha Krishna Mandir & Cultural Centre\, 85 Boxwood Drive\, Cambridge\, Ontario\, N3E 0A5\, Canada
CATEGORIES:Culture,Events at Mandir
ATTACH;FMTTYPE=image/png:https://radhakrishnamandir.ca/wp-content/uploads/2026/03/Monthly_-Sunday_Puja_-2025-4.png
END:VEVENT
BEGIN:VEVENT
DTSTART;TZID=America/Toronto:20300318T183000
DTEND;TZID=America/Toronto:20300318T200000
DTSTAMP:20260420T175552
CREATED:20260405T210609Z
LAST-MODIFIED:20260405T210612Z
UID:10003673-1900089000-1900094400@radhakrishnamandir.ca
SUMMARY:Lord Shiva (Rudra) Abhishek
DESCRIPTION:
URL:https://radhakrishnamandir.ca/event/shiva-abhishek-3-2-2-2/2030-03-18/
LOCATION:Radha Krishna Mandir & Cultural Centre\, 85 Boxwood Drive\, Cambridge\, Ontario\, N3E 0A5\, Canada
CATEGORIES:Events at Mandir
ATTACH;FMTTYPE=image/png:https://radhakrishnamandir.ca/wp-content/uploads/2025/10/Mondays-lord-shiva_2026-1.png
ORGANIZER;CN="Panditji":MAILTO:rkmcc@radhakrishnamandir.ca
END:VEVENT
BEGIN:VEVENT
DTSTART;TZID=America/Toronto:20300324T100000
DTEND;TZID=America/Toronto:20300324T120000
DTSTAMP:20260420T175552
CREATED:20260405T211126Z
LAST-MODIFIED:20260405T211130Z
UID:10003196-1900576800-1900584000@radhakrishnamandir.ca
SUMMARY:Sunday Service
DESCRIPTION:Sunday Program\nJoin us on Sunday! Programming begins at 10:00 AM and continues until noon\, followed by a  lunch. If you would like to sit for puja or sponsor/provide lunch for attendees\, please give us a call or email us.
URL:https://radhakrishnamandir.ca/event/sunday-service-6-2-2-2/2030-03-24/
LOCATION:Radha Krishna Mandir & Cultural Centre\, 85 Boxwood Drive\, Cambridge\, Ontario\, N3E 0A5\, Canada
CATEGORIES:Events at Mandir
ATTACH;FMTTYPE=image/png:https://radhakrishnamandir.ca/wp-content/uploads/2025/10/Sunday_Service_2026-1.png
ORGANIZER;CN="Panditji":MAILTO:info@radhakrishnamandir.ca
END:VEVENT
BEGIN:VEVENT
DTSTART;TZID=America/Toronto:20300325T183000
DTEND;TZID=America/Toronto:20300325T200000
DTSTAMP:20260420T175552
CREATED:20260405T210609Z
LAST-MODIFIED:20260405T210612Z
UID:10003674-1900693800-1900699200@radhakrishnamandir.ca
SUMMARY:Lord Shiva (Rudra) Abhishek
DESCRIPTION:
URL:https://radhakrishnamandir.ca/event/shiva-abhishek-3-2-2-2/2030-03-25/
LOCATION:Radha Krishna Mandir & Cultural Centre\, 85 Boxwood Drive\, Cambridge\, Ontario\, N3E 0A5\, Canada
CATEGORIES:Events at Mandir
ATTACH;FMTTYPE=image/png:https://radhakrishnamandir.ca/wp-content/uploads/2025/10/Mondays-lord-shiva_2026-1.png
ORGANIZER;CN="Panditji":MAILTO:rkmcc@radhakrishnamandir.ca
END:VEVENT
BEGIN:VEVENT
DTSTART;TZID=America/Toronto:20300331T100000
DTEND;TZID=America/Toronto:20300331T120000
DTSTAMP:20260420T175552
CREATED:20260405T211126Z
LAST-MODIFIED:20260405T211130Z
UID:10003197-1901181600-1901188800@radhakrishnamandir.ca
SUMMARY:Sunday Service
DESCRIPTION:Sunday Program\nJoin us on Sunday! Programming begins at 10:00 AM and continues until noon\, followed by a  lunch. If you would like to sit for puja or sponsor/provide lunch for attendees\, please give us a call or email us.
URL:https://radhakrishnamandir.ca/event/sunday-service-6-2-2-2/2030-03-31/
LOCATION:Radha Krishna Mandir & Cultural Centre\, 85 Boxwood Drive\, Cambridge\, Ontario\, N3E 0A5\, Canada
CATEGORIES:Events at Mandir
ATTACH;FMTTYPE=image/png:https://radhakrishnamandir.ca/wp-content/uploads/2025/10/Sunday_Service_2026-1.png
ORGANIZER;CN="Panditji":MAILTO:info@radhakrishnamandir.ca
END:VEVENT
BEGIN:VEVENT
DTSTART;TZID=America/Toronto:20300401T183000
DTEND;TZID=America/Toronto:20300401T200000
DTSTAMP:20260420T175552
CREATED:20260405T210609Z
LAST-MODIFIED:20260405T210612Z
UID:10003675-1901298600-1901304000@radhakrishnamandir.ca
SUMMARY:Lord Shiva (Rudra) Abhishek
DESCRIPTION:
URL:https://radhakrishnamandir.ca/event/shiva-abhishek-3-2-2-2/2030-04-01/
LOCATION:Radha Krishna Mandir & Cultural Centre\, 85 Boxwood Drive\, Cambridge\, Ontario\, N3E 0A5\, Canada
CATEGORIES:Events at Mandir
ATTACH;FMTTYPE=image/png:https://radhakrishnamandir.ca/wp-content/uploads/2025/10/Mondays-lord-shiva_2026-1.png
ORGANIZER;CN="Panditji":MAILTO:rkmcc@radhakrishnamandir.ca
END:VEVENT
BEGIN:VEVENT
DTSTART;TZID=America/Toronto:20300407T100000
DTEND;TZID=America/Toronto:20300407T120000
DTSTAMP:20260420T175552
CREATED:20260405T211126Z
LAST-MODIFIED:20260405T211130Z
UID:10003421-1901786400-1901793600@radhakrishnamandir.ca
SUMMARY:Sunday Service
DESCRIPTION:Sunday Program\nJoin us on Sunday! Programming begins at 10:00 AM and continues until noon\, followed by a  lunch. If you would like to sit for puja or sponsor/provide lunch for attendees\, please give us a call or email us.
URL:https://radhakrishnamandir.ca/event/sunday-service-6-2-2-2/2030-04-07/
LOCATION:Radha Krishna Mandir & Cultural Centre\, 85 Boxwood Drive\, Cambridge\, Ontario\, N3E 0A5\, Canada
CATEGORIES:Events at Mandir
ATTACH;FMTTYPE=image/png:https://radhakrishnamandir.ca/wp-content/uploads/2025/10/Sunday_Service_2026-1.png
ORGANIZER;CN="Panditji":MAILTO:info@radhakrishnamandir.ca
END:VEVENT
BEGIN:VEVENT
DTSTART;TZID=America/Toronto:20300408T183000
DTEND;TZID=America/Toronto:20300408T200000
DTSTAMP:20260420T175552
CREATED:20260405T210609Z
LAST-MODIFIED:20260405T210612Z
UID:10003676-1901903400-1901908800@radhakrishnamandir.ca
SUMMARY:Lord Shiva (Rudra) Abhishek
DESCRIPTION:
URL:https://radhakrishnamandir.ca/event/shiva-abhishek-3-2-2-2/2030-04-08/
LOCATION:Radha Krishna Mandir & Cultural Centre\, 85 Boxwood Drive\, Cambridge\, Ontario\, N3E 0A5\, Canada
CATEGORIES:Events at Mandir
ATTACH;FMTTYPE=image/png:https://radhakrishnamandir.ca/wp-content/uploads/2025/10/Mondays-lord-shiva_2026-1.png
ORGANIZER;CN="Panditji":MAILTO:rkmcc@radhakrishnamandir.ca
END:VEVENT
BEGIN:VEVENT
DTSTART;TZID=America/Toronto:20300414T100000
DTEND;TZID=America/Toronto:20300414T120000
DTSTAMP:20260420T175552
CREATED:20260405T211126Z
LAST-MODIFIED:20260405T211130Z
UID:10003792-1902391200-1902398400@radhakrishnamandir.ca
SUMMARY:Sunday Service
DESCRIPTION:Sunday Program\nJoin us on Sunday! Programming begins at 10:00 AM and continues until noon\, followed by a  lunch. If you would like to sit for puja or sponsor/provide lunch for attendees\, please give us a call or email us.
URL:https://radhakrishnamandir.ca/event/sunday-service-6-2-2-2/2030-04-14/
LOCATION:Radha Krishna Mandir & Cultural Centre\, 85 Boxwood Drive\, Cambridge\, Ontario\, N3E 0A5\, Canada
CATEGORIES:Events at Mandir
ATTACH;FMTTYPE=image/png:https://radhakrishnamandir.ca/wp-content/uploads/2025/10/Sunday_Service_2026-1.png
ORGANIZER;CN="Panditji":MAILTO:info@radhakrishnamandir.ca
END:VEVENT
BEGIN:VEVENT
DTSTART;TZID=America/Toronto:20300415T183000
DTEND;TZID=America/Toronto:20300415T200000
DTSTAMP:20260420T175552
CREATED:20260405T210609Z
LAST-MODIFIED:20260405T210612Z
UID:10003677-1902508200-1902513600@radhakrishnamandir.ca
SUMMARY:Lord Shiva (Rudra) Abhishek
DESCRIPTION:
URL:https://radhakrishnamandir.ca/event/shiva-abhishek-3-2-2-2/2030-04-15/
LOCATION:Radha Krishna Mandir & Cultural Centre\, 85 Boxwood Drive\, Cambridge\, Ontario\, N3E 0A5\, Canada
CATEGORIES:Events at Mandir
ATTACH;FMTTYPE=image/png:https://radhakrishnamandir.ca/wp-content/uploads/2025/10/Mondays-lord-shiva_2026-1.png
ORGANIZER;CN="Panditji":MAILTO:rkmcc@radhakrishnamandir.ca
END:VEVENT
BEGIN:VEVENT
DTSTART;TZID=America/Toronto:20300421T100000
DTEND;TZID=America/Toronto:20300421T120000
DTSTAMP:20260420T175552
CREATED:20260405T211126Z
LAST-MODIFIED:20260405T211130Z
UID:10003422-1902996000-1903003200@radhakrishnamandir.ca
SUMMARY:Sunday Service
DESCRIPTION:Sunday Program\nJoin us on Sunday! Programming begins at 10:00 AM and continues until noon\, followed by a  lunch. If you would like to sit for puja or sponsor/provide lunch for attendees\, please give us a call or email us.
URL:https://radhakrishnamandir.ca/event/sunday-service-6-2-2-2/2030-04-21/
LOCATION:Radha Krishna Mandir & Cultural Centre\, 85 Boxwood Drive\, Cambridge\, Ontario\, N3E 0A5\, Canada
CATEGORIES:Events at Mandir
ATTACH;FMTTYPE=image/png:https://radhakrishnamandir.ca/wp-content/uploads/2025/10/Sunday_Service_2026-1.png
ORGANIZER;CN="Panditji":MAILTO:info@radhakrishnamandir.ca
END:VEVENT
BEGIN:VEVENT
DTSTART;TZID=America/Toronto:20300421T170000
DTEND;TZID=America/Toronto:20300421T190000
DTSTAMP:20260420T175552
CREATED:20260327T124953Z
LAST-MODIFIED:20260406T020646Z
UID:10004109-1903021200-1903028400@radhakrishnamandir.ca
SUMMARY:Satsangh
DESCRIPTION: 
URL:https://radhakrishnamandir.ca/event/monthly-satsangh-2-2-2-3/2030-04-21/
LOCATION:Radha Krishna Mandir & Cultural Centre\, 85 Boxwood Drive\, Cambridge\, Ontario\, N3E 0A5\, Canada
CATEGORIES:Culture,Events at Mandir
ATTACH;FMTTYPE=image/png:https://radhakrishnamandir.ca/wp-content/uploads/2026/03/Monthly_-Sunday_Puja_-2025-4.png
END:VEVENT
END:VCALENDAR