BEGIN:VCALENDAR
VERSION:2.0
PRODID:-//Radha Krishna Mandir &amp; Cultural Centre, Cambridge Ontario - ECPv6.15.20//NONSGML v1.0//EN
CALSCALE:GREGORIAN
METHOD:PUBLISH
X-WR-CALNAME:Radha Krishna Mandir &amp; Cultural Centre, Cambridge Ontario
X-ORIGINAL-URL:https://radhakrishnamandir.ca
X-WR-CALDESC:Events for Radha Krishna Mandir &amp; Cultural Centre, Cambridge Ontario
REFRESH-INTERVAL;VALUE=DURATION:PT1H
X-Robots-Tag:noindex
X-PUBLISHED-TTL:PT1H
BEGIN:VTIMEZONE
TZID:America/Toronto
BEGIN:DAYLIGHT
TZOFFSETFROM:-0500
TZOFFSETTO:-0400
TZNAME:EDT
DTSTART:20240310T070000
END:DAYLIGHT
BEGIN:STANDARD
TZOFFSETFROM:-0400
TZOFFSETTO:-0500
TZNAME:EST
DTSTART:20241103T060000
END:STANDARD
BEGIN:DAYLIGHT
TZOFFSETFROM:-0500
TZOFFSETTO:-0400
TZNAME:EDT
DTSTART:20250309T070000
END:DAYLIGHT
BEGIN:STANDARD
TZOFFSETFROM:-0400
TZOFFSETTO:-0500
TZNAME:EST
DTSTART:20251102T060000
END:STANDARD
BEGIN:DAYLIGHT
TZOFFSETFROM:-0500
TZOFFSETTO:-0400
TZNAME:EDT
DTSTART:20260308T070000
END:DAYLIGHT
BEGIN:STANDARD
TZOFFSETFROM:-0400
TZOFFSETTO:-0500
TZNAME:EST
DTSTART:20261101T060000
END:STANDARD
END:VTIMEZONE
BEGIN:VEVENT
DTSTART;TZID=America/Toronto:20251214T100000
DTEND;TZID=America/Toronto:20251214T120000
DTSTAMP:20260422T160317
CREATED:20251003T113043Z
LAST-MODIFIED:20260221T203625Z
UID:10003740-1765706400-1765713600@radhakrishnamandir.ca
SUMMARY:Sunday Service
DESCRIPTION:
URL:https://radhakrishnamandir.ca/event/sunday-service-6/2025-12-14/
LOCATION:Radha Krishna Mandir & Cultural Centre\, 85 Boxwood Drive\, Cambridge\, Ontario\, N3E 0A5\, Canada
CATEGORIES:Events at Mandir,Special Events
ATTACH;FMTTYPE=image/png:https://radhakrishnamandir.ca/wp-content/uploads/2025/10/Sunday_Service_2026.png
ORGANIZER;CN="Panditji":MAILTO:info@radhakrishnamandir.ca
END:VEVENT
BEGIN:VEVENT
DTSTART;TZID=America/Toronto:20251214T170000
DTEND;TZID=America/Toronto:20251214T190000
DTSTAMP:20260422T160317
CREATED:20251029T172407Z
LAST-MODIFIED:20251029T172408Z
UID:10003359-1765731600-1765738800@radhakrishnamandir.ca
SUMMARY:Satsangh
DESCRIPTION:
URL:https://radhakrishnamandir.ca/event/monthly-satsangh-2-2-2/2025-12-14/
LOCATION:Radha Krishna Mandir & Cultural Centre\, 85 Boxwood Drive\, Cambridge\, Ontario\, N3E 0A5\, Canada
CATEGORIES:Culture,Events at Mandir,Special Events
ATTACH;FMTTYPE=image/png:https://radhakrishnamandir.ca/wp-content/uploads/2025/05/Monthly_-Sunday_Puja_-2025-1.png
END:VEVENT
BEGIN:VEVENT
DTSTART;TZID=America/Toronto:20251216T180000
DTEND;TZID=America/Toronto:20251216T200000
DTSTAMP:20260422T160317
CREATED:20251124T045413Z
LAST-MODIFIED:20260113T012707Z
UID:10003849-1765908000-1765915200@radhakrishnamandir.ca
SUMMARY:Hanuman ji Chalisa Satsang
DESCRIPTION:
URL:https://radhakrishnamandir.ca/event/hanuman-chalisa-4/2025-12-16/
LOCATION:Radha Krishna Mandir & Cultural Centre\, 85 Boxwood Drive\, Cambridge\, Ontario\, N3E 0A5\, Canada
CATEGORIES:Events at Mandir,Special Events
ATTACH;FMTTYPE=image/jpeg:https://radhakrishnamandir.ca/wp-content/uploads/2025/08/WhatsApp-Image-2025-11-20-at-6.17.17-PM.jpeg
ORGANIZER;CN="Panditji":MAILTO:rkmcc@radhakrishnamandir.ca
END:VEVENT
BEGIN:VEVENT
DTSTART;TZID=America/Toronto:20251216T180000
DTEND;TZID=America/Toronto:20251216T200000
DTSTAMP:20260422T160317
CREATED:20260113T013246Z
LAST-MODIFIED:20260113T024916Z
UID:10003871-1765908000-1765915200@radhakrishnamandir.ca
SUMMARY:Hanuman ji Chalisa Satsang
DESCRIPTION:
URL:https://radhakrishnamandir.ca/event/hanuman-chalisa-4-2/2025-12-16/
LOCATION:Radha Krishna Mandir & Cultural Centre\, 85 Boxwood Drive\, Cambridge\, Ontario\, N3E 0A5\, Canada
CATEGORIES:Events at Mandir,Special Events
ATTACH;FMTTYPE=image/jpeg:https://radhakrishnamandir.ca/wp-content/uploads/2025/08/WhatsApp-Image-2025-11-20-at-6.17.17-PM.jpeg
ORGANIZER;CN="Panditji":MAILTO:rkmcc@radhakrishnamandir.ca
END:VEVENT
BEGIN:VEVENT
DTSTART;TZID=America/Toronto:20251217T180000
DTEND;TZID=America/Toronto:20251217T200000
DTSTAMP:20260422T160317
CREATED:20251025T161138Z
LAST-MODIFIED:20260302T040603Z
UID:10002751-1765994400-1766001600@radhakrishnamandir.ca
SUMMARY:Shri Krishna Puja & Kirtan
DESCRIPTION:
URL:https://radhakrishnamandir.ca/event/shri-krishna-puja-2-2/2025-12-17/
LOCATION:Radha Krishna Mandir & Cultural Centre\, 85 Boxwood Drive\, Cambridge\, Ontario\, N3E 0A5\, Canada
CATEGORIES:Culture,Events at Mandir,Special Events
ATTACH;FMTTYPE=image/png:https://radhakrishnamandir.ca/wp-content/uploads/2025/10/Weekly_Lord_Krishna_Puja_-2025-5.png
END:VEVENT
END:VCALENDAR