BEGIN:VCALENDAR
VERSION:2.0
PRODID:-//Radha Krishna Mandir &amp; Cultural Centre, Cambridge Ontario - ECPv6.15.20//NONSGML v1.0//EN
CALSCALE:GREGORIAN
METHOD:PUBLISH
X-ORIGINAL-URL:https://radhakrishnamandir.ca
X-WR-CALDESC:Events for Radha Krishna Mandir &amp; Cultural Centre, Cambridge Ontario
REFRESH-INTERVAL;VALUE=DURATION:PT1H
X-Robots-Tag:noindex
X-PUBLISHED-TTL:PT1H
BEGIN:VTIMEZONE
TZID:America/Toronto
BEGIN:DAYLIGHT
TZOFFSETFROM:-0500
TZOFFSETTO:-0400
TZNAME:EDT
DTSTART:20240310T070000
END:DAYLIGHT
BEGIN:STANDARD
TZOFFSETFROM:-0400
TZOFFSETTO:-0500
TZNAME:EST
DTSTART:20241103T060000
END:STANDARD
BEGIN:DAYLIGHT
TZOFFSETFROM:-0500
TZOFFSETTO:-0400
TZNAME:EDT
DTSTART:20250309T070000
END:DAYLIGHT
BEGIN:STANDARD
TZOFFSETFROM:-0400
TZOFFSETTO:-0500
TZNAME:EST
DTSTART:20251102T060000
END:STANDARD
BEGIN:DAYLIGHT
TZOFFSETFROM:-0500
TZOFFSETTO:-0400
TZNAME:EDT
DTSTART:20260308T070000
END:DAYLIGHT
BEGIN:STANDARD
TZOFFSETFROM:-0400
TZOFFSETTO:-0500
TZNAME:EST
DTSTART:20261101T060000
END:STANDARD
BEGIN:DAYLIGHT
TZOFFSETFROM:-0500
TZOFFSETTO:-0400
TZNAME:EDT
DTSTART:20270314T070000
END:DAYLIGHT
BEGIN:STANDARD
TZOFFSETFROM:-0400
TZOFFSETTO:-0500
TZNAME:EST
DTSTART:20271107T060000
END:STANDARD
END:VTIMEZONE
BEGIN:VEVENT
DTSTART;TZID=America/Toronto:20251228T100000
DTEND;TZID=America/Toronto:20251228T120000
DTSTAMP:20260422T160356
CREATED:20251003T113043Z
LAST-MODIFIED:20260221T203625Z
UID:10001787-1766916000-1766923200@radhakrishnamandir.ca
SUMMARY:Sunday Service
DESCRIPTION:
URL:https://radhakrishnamandir.ca/event/sunday-service-6/2025-12-28/
LOCATION:Radha Krishna Mandir & Cultural Centre\, 85 Boxwood Drive\, Cambridge\, Ontario\, N3E 0A5\, Canada
CATEGORIES:Events at Mandir,Special Events
ATTACH;FMTTYPE=image/png:https://radhakrishnamandir.ca/wp-content/uploads/2025/10/Sunday_Service_2026.png
ORGANIZER;CN="Panditji":MAILTO:info@radhakrishnamandir.ca
END:VEVENT
BEGIN:VEVENT
DTSTART;TZID=America/Toronto:20251230T180000
DTEND;TZID=America/Toronto:20251230T200000
DTSTAMP:20260422T160356
CREATED:20260113T013246Z
LAST-MODIFIED:20260113T024916Z
UID:10003873-1767117600-1767124800@radhakrishnamandir.ca
SUMMARY:Hanuman ji Chalisa Satsang
DESCRIPTION:
URL:https://radhakrishnamandir.ca/event/hanuman-chalisa-4-2/2025-12-30/
LOCATION:Radha Krishna Mandir & Cultural Centre\, 85 Boxwood Drive\, Cambridge\, Ontario\, N3E 0A5\, Canada
CATEGORIES:Events at Mandir,Special Events
ATTACH;FMTTYPE=image/jpeg:https://radhakrishnamandir.ca/wp-content/uploads/2025/08/WhatsApp-Image-2025-11-20-at-6.17.17-PM.jpeg
ORGANIZER;CN="Panditji":MAILTO:rkmcc@radhakrishnamandir.ca
END:VEVENT
BEGIN:VEVENT
DTSTART;TZID=America/Toronto:20251231T180000
DTEND;TZID=America/Toronto:20251231T200000
DTSTAMP:20260422T160356
CREATED:20251025T161138Z
LAST-MODIFIED:20260302T040603Z
UID:10002753-1767204000-1767211200@radhakrishnamandir.ca
SUMMARY:Shri Krishna Puja & Kirtan
DESCRIPTION:
URL:https://radhakrishnamandir.ca/event/shri-krishna-puja-2-2/2025-12-31/
LOCATION:Radha Krishna Mandir & Cultural Centre\, 85 Boxwood Drive\, Cambridge\, Ontario\, N3E 0A5\, Canada
CATEGORIES:Culture,Events at Mandir,Special Events
ATTACH;FMTTYPE=image/png:https://radhakrishnamandir.ca/wp-content/uploads/2025/10/Weekly_Lord_Krishna_Puja_-2025-5.png
END:VEVENT
BEGIN:VEVENT
DTSTART;TZID=America/Toronto:20260101T170000
DTEND;TZID=America/Toronto:20260101T190000
DTSTAMP:20260422T160356
CREATED:20251202T012754Z
LAST-MODIFIED:20251202T012837Z
UID:10003864-1767286800-1767294000@radhakrishnamandir.ca
SUMMARY:New Year's Day Satsang
DESCRIPTION:
URL:https://radhakrishnamandir.ca/event/new-years-day-satsang/
LOCATION:Ontario
ORGANIZER;CN="Panditji":MAILTO:rkmcc@radhakrishnamandir.ca
END:VEVENT
END:VCALENDAR